BEGIN:VCALENDAR
VERSION:2.0
PRODID:-//Lowry United Neighborhoods - ECPv6.15.17.1//NONSGML v1.0//EN
CALSCALE:GREGORIAN
METHOD:PUBLISH
X-ORIGINAL-URL:https://lowryunitedneighborhoods.org
X-WR-CALDESC:Events for Lowry United Neighborhoods
REFRESH-INTERVAL;VALUE=DURATION:PT1H
X-Robots-Tag:noindex
X-PUBLISHED-TTL:PT1H
BEGIN:VTIMEZONE
TZID:America/Denver
BEGIN:DAYLIGHT
TZOFFSETFROM:-0700
TZOFFSETTO:-0600
TZNAME:MDT
DTSTART:20230312T090000
END:DAYLIGHT
BEGIN:STANDARD
TZOFFSETFROM:-0600
TZOFFSETTO:-0700
TZNAME:MST
DTSTART:20231105T080000
END:STANDARD
BEGIN:DAYLIGHT
TZOFFSETFROM:-0700
TZOFFSETTO:-0600
TZNAME:MDT
DTSTART:20240310T090000
END:DAYLIGHT
BEGIN:STANDARD
TZOFFSETFROM:-0600
TZOFFSETTO:-0700
TZNAME:MST
DTSTART:20241103T080000
END:STANDARD
BEGIN:DAYLIGHT
TZOFFSETFROM:-0700
TZOFFSETTO:-0600
TZNAME:MDT
DTSTART:20250309T090000
END:DAYLIGHT
BEGIN:STANDARD
TZOFFSETFROM:-0600
TZOFFSETTO:-0700
TZNAME:MST
DTSTART:20251102T080000
END:STANDARD
END:VTIMEZONE
BEGIN:VEVENT
DTSTART;TZID=America/Denver:20240501T100000
DTEND;TZID=America/Denver:20240501T120000
DTSTAMP:20260420T100934
CREATED:20240418T172016Z
LAST-MODIFIED:20240418T172016Z
UID:9747-1714557600-1714564800@lowryunitedneighborhoods.org
SUMMARY:DPD District 3: Coffee with A Cop at Nixon's 695 E. Louisiana Ave.
DESCRIPTION:Wednesday\, May 1st from 10am to noon – Coffee With A Cop at Nixon’s 695 E Louisiana Ave.
URL:https://lowryunitedneighborhoods.org/event/dpd-district-3-coffee-with-a-cop-at-nixons-695-e-louisiana-ave/
LOCATION:Nixon’s Coffee House\, 695 E. Louisiana Ave\, Denver\, CO\, United States
CATEGORIES:DPD District 3
END:VEVENT
BEGIN:VEVENT
DTSTART;TZID=America/Denver:20240501T170000
DTEND;TZID=America/Denver:20240501T180000
DTSTAMP:20260420T100934
CREATED:20240418T172445Z
LAST-MODIFIED:20240418T172445Z
UID:9749-1714582800-1714586400@lowryunitedneighborhoods.org
SUMMARY:DPD District 3: Crime Prevention Tune-Up Event
DESCRIPTION:Wednesday\, May 1st from 5:00 pm to 6:00 pm Crime Prevention Tune-Up event (before the community meeting with Commander Bell) –at the District 3 Station 1625 S University Blvd \n\nRegister your Bicycles/Scooters/E-Bikes and receive your FREE 529 Garage Shield. For quicker registration\, bring a picture of your bike and serial number on your phone.\nRegister your vehicle for DenverTrack and receive your FREE window decal – bring your vehicle registration with you.\nHave theft deterrent License Plate Fasteners installed – note: fasteners cannot be installed on Telsa\, BMW\, Mini and Volvo\n\n·         FREE Steering Wheel CLUB if you own a vehicle in the Top 10 Most Stolen List. Limited quantity/while supplies last. Must bring your vehicle registration. Top 10 list of most stolen vehicles: Hyundai Elantra\, Chevrolet Silverado\, Hyundai Sonata\, Ford F-150\, Kia Sportage\, Ford F-250\, Kia Optima\, Hyundai Tucson\, Honda Civic\, and Kia Soul. \n 
URL:https://lowryunitedneighborhoods.org/event/dpd-district-3-crime-prevention-tune-up-event/
LOCATION:District 3 Police Station\, 1625 S University Blvd\, Denver\, CO 80210\, Denver\, CO\, 80210
CATEGORIES:DPD District 3
END:VEVENT
BEGIN:VEVENT
DTSTART;TZID=America/Denver:20240501T180000
DTEND;TZID=America/Denver:20240501T190000
DTSTAMP:20260420T100934
CREATED:20240419T004704Z
LAST-MODIFIED:20240419T004910Z
UID:9757-1714586400-1714590000@lowryunitedneighborhoods.org
SUMMARY:DPD District 3: Community Meeting with Commander Bell
DESCRIPTION:Wednesday\, May 1st at 6:00 pm Community Meeting with Commander Bell (CAB) at the District 3 Station 1625 S. University Blvd. Before the meeting starts the Denver Police Museum will be outside the station with their 1930 Ford Model A Denver Police Car. Everyone is welcome and encouraged to participate! Special guest speaker will be Sgt. Kimberly from DPD’s Fraud Unit.  Hosted by Commander Bell and our DPD District 3 Law Enforcement Leadership (CAB).  Learn about crime stats and trends that affect our local neighborhoods.  Questions and comments can be asked at the end of this meeting. *2024 Meeting Schedule –June 5th\, July 10th\, Sept. 11th\, Oct 2nd\, November 6th\, and Dec 4th (dates subject to change)
URL:https://lowryunitedneighborhoods.org/event/dpd-district-3-community-meeting-with-commander-bell-3/
LOCATION:District 3 Police Station\, 1625 S University Blvd\, Denver\, CO 80210\, Denver\, CO\, 80210
CATEGORIES:DPD District 3
END:VEVENT
BEGIN:VEVENT
DTSTART;TZID=America/Denver:20240502T170000
DTEND;TZID=America/Denver:20240502T190000
DTSTAMP:20260420T100934
CREATED:20240418T182247Z
LAST-MODIFIED:20240418T182247Z
UID:9755-1714669200-1714676400@lowryunitedneighborhoods.org
SUMMARY:Crestmoor Park Playground & Walk Improvements Open House
DESCRIPTION:If you were one of the over 400 people who took the first Crestmoor Park community survey – thank you! We heard so many great ideas from your community about how to improve the park’s playground\, walking paths and accessibility\, and now we want to share the results with\nyou. \nJoin us at an In-Person Public Open House on Thursday\, May 2. We will be in the George Washington High School cafeteria (655 S. Monaco St Pkwy) from 5:00 PM until 7:00 PM. Stop by anytime within those two hours to learn what we heard\, and review options for improvements. Please invite your friends and family to this important event to make sure we create a Crestmoor Park that everyone enjoys! \n  \n 
URL:https://lowryunitedneighborhoods.org/event/crestmoor-park-playground-walk-improvements-open-house/
LOCATION:George Washington High School\, 655 S Monaco Pkwy.\, Denver\, CO\, 80224\, United States
CATEGORIES:City & County of Denver
END:VEVENT
BEGIN:VEVENT
DTSTART;TZID=America/Denver:20240510T160000
DTEND;TZID=America/Denver:20240510T180000
DTSTAMP:20260420T100934
CREATED:20240502T212359Z
LAST-MODIFIED:20240502T212359Z
UID:9775-1715356800-1715364000@lowryunitedneighborhoods.org
SUMMARY:DPD D3: Crime Prevention Tune-Up at Wings Over the Rockies
DESCRIPTION:
URL:https://lowryunitedneighborhoods.org/event/dpd-d3-crime-prevention-tune-up-at-wings-over-the-rockies/
LOCATION:Wings Over The Rockies\, 7711 E. Academy Blvd.\, Denver\, 80230\, United States
CATEGORIES:DPD District 3
END:VEVENT
BEGIN:VEVENT
DTSTART;TZID=America/Denver:20240511T110000
DTEND;TZID=America/Denver:20240511T130000
DTSTAMP:20260420T100934
CREATED:20240418T164915Z
LAST-MODIFIED:20240418T165714Z
UID:9722-1715425200-1715432400@lowryunitedneighborhoods.org
SUMMARY:Girl Scout DreamLab: Family Fun Days - Mental Health and Wellness
DESCRIPTION:Family Fun Days:\nFamily Fun Days are free and open to anyone in the community! You don’t have to be a Girl\nScout (or even a girl) to attend! Activities are open house style\, so drop by with your friends\nany time during the event! You can learn more and sign up on Girl Scout DreamLab’s\nEventbrite: https://www.eventbrite.com/cc/girl-scout-dreamlab-1653829 \n• May – Mental Health and Wellness\nSaturday\, May 11\, 11am – 1pm\nExplore ways that you can support the well-being of yourself\, your family and\nyour community through activities that encourage conversations around\nmindfulness\, mental wellness\, and supporting each other’s feelings.
URL:https://lowryunitedneighborhoods.org/event/girl-scout-dreamlab-mental-health-and-wellness/
LOCATION:Girl Scout DreamLab\, 63 N Quebec St.\, Denver\, CO\, 80230\, United States
CATEGORIES:Girl Scouts DreamLab
END:VEVENT
BEGIN:VEVENT
DTSTART;TZID=America/Denver:20240516T190000
DTEND;TZID=America/Denver:20240516T203000
DTSTAMP:20260420T100934
CREATED:20240314T195940Z
LAST-MODIFIED:20240502T205706Z
UID:9619-1715886000-1715891400@lowryunitedneighborhoods.org
SUMMARY:Lowry Foundation: Speaker Series Rescheduling - New Date Available Soon!
DESCRIPTION:
URL:https://lowryunitedneighborhoods.org/event/lowry-foundation-dr-claire-oberon-state-historian-speaker-series/
LOCATION:Eisenhower Chapel\, 293 Roslyn St\, Denver\, CO\, 80230\, United States
CATEGORIES:Lowry Foundation
END:VEVENT
BEGIN:VEVENT
DTSTART;TZID=America/Denver:20240519T083000
DTEND;TZID=America/Denver:20240519T113000
DTSTAMP:20260420T100934
CREATED:20240424T165302Z
LAST-MODIFIED:20240424T165302Z
UID:9761-1716107400-1716118200@lowryunitedneighborhoods.org
SUMMARY:Councilwoman Sawyer: District 5's Transit Touch-Up Day
DESCRIPTION:District 5’s Transit Touch-Up Day \nAre you tired of drab\, neglected bus stops in Denver? Us too! That’s why we’re launching our Bench Cleanup Initiative to spruce up our community. Join us for Transit Touch-Up Day\, where we’ll roll up our sleeves and give them a fresh new look. \n📅 Date: Sunday\, May 19 \n🕣 Time: 8:30 a.m. – 11:30 a.m. \n📍 Location: Montclair Recreation Center \nWe’ll provide: \n\nWater bottles\nGloves\nHand sanitizer\nSandpaper\nSpray paint\nTrash bags\n\nAnd don’t worry\, breakfast\, coffee\, and juice will be on hand to fuel our painting party! \nFor everyone’s safety: \n\nClean and sanitize tools\nWear sunscreen and weather-appropriate attire\nNo open-toe shoes\, please\nSupervise children\nSorry\, no pets allowed\n\n  \nLet’s make our city shine! Sign up below and let’s paint the town together. \nRemember: Let’s respect private property! Be mindful near homes and avoid getting paint on private residences.
URL:https://lowryunitedneighborhoods.org/event/councilwoman-sawyer-district-5s-transit-touch-up-day/
LOCATION:Montclair Recreation Center\, 729 Ulster Way\, Denver\, 80230\, United States
CATEGORIES:Councilwoman Sawyer
ORGANIZER;CN="Councilwoman Amanda Sawyer":MAILTO:Logan.Fry@denvergov.org
END:VEVENT
BEGIN:VEVENT
DTSTART;VALUE=DATE:20240531
DTEND;VALUE=DATE:20240603
DTSTAMP:20260420T100934
CREATED:20240307T181125Z
LAST-MODIFIED:20240530T144726Z
UID:9609-1717113600-1717372799@lowryunitedneighborhoods.org
SUMMARY:LCMA: Lowry Yard Sale
DESCRIPTION:May 31 @ 8:00 am – June 2 @ 5:00 pm\nAnnual Lowry Neighborhood Yard Sale\n\nThe annual neighborhood-wide Lowry Community Yard Sale will be held Friday\, May 31\, through Sunday\, June 1. Start cleaning out those secret corners in your closets and basements! You may have already seen the banners on the monuments at the borders of the neighborhood! If you’re having a sale\, be sure to advertise your sale with your address as many places as possible– think Facebook\, Facebook Marketplace\, Craigslist\, Denver Post classifieds\, NextDoor. And don’t forget to put up signs around your block\, too! Whether you’re shopping or selling or both\, we wish you a fun and successful weekend! \n\nTo get more details\, contact LCMA: \nFor questions about the LCMA\, community events\, and neighborhood communications:\nExecutive Director:  Mary Carr\, LCMA\nPhone:  720-583-5262\nEmail:  mary.carr@lowrydenver.com \n  \n 
URL:https://lowryunitedneighborhoods.org/event/lcma-lowry-yard-sale-2/
LOCATION:Lowry
CATEGORIES:LCMA
END:VEVENT
BEGIN:VEVENT
DTSTART;TZID=America/Denver:20240531T170000
DTEND;TZID=America/Denver:20240531T190000
DTSTAMP:20260420T100934
CREATED:20240418T165411Z
LAST-MODIFIED:20240418T165411Z
UID:9726-1717174800-1717182000@lowryunitedneighborhoods.org
SUMMARY:Girl Scout DreamLab: Friday Evenings of Fun - Disney Karaoke Sing Along
DESCRIPTION:Final Friday Evenings of Fun:\nFinal Friday Evenings are family-friendly free or low-cost activities designed to bring people\ncloser together. These events are open to anyone in the community. You don’t have to be a\nGirl Scout (or even a girl) to attend! Activities change every month so you can try something\nnew each time. You can learn more and sign up on Girl Scout DreamLab’s Eventbrite:\nhttps://www.eventbrite.com/cc/girl-scout-dreamlab-1653829 \n• May 31\, 5-7pm – Disney Karaoke/ Sing Along (free)
URL:https://lowryunitedneighborhoods.org/event/girl-scout-dreamlab-friday-evenings-of-fun-disney-karaoke-sing-along/
LOCATION:Girl Scout DreamLab\, 63 N Quebec St.\, Denver\, CO\, 80230\, United States
CATEGORIES:Girl Scouts DreamLab
END:VEVENT
END:VCALENDAR