BEGIN:VCALENDAR
VERSION:2.0
PRODID:-//Lowry United Neighborhoods - ECPv6.15.17.1//NONSGML v1.0//EN
CALSCALE:GREGORIAN
METHOD:PUBLISH
X-WR-CALNAME:Lowry United Neighborhoods
X-ORIGINAL-URL:https://lowryunitedneighborhoods.org
X-WR-CALDESC:Events for Lowry United Neighborhoods
REFRESH-INTERVAL;VALUE=DURATION:PT1H
X-Robots-Tag:noindex
X-PUBLISHED-TTL:PT1H
BEGIN:VTIMEZONE
TZID:America/Denver
BEGIN:DAYLIGHT
TZOFFSETFROM:-0700
TZOFFSETTO:-0600
TZNAME:MDT
DTSTART:20220313T090000
END:DAYLIGHT
BEGIN:STANDARD
TZOFFSETFROM:-0600
TZOFFSETTO:-0700
TZNAME:MST
DTSTART:20221106T080000
END:STANDARD
BEGIN:DAYLIGHT
TZOFFSETFROM:-0700
TZOFFSETTO:-0600
TZNAME:MDT
DTSTART:20230312T090000
END:DAYLIGHT
BEGIN:STANDARD
TZOFFSETFROM:-0600
TZOFFSETTO:-0700
TZNAME:MST
DTSTART:20231105T080000
END:STANDARD
BEGIN:DAYLIGHT
TZOFFSETFROM:-0700
TZOFFSETTO:-0600
TZNAME:MDT
DTSTART:20240310T090000
END:DAYLIGHT
BEGIN:STANDARD
TZOFFSETFROM:-0600
TZOFFSETTO:-0700
TZNAME:MST
DTSTART:20241103T080000
END:STANDARD
END:VTIMEZONE
BEGIN:VEVENT
DTSTART;TZID=America/Denver:20231104T170000
DTEND;TZID=America/Denver:20231104T220000
DTSTAMP:20260421T093614
CREATED:20231026T160650Z
LAST-MODIFIED:20231026T161430Z
UID:9201-1699117200-1699135200@lowryunitedneighborhoods.org
SUMMARY:Wings Over the Rockies: Night at the Museums - Free Admission
DESCRIPTION:Night at the Museums \nVisit Wings Over the Rockies™ Air & Space Museum free of charge as part of Denver Arts Week Free Night at the Museums! \nEnjoy an after-hours experience at the Air & Space Museum as you explore the wonders of aviation and space exploration up close. Check out our newest exhibit\, Mission Aerospace\, where you can build rockets and navigate through a maze where aerospace exploration knows no bounds! \nFREE shuttles make it easy to explore many museums all evening! Wings Over the Rockies Air & Space Museum is on shuttle route 1. \nNo tickets required.  Learn more at:  WingsMuseum.org
URL:https://lowryunitedneighborhoods.org/event/wings-over-the-rockies-night-at-the-museums-free-of-charge-as-part-of-denver-arts-week/
LOCATION:Wings Over The Rockies\, 7711 E. Academy Blvd.\, Denver\, 80230\, United States
CATEGORIES:Wings Over the Rockies
END:VEVENT
BEGIN:VEVENT
DTSTART;TZID=America/Denver:20231108T083000
DTEND;TZID=America/Denver:20231108T100000
DTSTAMP:20260421T093614
CREATED:20231107T023706Z
LAST-MODIFIED:20231107T023841Z
UID:9270-1699432200-1699437600@lowryunitedneighborhoods.org
SUMMARY:DPD: District 3: Coffee With A Cop at Target in Boulevard One
DESCRIPTION:Join representatives from DPD: District 3 for Coffee With A Cop
URL:https://lowryunitedneighborhoods.org/event/dpd-district-3-coffee-with-a-cop-at-target-in-boulevard-one/
LOCATION:Target\, 93 N. Quebec St.\, Denver\, CO\, 80230\, United States
CATEGORIES:DPD District 3
END:VEVENT
BEGIN:VEVENT
DTSTART;TZID=America/Denver:20231109T170000
DTEND;TZID=America/Denver:20231109T190000
DTSTAMP:20260421T093614
CREATED:20231027T181505Z
LAST-MODIFIED:20231027T181505Z
UID:9209-1699549200-1699556400@lowryunitedneighborhoods.org
SUMMARY:LBA & Clark's Market: Holiday Wine Tasting
DESCRIPTION:
URL:https://lowryunitedneighborhoods.org/event/lba-clarks-market-holiday-wine-tasting/
LOCATION:Clark’s Market Lowry\, 7059 E Lowry Blvd.\, Denver\, 80230\, United States
CATEGORIES:Misc
END:VEVENT
BEGIN:VEVENT
DTSTART;TZID=America/Denver:20231109T170000
DTEND;TZID=America/Denver:20231109T190000
DTSTAMP:20260421T093614
CREATED:20231108T214242Z
LAST-MODIFIED:20231108T214401Z
UID:9304-1699549200-1699556400@lowryunitedneighborhoods.org
SUMMARY:Lowry Happy Hour
DESCRIPTION:The Lowry Happy Hour Group (open to anyone interested in making new friends and socializing) \nis meeting Thursday Nov 9 at SENIOR PLANET from 5-7pm. \nBring a bottle of wine or appetizer to share. \nSee you there. \n 
URL:https://lowryunitedneighborhoods.org/event/lowry-happy-hour/
LOCATION:Senior Planet\, 7585 E. Academy Boulevard\, Denver\, CO\, 80230\, United States
CATEGORIES:Misc
END:VEVENT
BEGIN:VEVENT
DTSTART;TZID=America/Denver:20231111T100000
DTEND;TZID=America/Denver:20231111T170000
DTSTAMP:20260421T093614
CREATED:20231026T161118Z
LAST-MODIFIED:20231026T161118Z
UID:9203-1699696800-1699722000@lowryunitedneighborhoods.org
SUMMARY:Wings Over the Rockies: Veterans Day Free Admission for Our Veterans
DESCRIPTION:November 11th | 10 AM-5PM \nVeterans Day at the Wings Air & Space Museum \nWings salutes our Veterans by offering free admission on Veterans Day!* \n*Veterans\, active and retired military receive free admission on Saturday\, November 11\, 2023 at both Wings Over the Rockies locations \nTo utilize this discount\, please present a valid military ID upon entry. Thank you to all veterans and active military for your service and protection.  Learn more at:  WingsMuseum.org
URL:https://lowryunitedneighborhoods.org/event/wings-over-the-rockies-veterans-day-free-admission-for-our-veterans/
LOCATION:Wings Over The Rockies\, 7711 E. Academy Blvd.\, Denver\, 80230\, United States
CATEGORIES:Wings Over the Rockies
END:VEVENT
BEGIN:VEVENT
DTSTART;TZID=America/Denver:20231112T120000
DTEND;TZID=America/Denver:20231112T140000
DTSTAMP:20260421T093614
CREATED:20230621T161511Z
LAST-MODIFIED:20231027T181601Z
UID:8742-1699790400-1699797600@lowryunitedneighborhoods.org
SUMMARY:Girl Scouts DreamLab: Family Fundays - Philanthropy
DESCRIPTION:Family Fundays:\nDescription: Explore the DreamLab with your whole family during Family Fundays! You don’t have to be a Girl Scout\, or even a girl to participate! These free\, monthly events are hosted open-house style. Drop in anytime during the event hours and explore the fun activities. Registration is opened up monthly on the DreamLab Eventbrite page. If you have any additional questions\, please reach out to Carina Bañuelos-Harrison at carina.banuelos-harrison@gscolorado.org. \n• Philanthropy\no Sunday\, November 12\, 12-2pm\n• Financial Literacy\no Sunday\, December 10\, 12-2pm\n• Cookie Celebration!\no Sunday\, January 14\, 2024\, 12-2pm\n• Galentine’s Day\no Sunday\, February 11\, 2024\, 12-2pm\n• Girl Scout Birthday\no Sunday\, March 10\, 2024\, 12-2pm
URL:https://lowryunitedneighborhoods.org/event/girl-scouts-dreamlab-family-fundays-philanthropy/
LOCATION:Girl Scout DreamLab\, 63 N Quebec St.\, Denver\, CO\, 80230\, United States
CATEGORIES:Girl Scouts DreamLab
END:VEVENT
BEGIN:VEVENT
DTSTART;TZID=America/Denver:20231112T120000
DTEND;TZID=America/Denver:20231112T170000
DTSTAMP:20260421T093614
CREATED:20231026T160341Z
LAST-MODIFIED:20231026T160341Z
UID:9199-1699790400-1699808400@lowryunitedneighborhoods.org
SUMMARY:Wings Over the Rockies: SCFD Free Day
DESCRIPTION:Visit either of Wings Over the Rockies locations on Sunday\, November 12th for SCFD FREE Day.  Bring your friends and family and experience the joy of flight and have a fun adventure as you explore interactive exhibits\, captivating displays and experience the thrill of flight simulators.  Learn more at:  WingsMuseum.org
URL:https://lowryunitedneighborhoods.org/event/wings-over-the-rockies-scfd-free-day-2/
LOCATION:Wings Over The Rockies\, 7711 E. Academy Blvd.\, Denver\, 80230\, United States
CATEGORIES:Wings Over the Rockies
END:VEVENT
BEGIN:VEVENT
DTSTART;TZID=America/Denver:20231114T090000
DTEND;TZID=America/Denver:20231114T110000
DTSTAMP:20260421T093614
CREATED:20231107T024221Z
LAST-MODIFIED:20231107T024337Z
UID:9274-1699952400-1699959600@lowryunitedneighborhoods.org
SUMMARY:DPD: District 3: Coffee With A Cop at Starbucks in Lowry Town Center
DESCRIPTION:Coffee With a Cop \nNovember 14th from 9:00 am to 11:00 am at Starbucks in Lowry Town Center 200 Quebec St.
URL:https://lowryunitedneighborhoods.org/event/dpd-district-3-coffee-with-a-cop-at-starbucks-in-lowry-town-center/
LOCATION:Starbucks\, 200 Quebec St.\, Denver\, CO\, 80230\, United States
CATEGORIES:DPD District 3
END:VEVENT
BEGIN:VEVENT
DTSTART;TZID=America/Denver:20231118T120000
DTEND;TZID=America/Denver:20231118T140000
DTSTAMP:20260421T093614
CREATED:20231108T213816Z
LAST-MODIFIED:20231108T214003Z
UID:9297-1700308800-1700316000@lowryunitedneighborhoods.org
SUMMARY:Sale of Christmas Collectibles
DESCRIPTION:Sale of an exclusive collection of Christmas Collectables\nDATE: November 18\nTIME: 12:00 p.m. to 2:00 p.m.\nLOCATION: 300 Spruce St.\nPAYMENT: Cash\, Venmo\, Credit Cards will be accepted\nOur generous neighbor\, Melly Kinnard\, is donating items from her beautiful collection of Christmas decorations from around the world to be sold for the benefit of LOWRY UNITED NEIGHBORHOODS (LUN) and THE LOWRY FOUNDATION (TLF). Stop by Melly’s home (next to the Reading Garden and across from the Steam Plant) on November 18\, from 12:00 p.m. to 2:00 p.m. Expand your own collection or purchase as a gift for the holidays.\nMelly’s amazing collection includes candles\, hurricane lamps\, wrapping paper\, Christmas linens\, Holiday Express Animated Electric Train set (11 cars)\, Christmas Village\, commemorative ornaments from the Colorado Governor’s Mansion and the White House and many more. \nFor more details:  Melly’s Sale Flyer
URL:https://lowryunitedneighborhoods.org/event/sale-of-christmas-collectibles/
CATEGORIES:LUN (Lowry United Neighborhoods)
END:VEVENT
BEGIN:VEVENT
DTSTART;TZID=America/Denver:20231118T193000
DTEND;TZID=America/Denver:20231118T213000
DTSTAMP:20260421T093614
CREATED:20230814T134514Z
LAST-MODIFIED:20230814T134554Z
UID:9009-1700335800-1700343000@lowryunitedneighborhoods.org
SUMMARY:Firehouse Theater Company: The Odd Couple - Nov. 18 - Dec. 18
DESCRIPTION:The Odd Couple by Neil Simon \nDirected by Dwayne Carrington \nNovember 18-December 18 \nThis classic comedy centers around uptight\, neat Felix Ungar and easygoing\, disheveled Oscar Madison as new roommates. This production of the all-time favorite play will give the show a fun new twist\, featuring an interracial cast\, with Jeff Jesmer and Don Randle in the lead roles. Our favorite ’Odd Couple” is getting even more odd\, in a most delightful way!
URL:https://lowryunitedneighborhoods.org/event/firehouse-theater-company-the-odd-couple-nov-18-dec-18/
LOCATION:John Hand Theater\, 7653 E. 1st Place\, Denver\, CO\, 80230\, United States
CATEGORIES:Firehouse Theater
END:VEVENT
BEGIN:VEVENT
DTSTART;TZID=America/Denver:20231128T130000
DTEND;TZID=America/Denver:20231128T160000
DTSTAMP:20260421T093614
CREATED:20230912T161342Z
LAST-MODIFIED:20230913T190802Z
UID:9068-1701176400-1701187200@lowryunitedneighborhoods.org
SUMMARY:Lowry Foundation: Silver Ropes Volunteers at Food Bank of the Rockies
DESCRIPTION:The Lowry Foundation Silver Ropes needs 15 volunteers for November 28th to help sort food at the Food Bank of The Rockies warehouse from 1 to 4 PM \nVolunteering is a great way to meet new neighbors and working with them builds friendships while helping those in need. \nhttp://lowryfoundationsilverropes.foodbankrockies.volunteerhub \nRegister for this volunteer opportunity. \n 
URL:https://lowryunitedneighborhoods.org/event/lowry-foundation-silver-ropes-volunteers-at-food-bank-of-the-rockies/
LOCATION:Food Bank of the Rockies\, 10700 E. 45th Ave\, Denver\, CO\, 80239\, United States
CATEGORIES:Lowry Foundation
END:VEVENT
END:VCALENDAR