BEGIN:VCALENDAR
VERSION:2.0
PRODID:-//Lowry United Neighborhoods - ECPv6.15.17.1//NONSGML v1.0//EN
CALSCALE:GREGORIAN
METHOD:PUBLISH
X-ORIGINAL-URL:https://lowryunitedneighborhoods.org
X-WR-CALDESC:Events for Lowry United Neighborhoods
REFRESH-INTERVAL;VALUE=DURATION:PT1H
X-Robots-Tag:noindex
X-PUBLISHED-TTL:PT1H
BEGIN:VTIMEZONE
TZID:America/Denver
BEGIN:DAYLIGHT
TZOFFSETFROM:-0700
TZOFFSETTO:-0600
TZNAME:MDT
DTSTART:20210314T090000
END:DAYLIGHT
BEGIN:STANDARD
TZOFFSETFROM:-0600
TZOFFSETTO:-0700
TZNAME:MST
DTSTART:20211107T080000
END:STANDARD
BEGIN:DAYLIGHT
TZOFFSETFROM:-0700
TZOFFSETTO:-0600
TZNAME:MDT
DTSTART:20220313T090000
END:DAYLIGHT
BEGIN:STANDARD
TZOFFSETFROM:-0600
TZOFFSETTO:-0700
TZNAME:MST
DTSTART:20221106T080000
END:STANDARD
BEGIN:DAYLIGHT
TZOFFSETFROM:-0700
TZOFFSETTO:-0600
TZNAME:MDT
DTSTART:20230312T090000
END:DAYLIGHT
BEGIN:STANDARD
TZOFFSETFROM:-0600
TZOFFSETTO:-0700
TZNAME:MST
DTSTART:20231105T080000
END:STANDARD
END:VTIMEZONE
BEGIN:VEVENT
DTSTART;TZID=America/Denver:20220110T173000
DTEND;TZID=America/Denver:20220110T210000
DTSTAMP:20260421T180201
CREATED:20211209T170642Z
LAST-MODIFIED:20211222T042612Z
UID:6476-1641835800-1641848400@lowryunitedneighborhoods.org
SUMMARY:CITY COUNCIL PUBLIC HEARING: Proposed Senior Living Development @ Machebeuf Field
DESCRIPTION:The Lowry East Park community met with the proposed senior living development team at United Properties this week to learn more about the proposed development and ask questions regarding the building site plans and potential increase in traffic safety issues once the development is complete. \nThe next step in this proposed development process will be the public hearing with City Council. The weekly city council meeting starts at 5:30 p.m. on Monday\, January 10\, 2022\, with  a number of different topics on the agenda. So the actual hearing for the Lowry rezoning topic does not have a fixed start time in the meeting. \nHere’s the link to join in and provide comments: \nhttps://zoom.us/webinar/register/WN_3GN7Zv99SluXrlm4UC8NLQ\nPassword: Denver\nTo call in to listen: 720-928-9299 enter 960 0657 7923 for the webinar ID.
URL:https://lowryunitedneighborhoods.org/event/city-council-public-hearing-proposed-senior-living-development-machebeuf-field/
LOCATION:Virtual
END:VEVENT
BEGIN:VEVENT
DTSTART;TZID=America/Denver:20220120T080000
DTEND;TZID=America/Denver:20220120T170000
DTSTAMP:20260421T180201
CREATED:20220121T003252Z
LAST-MODIFIED:20220121T003252Z
UID:6633-1642665600-1642698000@lowryunitedneighborhoods.org
SUMMARY:Machebeuf High School: WEST SIDE STORY
DESCRIPTION:Machebeuf High School is putting on WEST SIDE STORY April 7\, 8\, 9. See this beloved story told from the high school level. Machebeuf’s goals are honoring the past\, celebrating the present\, and engaging the future. The school is graduating its 60th class this year. Support this neighborhood high school this year with a fun night of sharks and jets. Stephen Spielberg will be so jealous to see the energy in this delightful high school production. \nFor more information\, visit their site. \n  \n  \n 
URL:https://lowryunitedneighborhoods.org/event/machebeuf-high-school-west-side-story/
LOCATION:CO
END:VEVENT
BEGIN:VEVENT
DTSTART;TZID=America/Denver:20220124T173000
DTEND;TZID=America/Denver:20220124T173000
DTSTAMP:20260421T180201
CREATED:20220110T194250Z
LAST-MODIFIED:20220110T194250Z
UID:6601-1643045400-1643045400@lowryunitedneighborhoods.org
SUMMARY:FREE Pop-Up Yoga Class at Wings Over the Rockies
DESCRIPTION:YogaSix and Wings Over the Rockies are co-hosting a free yoga class for the community on Monday\, Jan. 24 at 5:30 p.m. Bring a mat\, towel\, water\, mask and a friend. Stay after the class to get to know your YogaSix Boulevard One community. \nWings Over the Rockies is located at 7711 E. Academy Blvd.\, Denver\, CO 80230. Call or text 720.706.0556 for more information.
URL:https://lowryunitedneighborhoods.org/event/free-pop-up-yoga-class-at-wings-over-the-rockies/
LOCATION:Wings Over The Rockies\, 7711 E. Academy Blvd.\, Denver\, 80230\, United States
END:VEVENT
BEGIN:VEVENT
DTSTART;TZID=America/Denver:20220125T190000
DTEND;TZID=America/Denver:20220125T200000
DTSTAMP:20260421T180201
CREATED:20211213T152837Z
LAST-MODIFIED:20220122T142625Z
UID:6529-1643137200-1643140800@lowryunitedneighborhoods.org
SUMMARY:LUN TOWNHALL MEETING: Public Safety & Crime Prevention in Lowry - ZOOM
DESCRIPTION:Join Lowry neighbors for a discussion: Exploring Public Safety & Crime Prevention in Lowry  \nJoining the LUN Town Hall will be: \nDenver District Attorney – Beth McCann \nDenver Assistant Attorney – Marley Bordovsky \nDenver District 5 City Councilwoman – Amanda Sawyer \nCommunity Resource Officer Matt Grimsley\, Denver Police District 3 \nCrime rates have increased in all categories in Denver. What is driving the increase? What immediate and long-term steps are being taken to reverse the trend and how effective are they? What are the roles of each city department (i.e. Denver District Attorney\, Denver City Attorney\, Denver Police Department\, Denver City Council) in reducing crime? \nPlease join us at this LUN (Lowry United Neighborhoods) Town Hall. Bring your questions. \nTo Attend\, Register Here.   \nWHEN:         Tuesday\, January 25   \nTIME:           7 to 8:30 p.m. \nWHERE:       Zoom
URL:https://lowryunitedneighborhoods.org/event/lun-meeting-exploring-public-safety-in-denver/
LOCATION:Virtual
END:VEVENT
BEGIN:VEVENT
DTSTART;TZID=America/Denver:20220129T120000
DTEND;TZID=America/Denver:20220129T193000
DTSTAMP:20260421T180201
CREATED:20220125T223009Z
LAST-MODIFIED:20220125T223009Z
UID:6689-1643457600-1643484600@lowryunitedneighborhoods.org
SUMMARY:Flu and COVID Vaccines & Boosters in Lowry this Saturday
DESCRIPTION:When: Saturday\, January 29\, from noon until 7:30 pm\nWhere: 8100 Lowry Blvd\, Denver CO\, 80230 (CDPHE parking lot)\nVaccinations offered: Moderna Booster COVID-19\, Janssen COVID-19 Vaccine\, Moderna COVID-19 Vaccine\, Pfizer COVID Age 5-11 Orange Cap\, Pfizer-BioNTech COVID-19 Vaccine\, Flu- Inactive\nLimited Appointments Available\, Registration is Recommended
URL:https://lowryunitedneighborhoods.org/event/flu-and-covid-vaccines-boosters-in-lowry-this-saturday/
LOCATION:CDPHE Parking Lot\, 8100 Lowry Blvd.\, Denver\, CO\, 80230\, United States
END:VEVENT
END:VCALENDAR