BEGIN:VCALENDAR
VERSION:2.0
PRODID:-//Lowry United Neighborhoods - ECPv6.15.17.1//NONSGML v1.0//EN
CALSCALE:GREGORIAN
METHOD:PUBLISH
X-WR-CALNAME:Lowry United Neighborhoods
X-ORIGINAL-URL:https://lowryunitedneighborhoods.org
X-WR-CALDESC:Events for Lowry United Neighborhoods
REFRESH-INTERVAL;VALUE=DURATION:PT1H
X-Robots-Tag:noindex
X-PUBLISHED-TTL:PT1H
BEGIN:VTIMEZONE
TZID:America/Denver
BEGIN:DAYLIGHT
TZOFFSETFROM:-0700
TZOFFSETTO:-0600
TZNAME:MDT
DTSTART:20200308T090000
END:DAYLIGHT
BEGIN:STANDARD
TZOFFSETFROM:-0600
TZOFFSETTO:-0700
TZNAME:MST
DTSTART:20201101T080000
END:STANDARD
BEGIN:DAYLIGHT
TZOFFSETFROM:-0700
TZOFFSETTO:-0600
TZNAME:MDT
DTSTART:20210314T090000
END:DAYLIGHT
BEGIN:STANDARD
TZOFFSETFROM:-0600
TZOFFSETTO:-0700
TZNAME:MST
DTSTART:20211107T080000
END:STANDARD
BEGIN:DAYLIGHT
TZOFFSETFROM:-0700
TZOFFSETTO:-0600
TZNAME:MDT
DTSTART:20220313T090000
END:DAYLIGHT
BEGIN:STANDARD
TZOFFSETFROM:-0600
TZOFFSETTO:-0700
TZNAME:MST
DTSTART:20221106T080000
END:STANDARD
END:VTIMEZONE
BEGIN:VEVENT
DTSTART;TZID=America/Denver:20211103T150000
DTEND;TZID=America/Denver:20211103T160000
DTSTAMP:20260421T220904
CREATED:20211025T185935Z
LAST-MODIFIED:20211025T223705Z
UID:6226-1635951600-1635955200@lowryunitedneighborhoods.org
SUMMARY:REZONING MEETING for 8890 E. LOWRY BLVD.
DESCRIPTION:United Developers is proposing a zoning change to the Machebouf Baseball field at 8890 E. Lowry Blvd. (corner of E Lowry and Yosemite). The current zoning only allows a church\, park\, school or theatrical studio less than 37 feet tall. The zoning requested would allow a 5 story (70 feet) building with a mix of residential\, commercial and civic uses. \nThe public hearing is on Wednesday\, Nov. 3\, at 3 p.m. 201 W. Colfax Ave. Denver\, Room 4.1.5 or join online at www.denvergov.org/planningboard \nYou can submit comments at denvergov.org/proposedrezonings \nApplication # is 21-00031
URL:https://lowryunitedneighborhoods.org/event/8890-e-lowry-blvd-zoning-request/
LOCATION:CO
END:VEVENT
BEGIN:VEVENT
DTSTART;TZID=America/Denver:20211106T100000
DTEND;TZID=America/Denver:20211106T140000
DTSTAMP:20260421T220904
CREATED:20211022T160057Z
LAST-MODIFIED:20211022T191942Z
UID:6205-1636192800-1636207200@lowryunitedneighborhoods.org
SUMMARY:LEAFDROP 2021: Weekend Drop  Your Leaves for Free
DESCRIPTION:LeafDrop is a seasonal program offered by Denver Recycles that turns leaves into compost. The final compost product is made available at a discounted price to Denver residents at the Mulch Giveaway & Compost Sale each May. \nWeekend Drop Sites\nOctober 30 – November 14\n \nSaturdays and Sundays\n10 am to 2 pm \n\nBruce Randolph High School\n3955 Steele St.\nDenver\, CO 80205\nCherry Creek Transfer Station\n7352 Cherry Creek S Dr.\nDenver\, CO 80231\nKennedy High School\n2855 S Lamar St.\nDenver\, CO 80227\nSloan’s Lake Park\n1700 N Sheridan Blvd.\nDenver\, CO 80212\nVeterans Park\n2100 E Iowa Ave.\nDenver\, CO 80210\n\n 
URL:https://lowryunitedneighborhoods.org/event/leafdrop-2021-weekend-drop-your-leaves-for-free/
LOCATION:CO
END:VEVENT
BEGIN:VEVENT
DTSTART;TZID=America/Denver:20211106T120000
DTEND;TZID=America/Denver:20211106T150000
DTSTAMP:20260421T220904
CREATED:20211026T205455Z
LAST-MODIFIED:20211026T205517Z
UID:6236-1636200000-1636210800@lowryunitedneighborhoods.org
SUMMARY:MONTCLAIR RECREATION CENTER: OPEN HOUSE
DESCRIPTION:Saturday\, November 6\, 12 p.m. to 3 p.m. \n729 Ulster Way\, Denver\, CO 80230 \nExplore the Space: Check out th recreation center’s amenities\, reach the top of the climbing wall in the park\, swim in the indoor pool or get your face painted! Activities for all ages and community resources. \nWin free giveaways and prizes throughout the day. \n100 shelf-stable meals to give way to youth. \nOpen gym\nPickleball \n 
URL:https://lowryunitedneighborhoods.org/event/montclair-recreation-center-open-house/
LOCATION:Montclair Recreation Center\, 729 Ulster Way\, Denver\, 80230\, United States
END:VEVENT
BEGIN:VEVENT
DTSTART;TZID=America/Denver:20211107T100000
DTEND;TZID=America/Denver:20211107T140000
DTSTAMP:20260421T220904
CREATED:20211101T204101Z
LAST-MODIFIED:20211101T204247Z
UID:6272-1636279200-1636293600@lowryunitedneighborhoods.org
SUMMARY:LEAFDROP 2021: Weekend Drop Your Leaves for FREE
DESCRIPTION:LeafDrop is a seasonal program offered by Denver Recycles that turns leaves into compost. The final compost product is made available at a discounted price to Denver residents at the Mulch Giveaway & Compost Sale each May.\n\n\n\nWeekend Drop Sites\nOctober 30 – November 14\n \nSaturdays and Sundays\n10 am to 2 pm \n\nBruce Randolph High School\n3955 Steele St.\nDenver\, CO 80205\nCherry Creek Transfer Station\n7352 Cherry Creek S Dr.\nDenver\, CO 80231\nKennedy High School\n2855 S Lamar St.\nDenver\, CO 80227\nSloan’s Lake Park\n1700 N Sheridan Blvd.\nDenver\, CO 80212\nVeterans Park\n2100 E Iowa Ave.\nDenver\, CO 80210\n\n 
URL:https://lowryunitedneighborhoods.org/event/leafdrop-2021-weekend-leaf-drop-off-for-free/
LOCATION:CO
END:VEVENT
BEGIN:VEVENT
DTSTART;TZID=America/Denver:20211111T190000
DTEND;TZID=America/Denver:20211111T203000
DTSTAMP:20260421T220904
CREATED:20211022T181512Z
LAST-MODIFIED:20211022T181512Z
UID:6176-1636657200-1636662600@lowryunitedneighborhoods.org
SUMMARY:LOWRY SPEAKER SERIES: LISETTE CLEMONS
DESCRIPTION:The Lowry Speaker Series is pleased to offer a special Veterans Day presentation on Thursday\, November 11\, 2021 by welcoming Lisette Clemons. A Colorado native and a teacher by trade\, Lisette is the wife of Dean Clemons\, USAF (Retired)\, the commander of the communications squadron at Lowry when it closed in 1994. \nAs a military wife\, Lisette had the pleasure of being with our fine men and women in uniform. She has volunteered with many organizations supporting military families\, and her greatest honor is being an Arlington Lady. The Arlington Ladies are a group of women who attend the funeral of every member of the United States armed forces who is buried at Arlington National Cemetery. \nLisette will share the background of Arlington National Cemetery\, the mission of the Arlington Ladies\, and stories about life on Lowry Air Force Base in its final years. \nWHEN:  Thursday\, November 11\, 2021; 7:00-8:30PM \nWHERE:  The Eisenhower Chapel\, 293 Roslyn Street\, Denver \nThis event is free and open to the public\, but reservations are suggested. \nReserve your tickets here! 
URL:https://lowryunitedneighborhoods.org/event/lowry-speaker-series-lisette-clemons/
LOCATION:Eisenhower Chapel\, 293 Roslyn St\, Denver\, CO\, 80230\, United States
END:VEVENT
BEGIN:VEVENT
DTSTART;TZID=America/Denver:20211113T100000
DTEND;TZID=America/Denver:20211113T140000
DTSTAMP:20260421T220904
CREATED:20211028T203307Z
LAST-MODIFIED:20211028T203430Z
UID:6246-1636797600-1636812000@lowryunitedneighborhoods.org
SUMMARY:LEAFDROP 2021: Weekend Drop Off Your Leaves for Free
DESCRIPTION:LeafDrop is a seasonal program offered by Denver Recycles that turns leaves into compost. The final compost product is made available at a discounted price to Denver residents at the Mulch Giveaway & Compost Sale each May. \nWeekend Drop Sites\nOctober 30 – November 14\n \nSaturdays and Sundays\n10 am to 2 pm \n\nBruce Randolph High School\n3955 Steele St.\nDenver\, CO 80205\nCherry Creek Transfer Station\n7352 Cherry Creek S Dr.\nDenver\, CO 80231\nKennedy High School\n2855 S Lamar St.\nDenver\, CO 80227\nSloan’s Lake Park\n1700 N Sheridan Blvd.\nDenver\, CO 80212\nVeterans Park\n2100 E Iowa Ave.\nDenver\, CO 80210\n\n 
URL:https://lowryunitedneighborhoods.org/event/leafdrop-2021/
LOCATION:CO
END:VEVENT
BEGIN:VEVENT
DTSTART;TZID=America/Denver:20211113T193000
DTEND;TZID=America/Denver:20211113T210000
DTSTAMP:20260421T220904
CREATED:20211022T182753Z
LAST-MODIFIED:20211022T182753Z
UID:6180-1636831800-1636837200@lowryunitedneighborhoods.org
SUMMARY:FIREHOUSE THEATER COMPANY: Ada and the Engine
DESCRIPTION:Ada and the Engine\nby Lauren Gunderson\ndirected by Jay Louden\nNovember 13 – December 18\, 2021 \nFirehouse Theater Company is thrilled to bring to the stage the wonderful play that we were just about to open when the Pandemic caused the shuttering of the theater in spring of 2020. \n \nAs the British Industrial Revolution dawns\, young Ada Byron Lovelace (daughter of the flamboyant and notorious Lord Byron) sees the boundless creative potential in the “analytic engines” of her friend and soul mate Charles Babbage\, inventor of the first mechanical computer. Ada envisions a whole new world where art and information converge—a world she might not live to see. A music-laced story of love\, friendship\, and the edgiest dreams of the future. Jane Austen meets Steve Jobs in this poignant pre-tech romance heralding the computer age. \n  \nPURCHASE YOUR TICKETS HERE
URL:https://lowryunitedneighborhoods.org/event/firehouse-theater-company-ada-and-the-engine/
LOCATION:John Hand Theater\, 7653 E. 1st Place\, Denver\, CO\, 80230\, United States
END:VEVENT
BEGIN:VEVENT
DTSTART;TZID=America/Denver:20211114T100000
DTEND;TZID=America/Denver:20211114T140000
DTSTAMP:20260421T220904
CREATED:20211028T203523Z
LAST-MODIFIED:20211028T203523Z
UID:6249-1636884000-1636898400@lowryunitedneighborhoods.org
SUMMARY:LEAFDROP 2021: Weekend Drop Off Your Leaves for Free
DESCRIPTION:LeafDrop is a seasonal program offered by Denver Recycles that turns leaves into compost. The final compost product is made available at a discounted price to Denver residents at the Mulch Giveaway & Compost Sale each May. \nWeekend Drop Sites\nOctober 30 – November 14\n \nSaturdays and Sundays\n10 am to 2 pm \n\nBruce Randolph High School\n3955 Steele St.\nDenver\, CO 80205\nCherry Creek Transfer Station\n7352 Cherry Creek S Dr.\nDenver\, CO 80231\nKennedy High School\n2855 S Lamar St.\nDenver\, CO 80227\nSloan’s Lake Park\n1700 N Sheridan Blvd.\nDenver\, CO 80212\nVeterans Park\n2100 E Iowa Ave.\nDenver\, CO 80210\n\n 
URL:https://lowryunitedneighborhoods.org/event/leafdrop-2021-weekend-drop-off-your-leaves-for-free-2/
LOCATION:CO
END:VEVENT
BEGIN:VEVENT
DTSTART;TZID=America/Denver:20211114T140000
DTEND;TZID=America/Denver:20211114T160000
DTSTAMP:20260421T220904
CREATED:20211022T182948Z
LAST-MODIFIED:20211022T182948Z
UID:6186-1636898400-1636905600@lowryunitedneighborhoods.org
SUMMARY:FIREHOUSE THEATER COMPANY: Ada and the Engine
DESCRIPTION:Ada and the Engine\nby Lauren Gunderson\ndirected by Jay Louden\nNovember 13 – December 18\, 2021 \n\n\n\n\n\n\n\n\n\n\n\n\nFirehouse Theater Company is thrilled to bring to the stage the wonderful play that we were just about to open when the Pandemic caused the shuttering of the theater in spring of 2020. \n \nAs the British Industrial Revolution dawns\, young Ada Byron Lovelace (daughter of the flamboyant and notorious Lord Byron) sees the boundless creative potential in the “analytic engines” of her friend and soul mate Charles Babbage\, inventor of the first mechanical computer. Ada envisions a whole new world where art and information converge—a world she might not live to see. A music-laced story of love\, friendship\, and the edgiest dreams of the future. Jane Austen meets Steve Jobs in this poignant pre-tech romance heralding the computer age. \nPURCHASE YOUR TICKETS HERE
URL:https://lowryunitedneighborhoods.org/event/firehouse-theater-company-ada-and-the-engine-2/
LOCATION:John Hand Theater\, 7653 E. 1st Place\, Denver\, CO\, 80230\, United States
END:VEVENT
BEGIN:VEVENT
DTSTART;TZID=America/Denver:20211115T130000
DTEND;TZID=America/Denver:20211115T150000
DTSTAMP:20260421T220904
CREATED:20211109T161741Z
LAST-MODIFIED:20211109T161741Z
UID:6305-1636981200-1636988400@lowryunitedneighborhoods.org
SUMMARY:Heather Gardens Recycling Fair
DESCRIPTION:Heather Gardens is hosting a Recycling Fair in their clubhouse on November 15. Stop by and learn more about recycling\, especially those items that are more difficult to recycle!
URL:https://lowryunitedneighborhoods.org/event/heather-gardens-recycling-fair/
LOCATION:CO
END:VEVENT
BEGIN:VEVENT
DTSTART;TZID=America/Denver:20211116T100000
DTEND;TZID=America/Denver:20211116T150000
DTSTAMP:20260421T220904
CREATED:20211101T203518Z
LAST-MODIFIED:20211101T204400Z
UID:6267-1637056800-1637074800@lowryunitedneighborhoods.org
SUMMARY:LOWRY FOUNDATION: Warm Hands\, Warm Hearts - Hat\, Gloves Drive
DESCRIPTION:Warm Hands\, Warm Hearts! \nOn November 16\, The Lowry Foundation will be launching a hat\, scarf\, and mitten/glove drive for those in the community who need a little extra warmth this winter. \nDrop off your donations at the Eisenhower Chapel (293 Roslyn St.)\nTuesday-Thursday\, 10 a.m. -3 p.m. These are for children and adults. \nQuestions? Contact Executive Director\, Jamie Melissa Wilms at jamie@lowryfoundation.org or 303.344.0481. \nThank you for supporting the Lowry Community.
URL:https://lowryunitedneighborhoods.org/event/lowrty-foundation-warm-hands-warm-hearts-low-hat-gloves-drive/
LOCATION:Eisenhower Chapel\, 293 Roslyn St\, Denver\, CO\, 80230\, United States
END:VEVENT
BEGIN:VEVENT
DTSTART;TZID=America/Denver:20211119T190000
DTEND;TZID=America/Denver:20211119T210000
DTSTAMP:20260421T220904
CREATED:20211028T204139Z
LAST-MODIFIED:20211109T154622Z
UID:6254-1637348400-1637355600@lowryunitedneighborhoods.org
SUMMARY:LOWRY NIGHT AT THE THEATER! Firehouse Theater Company: Ada and the Engine
DESCRIPTION:Another great reason to live in Lowry! \nAttend local theater at a discounted price and enjoy a reception with your neighbors \n Please join your Lowry neighbors at the Firehouse Theater on Friday\, November 19 for Lowry Night at the Theater.  Tickets will be discounted from $25 to $20 that night only for LUN\, Lowry Business Alliance\, and Lowry Foundation members.  Come at 7:00 P.M. and enjoy a reception in the theater ballroom prior to the 7:30 show.\nA discount code has been created that will take $5 off the General Admission price.  So\, instead of paying $25\, folks who use the code will pay $20 for the ticket (plus fees). To reserve your space for Lowry Night at the Theater\, go to November 19\, select the time (7:30 is the only option)\, chose a General Admission ticket (Ticket Level Two) and use the code LOWRY. \nAda and the Engine\nby Lauren Gunderson\ndirected by Jay Louden\nNovember 13 – December 18\, 2021 \nFirehouse Theater Company is thrilled to bring to the stage the wonderful play that we were just about to open when the Pandemic caused the shuttering of the theater in spring of 2020. \n \nAs the British Industrial Revolution dawns\, young Ada Byron Lovelace (daughter of the flamboyant and notorious Lord Byron) sees the boundless creative potential in the “analytic engines” of her friend and soul mate Charles Babbage\, inventor of the first mechanical computer. Ada envisions a whole new world where art and information converge—a world she might not live to see. A music-laced story of love\, friendship\, and the edgiest dreams of the future. Jane Austen meets Steve Jobs in this poignant pre-tech romance heralding the computer age. \n  \nPURCHASE YOUR TICKETS HERE
URL:https://lowryunitedneighborhoods.org/event/firehouse-theater-company-ada-and-the-engine-3/
LOCATION:John Hand Theater\, 7653 E. 1st Place\, Denver\, CO\, 80230\, United States
END:VEVENT
BEGIN:VEVENT
DTSTART;TZID=America/Denver:20211120T193000
DTEND;TZID=America/Denver:20211120T210000
DTSTAMP:20260421T220904
CREATED:20211028T203733Z
LAST-MODIFIED:20211028T203818Z
UID:6251-1637436600-1637442000@lowryunitedneighborhoods.org
SUMMARY:FIREHOUSE THEATER COMPANY: Ada and the Engine
DESCRIPTION:Ada and the Engine\nby Lauren Gunderson\ndirected by Jay Louden\nNovember 13 – December 18\, 2021 \nFirehouse Theater Company is thrilled to bring to the stage the wonderful play that we were just about to open when the Pandemic caused the shuttering of the theater in spring of 2020. \n \nAs the British Industrial Revolution dawns\, young Ada Byron Lovelace (daughter of the flamboyant and notorious Lord Byron) sees the boundless creative potential in the “analytic engines” of her friend and soul mate Charles Babbage\, inventor of the first mechanical computer. Ada envisions a whole new world where art and information converge—a world she might not live to see. A music-laced story of love\, friendship\, and the edgiest dreams of the future. Jane Austen meets Steve Jobs in this poignant pre-tech romance heralding the computer age. \n  \nPURCHASE YOUR TICKETS HERE
URL:https://lowryunitedneighborhoods.org/event/firehouse-theater-ada-and-the-engine/
LOCATION:John Hand Theater\, 7653 E. 1st Place\, Denver\, CO\, 80230\, United States
END:VEVENT
BEGIN:VEVENT
DTSTART;TZID=America/Denver:20211121T140000
DTEND;TZID=America/Denver:20211121T160000
DTSTAMP:20260421T220904
CREATED:20211028T204252Z
LAST-MODIFIED:20211028T204252Z
UID:6256-1637503200-1637510400@lowryunitedneighborhoods.org
SUMMARY:FIREHOUSE THEATER COMPANY: Ada and the Engine
DESCRIPTION:Ada and the Engine\nby Lauren Gunderson\ndirected by Jay Louden\nNovember 13 – December 18\, 2021 \nFirehouse Theater Company is thrilled to bring to the stage the wonderful play that we were just about to open when the Pandemic caused the shuttering of the theater in spring of 2020. \n \nAs the British Industrial Revolution dawns\, young Ada Byron Lovelace (daughter of the flamboyant and notorious Lord Byron) sees the boundless creative potential in the “analytic engines” of her friend and soul mate Charles Babbage\, inventor of the first mechanical computer. Ada envisions a whole new world where art and information converge—a world she might not live to see. A music-laced story of love\, friendship\, and the edgiest dreams of the future. Jane Austen meets Steve Jobs in this poignant pre-tech romance heralding the computer age. \n  \nPURCHASE YOUR TICKETS HERE
URL:https://lowryunitedneighborhoods.org/event/firehouse-theater-company-ada-and-the-engine-4/
LOCATION:John Hand Theater\, 7653 E. 1st Place\, Denver\, CO\, 80230\, United States
END:VEVENT
BEGIN:VEVENT
DTSTART;TZID=America/Denver:20211126T193000
DTEND;TZID=America/Denver:20211126T210000
DTSTAMP:20260421T220904
CREATED:20211028T204422Z
LAST-MODIFIED:20211028T204422Z
UID:6258-1637955000-1637960400@lowryunitedneighborhoods.org
SUMMARY:FIEHOUSE THEATER COMPANY: Ada and the Engine
DESCRIPTION:Ada and the Engine\nby Lauren Gunderson\ndirected by Jay Louden\nNovember 13 – December 18\, 2021 \nFirehouse Theater Company is thrilled to bring to the stage the wonderful play that we were just about to open when the Pandemic caused the shuttering of the theater in spring of 2020. \n \nAs the British Industrial Revolution dawns\, young Ada Byron Lovelace (daughter of the flamboyant and notorious Lord Byron) sees the boundless creative potential in the “analytic engines” of her friend and soul mate Charles Babbage\, inventor of the first mechanical computer. Ada envisions a whole new world where art and information converge—a world she might not live to see. A music-laced story of love\, friendship\, and the edgiest dreams of the future. Jane Austen meets Steve Jobs in this poignant pre-tech romance heralding the computer age. \n  \nPURCHASE YOUR TICKETS HERE
URL:https://lowryunitedneighborhoods.org/event/fiehouse-theater-company-ada-and-the-engine/
LOCATION:John Hand Theater\, 7653 E. 1st Place\, Denver\, CO\, 80230\, United States
END:VEVENT
BEGIN:VEVENT
DTSTART;TZID=America/Denver:20211127T193000
DTEND;TZID=America/Denver:20211127T210000
DTSTAMP:20260421T220904
CREATED:20211028T204537Z
LAST-MODIFIED:20211028T204537Z
UID:6260-1638041400-1638046800@lowryunitedneighborhoods.org
SUMMARY:FIREHOUSE THEATER COMPANY: Ada and the Engine
DESCRIPTION:Ada and the Engine\nby Lauren Gunderson\ndirected by Jay Louden\nNovember 13 – December 18\, 2021 \nFirehouse Theater Company is thrilled to bring to the stage the wonderful play that we were just about to open when the Pandemic caused the shuttering of the theater in spring of 2020. \n \nAs the British Industrial Revolution dawns\, young Ada Byron Lovelace (daughter of the flamboyant and notorious Lord Byron) sees the boundless creative potential in the “analytic engines” of her friend and soul mate Charles Babbage\, inventor of the first mechanical computer. Ada envisions a whole new world where art and information converge—a world she might not live to see. A music-laced story of love\, friendship\, and the edgiest dreams of the future. Jane Austen meets Steve Jobs in this poignant pre-tech romance heralding the computer age. \n  \nPURCHASE YOUR TICKETS HERE
URL:https://lowryunitedneighborhoods.org/event/firehouse-theater-company-ada-and-the-engine-5/
LOCATION:John Hand Theater\, 7653 E. 1st Place\, Denver\, CO\, 80230\, United States
END:VEVENT
BEGIN:VEVENT
DTSTART;TZID=America/Denver:20211128T140000
DTEND;TZID=America/Denver:20211128T160000
DTSTAMP:20260421T220904
CREATED:20211028T204654Z
LAST-MODIFIED:20211028T204654Z
UID:6263-1638108000-1638115200@lowryunitedneighborhoods.org
SUMMARY:FIREHOUSE THEATER COMPANY: Ada and the Engine
DESCRIPTION:Ada and the Engine\nby Lauren Gunderson\ndirected by Jay Louden\nNovember 13 – December 18\, 2021 \nFirehouse Theater Company is thrilled to bring to the stage the wonderful play that we were just about to open when the Pandemic caused the shuttering of the theater in spring of 2020. \n \nAs the British Industrial Revolution dawns\, young Ada Byron Lovelace (daughter of the flamboyant and notorious Lord Byron) sees the boundless creative potential in the “analytic engines” of her friend and soul mate Charles Babbage\, inventor of the first mechanical computer. Ada envisions a whole new world where art and information converge—a world she might not live to see. A music-laced story of love\, friendship\, and the edgiest dreams of the future. Jane Austen meets Steve Jobs in this poignant pre-tech romance heralding the computer age. \n  \nPURCHASE YOUR TICKETS HERE
URL:https://lowryunitedneighborhoods.org/event/firehouse-theater-company-ada-and-the-engine-6/
LOCATION:John Hand Theater\, 7653 E. 1st Place\, Denver\, CO\, 80230\, United States
END:VEVENT
END:VCALENDAR