BEGIN:VCALENDAR
VERSION:2.0
PRODID:-//Lowry United Neighborhoods - ECPv6.15.17.1//NONSGML v1.0//EN
CALSCALE:GREGORIAN
METHOD:PUBLISH
X-WR-CALNAME:Lowry United Neighborhoods
X-ORIGINAL-URL:https://lowryunitedneighborhoods.org
X-WR-CALDESC:Events for Lowry United Neighborhoods
REFRESH-INTERVAL;VALUE=DURATION:PT1H
X-Robots-Tag:noindex
X-PUBLISHED-TTL:PT1H
BEGIN:VTIMEZONE
TZID:America/Denver
BEGIN:DAYLIGHT
TZOFFSETFROM:-0700
TZOFFSETTO:-0600
TZNAME:MDT
DTSTART:20250309T090000
END:DAYLIGHT
BEGIN:STANDARD
TZOFFSETFROM:-0600
TZOFFSETTO:-0700
TZNAME:MST
DTSTART:20251102T080000
END:STANDARD
BEGIN:DAYLIGHT
TZOFFSETFROM:-0700
TZOFFSETTO:-0600
TZNAME:MDT
DTSTART:20260308T090000
END:DAYLIGHT
BEGIN:STANDARD
TZOFFSETFROM:-0600
TZOFFSETTO:-0700
TZNAME:MST
DTSTART:20261101T080000
END:STANDARD
BEGIN:DAYLIGHT
TZOFFSETFROM:-0700
TZOFFSETTO:-0600
TZNAME:MDT
DTSTART:20270314T090000
END:DAYLIGHT
BEGIN:STANDARD
TZOFFSETFROM:-0600
TZOFFSETTO:-0700
TZNAME:MST
DTSTART:20271107T080000
END:STANDARD
END:VTIMEZONE
BEGIN:VEVENT
DTSTART;TZID=America/Denver:20260505T190000
DTEND;TZID=America/Denver:20260505T203000
DTSTAMP:20260425T060006
CREATED:20260328T185744Z
LAST-MODIFIED:20260328T185926Z
UID:11544-1778007600-1778013000@lowryunitedneighborhoods.org
SUMMARY:LUN Town Hall: Meet the AG Candidates - Tuesday\, May 5
DESCRIPTION:Who will fight for you?  \nLUN Town Hall: Meet the AG Candidates – May 5  \nMore Than Ever: Your Colorado Attorney General Matters \nThe Colorado Attorney General (AG) is responsible for defending and protecting the citizens and elected officials of Colorado. Michael Allen\, Hetal Doshi\, Michael Dougherty\, and David Seligman all seek the office and ask for your vote in the June 30 Colorado primary election. \nOver the past 15 months more attention has been paid to the AG and his office. In addition to statutory responsibilities\, our current AG joined over 58 lawsuits\, most in collaboration with AG’s from other states. Has this approach been effective for Colorado? Join us on May 5\, to hear what the people running to replace him think. \nLUN Town Hall \nMay 5\, 2026\, Eisenhower Chapel \n7-8:30 p.m. – Doors open at 6:30 p.m.
URL:https://lowryunitedneighborhoods.org/event/lun-town-hall-meet-the-ag-candidates-tuesday-may-5/
LOCATION:Eisenhower Chapel\, 293 Roslyn St\, Denver\, CO\, 80230\, United States
CATEGORIES:LUN (Lowry United Neighborhoods)
END:VEVENT
BEGIN:VEVENT
DTSTART;TZID=America/Denver:20260506T180000
DTEND;TZID=America/Denver:20260506T193000
DTSTAMP:20260425T060006
CREATED:20260424T221538Z
LAST-MODIFIED:20260424T221538Z
UID:11638-1778090400-1778095800@lowryunitedneighborhoods.org
SUMMARY:Wings Over the Rockies: Aerospace Exploration Parent/Family Info Night
DESCRIPTION:Date: Wednesday\, May 6\, 2026 | 6:00PM to 7:30PM\nLocation: Air & Space Museum\nCategories: Education\, Special Events\, Wings Aerospace Exploration Events \nFull STEAM Ahead – Launch Your Students’ Aerospace Journey! \nJoin us to learn about both Wings Aerospace Exploration (WAE) and Wings Aerospace Exploration Enrichment (WAEE) opportunities for students in grades 6–12 from the team at Wings Over the Rockies®. During this session\, you’ll hear a program overview\, meet our educators and instructors\, learn from current and former student experiences\, and get your questions answered. This meeting will take place at the Air & Space Museum (7711 East Academy Blvd\, Denver\, CO 80230).
URL:https://lowryunitedneighborhoods.org/event/wings-over-the-rockies-aerospace-exploration-parent-family-info-night/
LOCATION:Wings Over The Rockies\, 7711 E. Academy Blvd.\, Denver\, 80230\, United States
CATEGORIES:Wings Over the Rockies
END:VEVENT
BEGIN:VEVENT
DTSTART;TZID=America/Denver:20260510T080000
DTEND;TZID=America/Denver:20260510T100000
DTSTAMP:20260425T060006
CREATED:20260218T161504Z
LAST-MODIFIED:20260218T161504Z
UID:11475-1778400000-1778407200@lowryunitedneighborhoods.org
SUMMARY:Wings Over the Rockies: Space Race 5K  - Mother’s Day\, May 10th
DESCRIPTION:Wings is excited to welcome the community to the Space Race 5K at Wings Over the Rockies this Mother’s Day\, May 10th — a fun\, family-friendly way to celebrate the moms in our lives. \nWhether you’re running\, walking\, or cheering from the sidelines\, this event is designed for all ages. After crossing the finish line\, families can enjoy a festive outdoor area with local vendors\, activities\, and space-themed fun — no race experience required! \nWings Over the Rockies 5K Space Race
URL:https://lowryunitedneighborhoods.org/event/wings-over-the-rockies-space-race-5k-mothers-day-may-10th/
LOCATION:Wings Over The Rockies\, 7711 E. Academy Blvd.\, Denver\, 80230\, United States
CATEGORIES:Wings Over the Rockies
END:VEVENT
BEGIN:VEVENT
DTSTART;TZID=America/Denver:20260516T100000
DTEND;TZID=America/Denver:20260516T160000
DTSTAMP:20260425T060006
CREATED:20260422T212414Z
LAST-MODIFIED:20260422T212414Z
UID:11634-1778925600-1778947200@lowryunitedneighborhoods.org
SUMMARY:Lemonade Day Denver - Calling All Young Entrepreneurs!
DESCRIPTION:On May 16\, kids across the Denver area will open their own lemonade stands as part of Lemonade Day\, a fun\, hands-on program that teaches kids how to start and run their own small business. \nParticipants learn how to set goals\, budget\, market their stand\, and to spend\, save and share. \nFamilies can register for free here: Lemonade Day Denver \nOnce registered\, kids can choose to set up their stand at home or at one of several “Sweet Spots” across the community\, including parks\, libraries\, and other safe public spaces. \nJoin us in supporting the next generation of young entrepreneurs!
URL:https://lowryunitedneighborhoods.org/event/lemonade-day-denver-calling-all-young-entrepreneurs/
LOCATION:CO
CATEGORIES:Misc
END:VEVENT
BEGIN:VEVENT
DTSTART;TZID=America/Denver:20260519T100000
DTEND;TZID=America/Denver:20260519T170000
DTSTAMP:20260425T060006
CREATED:20260424T221245Z
LAST-MODIFIED:20260424T221245Z
UID:11636-1779184800-1779210000@lowryunitedneighborhoods.org
SUMMARY:Wings Over the Rockies: SCFD Free Day at the Museum
DESCRIPTION:Date: Tuesday\, May 19\, 2026 | 10:00AM to 5:00PM\nLocation: Air & Space Museum\nCategories: Discount Days\, Special Events \nEnjoy FREE admission at Wings Over the Rockies Air & Space Museum on Tuesday\, May 19\, and bring the whole family for a day of discovery\, imagination and fun! \nStep into the world of aviation and space exploration as you get an up-close look at our Choose Your Own Adventure temporary exhibit\, where you can learn all about nose art\, fighter jets\, and wing-shape engineering. Plus\, take a look at our newest addition\, the Thunderbird F-16! \nDon’t miss out on a memorable day for the whole family!
URL:https://lowryunitedneighborhoods.org/event/wings-over-the-rockies-scfd-free-day-at-the-museum-2/
LOCATION:Wings Over The Rockies\, 7711 E. Academy Blvd.\, Denver\, 80230\, United States
CATEGORIES:Wings Over the Rockies
END:VEVENT
BEGIN:VEVENT
DTSTART;TZID=America/Denver:20260519T180000
DTEND;TZID=America/Denver:20260519T190000
DTSTAMP:20260425T060006
CREATED:20260408T161724Z
LAST-MODIFIED:20260408T161724Z
UID:11624-1779213600-1779217200@lowryunitedneighborhoods.org
SUMMARY:DPD3: Neighborhood Watch Training at Montclair Rec Center
DESCRIPTION:Tuesday\, May 19 @ 6 p.m.\n  \nNeighborhood Watch Training presented by DPD3 \nMontclair Rec Center\,  729 Ulster Way in Lowry \nPups on Patrol will be  with the officers for this training. \n  \nMore information here and how to RSVP: \nNW Flyer (May 19 2026) \n  \n 
URL:https://lowryunitedneighborhoods.org/event/dpd3-neighborhood-watch-training-at-montclair-rec-center/
LOCATION:Montclair Recreation Center\, 729 Ulster Way\, Denver\, 80230\, United States
CATEGORIES:DPD District 3
END:VEVENT
END:VCALENDAR