BEGIN:VCALENDAR
VERSION:2.0
PRODID:-//Lowry United Neighborhoods - ECPv6.15.17.1//NONSGML v1.0//EN
CALSCALE:GREGORIAN
METHOD:PUBLISH
X-ORIGINAL-URL:https://lowryunitedneighborhoods.org
X-WR-CALDESC:Events for Lowry United Neighborhoods
REFRESH-INTERVAL;VALUE=DURATION:PT1H
X-Robots-Tag:noindex
X-PUBLISHED-TTL:PT1H
BEGIN:VTIMEZONE
TZID:America/Denver
BEGIN:DAYLIGHT
TZOFFSETFROM:-0700
TZOFFSETTO:-0600
TZNAME:MDT
DTSTART:20220313T090000
END:DAYLIGHT
BEGIN:STANDARD
TZOFFSETFROM:-0600
TZOFFSETTO:-0700
TZNAME:MST
DTSTART:20221106T080000
END:STANDARD
BEGIN:DAYLIGHT
TZOFFSETFROM:-0700
TZOFFSETTO:-0600
TZNAME:MDT
DTSTART:20230312T090000
END:DAYLIGHT
BEGIN:STANDARD
TZOFFSETFROM:-0600
TZOFFSETTO:-0700
TZNAME:MST
DTSTART:20231105T080000
END:STANDARD
BEGIN:DAYLIGHT
TZOFFSETFROM:-0700
TZOFFSETTO:-0600
TZNAME:MDT
DTSTART:20240310T090000
END:DAYLIGHT
BEGIN:STANDARD
TZOFFSETFROM:-0600
TZOFFSETTO:-0700
TZNAME:MST
DTSTART:20241103T080000
END:STANDARD
END:VTIMEZONE
BEGIN:VEVENT
DTSTART;TZID=America/Denver:20230415T083000
DTEND;TZID=America/Denver:20230415T120000
DTSTAMP:20260423T033950
CREATED:20230408T182542Z
LAST-MODIFIED:20230408T182957Z
UID:8393-1681547400-1681560000@lowryunitedneighborhoods.org
SUMMARY:Silver Ropes Volunteers: Spring Clean-Up - Lowry Elementary School
DESCRIPTION:Lowry Foundation’s Silver Ropes Helps Lowry Elementary School: \n\n2022 Cleanup\n\nFourth Annual  Lowry Foundation Silver Ropes Spring Clean-Up at Lowry Elementary School: Saturday\, April 15. Please join us on Saturday\, April 15 (Rain Backup on April 22) from 8:30 a.m. -12:00 p.m. for a spring clean-up at Lowry Elementary. We will be clearing out garden beds\, pruning shrubs\, picking up trash\, and preparing the campus for summer. Previous garden experience is optional\, just a willingness to pitch in and help. The DPS Facilities Department will be providing all the necessary tools. Participants are encouraged to bring work gloves and a water bottle. Snacks will be provided by the Lowry Foundation. \nTo sign up\, please visit https://www.signupgenius.com/go/20F0548A9A62FA2F94-lowry7.
URL:https://lowryunitedneighborhoods.org/event/8393/
LOCATION:Lowry Elementary School\, 8001 E Cedar Ave\, Denver\, CO\, 80230\, United States
CATEGORIES:Volunteer
END:VEVENT
END:VCALENDAR