BEGIN:VCALENDAR
VERSION:2.0
PRODID:-//Lowry United Neighborhoods - ECPv6.15.17.1//NONSGML v1.0//EN
CALSCALE:GREGORIAN
METHOD:PUBLISH
X-WR-CALNAME:Lowry United Neighborhoods
X-ORIGINAL-URL:https://lowryunitedneighborhoods.org
X-WR-CALDESC:Events for Lowry United Neighborhoods
REFRESH-INTERVAL;VALUE=DURATION:PT1H
X-Robots-Tag:noindex
X-PUBLISHED-TTL:PT1H
BEGIN:VTIMEZONE
TZID:America/Denver
BEGIN:DAYLIGHT
TZOFFSETFROM:-0700
TZOFFSETTO:-0600
TZNAME:MDT
DTSTART:20240310T090000
END:DAYLIGHT
BEGIN:STANDARD
TZOFFSETFROM:-0600
TZOFFSETTO:-0700
TZNAME:MST
DTSTART:20241103T080000
END:STANDARD
BEGIN:DAYLIGHT
TZOFFSETFROM:-0700
TZOFFSETTO:-0600
TZNAME:MDT
DTSTART:20250309T090000
END:DAYLIGHT
BEGIN:STANDARD
TZOFFSETFROM:-0600
TZOFFSETTO:-0700
TZNAME:MST
DTSTART:20251102T080000
END:STANDARD
BEGIN:DAYLIGHT
TZOFFSETFROM:-0700
TZOFFSETTO:-0600
TZNAME:MDT
DTSTART:20260308T090000
END:DAYLIGHT
BEGIN:STANDARD
TZOFFSETFROM:-0600
TZOFFSETTO:-0700
TZNAME:MST
DTSTART:20261101T080000
END:STANDARD
END:VTIMEZONE
BEGIN:VEVENT
DTSTART;TZID=America/Denver:20251118T190000
DTEND;TZID=America/Denver:20251118T203000
DTSTAMP:20260421T065414
CREATED:20250904T161446Z
LAST-MODIFIED:20250904T161446Z
UID:11115-1763492400-1763497800@lowryunitedneighborhoods.org
SUMMARY:LUN Town Hall: Meet Our Elected Officials - Amanda Sawyer\, Phil Weiser\, Matt Ball\, Sean Comacho
DESCRIPTION:Save the date to learn about the major issues facing our local government. LUN’s next Town Hall is: Meet Our Elected Officials – Amanda Sawyer\, Phil Weiser\, Matt Ball\, Sean Comacho on Tues. Nov. 18. Details here.
URL:https://lowryunitedneighborhoods.org/event/lun-town-hall-meet-our-elected-officials-amanda-sawyer-phil-weiser-matt-ball-sean-comacho/
LOCATION:Eisenhower Chapel\, 293 Roslyn St\, Denver\, CO\, 80230\, United States
CATEGORIES:LUN (Lowry United Neighborhoods)
END:VEVENT
END:VCALENDAR