BEGIN:VCALENDAR
VERSION:2.0
PRODID:-//Lowry United Neighborhoods - ECPv6.15.17.1//NONSGML v1.0//EN
CALSCALE:GREGORIAN
METHOD:PUBLISH
X-ORIGINAL-URL:https://lowryunitedneighborhoods.org
X-WR-CALDESC:Events for Lowry United Neighborhoods
REFRESH-INTERVAL;VALUE=DURATION:PT1H
X-Robots-Tag:noindex
X-PUBLISHED-TTL:PT1H
BEGIN:VTIMEZONE
TZID:America/Denver
BEGIN:DAYLIGHT
TZOFFSETFROM:-0700
TZOFFSETTO:-0600
TZNAME:MDT
DTSTART:20240310T090000
END:DAYLIGHT
BEGIN:STANDARD
TZOFFSETFROM:-0600
TZOFFSETTO:-0700
TZNAME:MST
DTSTART:20241103T080000
END:STANDARD
BEGIN:DAYLIGHT
TZOFFSETFROM:-0700
TZOFFSETTO:-0600
TZNAME:MDT
DTSTART:20250309T090000
END:DAYLIGHT
BEGIN:STANDARD
TZOFFSETFROM:-0600
TZOFFSETTO:-0700
TZNAME:MST
DTSTART:20251102T080000
END:STANDARD
BEGIN:DAYLIGHT
TZOFFSETFROM:-0700
TZOFFSETTO:-0600
TZNAME:MDT
DTSTART:20260308T090000
END:DAYLIGHT
BEGIN:STANDARD
TZOFFSETFROM:-0600
TZOFFSETTO:-0700
TZNAME:MST
DTSTART:20261101T080000
END:STANDARD
END:VTIMEZONE
BEGIN:VEVENT
DTSTART;TZID=America/Denver:20250612T173000
DTEND;TZID=America/Denver:20250612T190000
DTSTAMP:20260421T171448
CREATED:20250321T222826Z
LAST-MODIFIED:20250606T175043Z
UID:10646-1749749400-1749754800@lowryunitedneighborhoods.org
SUMMARY:LUN: Screening of Join or Die Film
DESCRIPTION:LUN is a co-sponsor of this film being shown as part of the June 12th Denver Community Film Festival. Your participation is what will make this event truly special\, and we can’t wait to bring our communities together for an incredible night centered around civic and personal connections
URL:https://lowryunitedneighborhoods.org/event/lun-screening-of-join-or-die-film/
LOCATION:Historic Holiday Theater\, 2644 W. 32nd Street\, Denver\, CO\, 80211\, United States
CATEGORIES:LUN (Lowry United Neighborhoods)
END:VEVENT
BEGIN:VEVENT
DTSTART;TZID=America/Denver:20250628T100000
DTEND;TZID=America/Denver:20250628T130000
DTSTAMP:20260421T171448
CREATED:20250304T032241Z
LAST-MODIFIED:20250307T220109Z
UID:10595-1751104800-1751115600@lowryunitedneighborhoods.org
SUMMARY:LUN: Third Annual Lowry Independence Parade and Celebration
DESCRIPTION:Saturday\, June 28\, 10 a.m. to 1 p.m. This year to celebrate Independence Day\, July 4th\, Lowry United Neighborhoods is hosting the Third Annual Lowry Independence Parade and Celebration at Sunset Park\, E. 2nd Ave\, Denver\, CO 80220 in Lowry. \nThe pet and human parade will march around Sunset Park on Saturday morning and will be led this year by the Denver Police Mounted Patrol and also the Stilt Man. Decorated pets\, kids\, bikes\, strollers\, other wheeled vehicles and adults all welcome. Come early to decorate; free decorations provided by LUN. The streets around the park will be blocked off to accommodate the parade route. Prizes will be awarded in several categories including cutest decorated dog\, kid and adult. \nIn addition to the parade\, there will be music\, kid’s games and the Denver Fire Department will spray water over a section of the park for kids to run through. (11 a.m. – 11:30 a.m.). (Kids might want to wear their bathing suits under their clothes.) There will be hot dogs\, chips and drinks for sale. \nOur goal is to encourage all Lowry neighbors to come out\, get together\, have fun and strengthen our community. \nIt takes a village to pull off an event like this\, so we are looking for volunteers that would like to help us make the third annual a terrific year. Please contact Denny Head at dehead1@comcast.net or connect@lowryunitedneighborhoods.org if you want to help.
URL:https://lowryunitedneighborhoods.org/event/lun-third-annual-lowry-independence-parade-and-celebration/
LOCATION:Sunset Park\, E 2nd Ave Pkwy\, Denver\, CO 80220\, Denver\, CO\, 80230\, United States
CATEGORIES:LUN (Lowry United Neighborhoods)
END:VEVENT
END:VCALENDAR