BEGIN:VCALENDAR
VERSION:2.0
PRODID:-//Lowry United Neighborhoods - ECPv6.15.17.1//NONSGML v1.0//EN
CALSCALE:GREGORIAN
METHOD:PUBLISH
X-ORIGINAL-URL:https://lowryunitedneighborhoods.org
X-WR-CALDESC:Events for Lowry United Neighborhoods
REFRESH-INTERVAL;VALUE=DURATION:PT1H
X-Robots-Tag:noindex
X-PUBLISHED-TTL:PT1H
BEGIN:VTIMEZONE
TZID:America/Denver
BEGIN:DAYLIGHT
TZOFFSETFROM:-0700
TZOFFSETTO:-0600
TZNAME:MDT
DTSTART:20220313T090000
END:DAYLIGHT
BEGIN:STANDARD
TZOFFSETFROM:-0600
TZOFFSETTO:-0700
TZNAME:MST
DTSTART:20221106T080000
END:STANDARD
BEGIN:DAYLIGHT
TZOFFSETFROM:-0700
TZOFFSETTO:-0600
TZNAME:MDT
DTSTART:20230312T090000
END:DAYLIGHT
BEGIN:STANDARD
TZOFFSETFROM:-0600
TZOFFSETTO:-0700
TZNAME:MST
DTSTART:20231105T080000
END:STANDARD
BEGIN:DAYLIGHT
TZOFFSETFROM:-0700
TZOFFSETTO:-0600
TZNAME:MDT
DTSTART:20240310T090000
END:DAYLIGHT
BEGIN:STANDARD
TZOFFSETFROM:-0600
TZOFFSETTO:-0700
TZNAME:MST
DTSTART:20241103T080000
END:STANDARD
BEGIN:DAYLIGHT
TZOFFSETFROM:-0700
TZOFFSETTO:-0600
TZNAME:MDT
DTSTART:20250309T090000
END:DAYLIGHT
BEGIN:STANDARD
TZOFFSETFROM:-0600
TZOFFSETTO:-0700
TZNAME:MST
DTSTART:20251102T080000
END:STANDARD
END:VTIMEZONE
BEGIN:VEVENT
DTSTART;TZID=America/Denver:20241031T173000
DTEND;TZID=America/Denver:20241031T183000
DTSTAMP:20260424T161717
CREATED:20241024T214426Z
LAST-MODIFIED:20241024T214426Z
UID:10305-1730395800-1730399400@lowryunitedneighborhoods.org
SUMMARY:Lowry Northwest Neighborhood: Halloween Parade
DESCRIPTION:
URL:https://lowryunitedneighborhoods.org/event/lowry-northwest-neighborhood-halloween-parade/
LOCATION:Crescent Park\, Lowry\, 782 Roslyn Street\, Denver\, 80230\, United States
CATEGORIES:Lowry
END:VEVENT
BEGIN:VEVENT
DTSTART;TZID=America/Denver:20240815T173000
DTEND;TZID=America/Denver:20240815T193000
DTSTAMP:20260424T161717
CREATED:20240614T134919Z
LAST-MODIFIED:20240614T134932Z
UID:9950-1723743000-1723750200@lowryunitedneighborhoods.org
SUMMARY:Lowry Business Alliance: LBA Mixer w. Expert Realtor Lender Panel
DESCRIPTION:Thu\, Aug 15\, 2024 – LBA Mixer Featuring a Q&A With Our Expert Realtor Lendor Panel \nThu\, Aug 15\, 2024 \n5:30 pm – 7:30 pm \nLocation/RSVP – Prelude 888 South Valencia Street\, Building 16\, Unit 103 Denver\, CO \nPlease join us for drinks and appetizers. We’ll also be featuring a panel of expert realtors and lenders for a Q&A on all things real estate! Our hosts will be Koelbel Homes and we’ll be meeting at Prelude @ Tava Waters\, an excellent opportunity to check out this beautiful development.
URL:https://lowryunitedneighborhoods.org/event/lowry-business-alliance-lba-mixer-w-expert-realtor-lender-panel/
LOCATION:Prelude\, 888 South Valencia Street\, Building 16\, Unit 103\, Denver\, CO\, 80230\, United States
CATEGORIES:Lowry
END:VEVENT
BEGIN:VEVENT
DTSTART;TZID=America/Denver:20240718T170000
DTEND;TZID=America/Denver:20240718T190000
DTSTAMP:20260424T161717
CREATED:20240614T134538Z
LAST-MODIFIED:20240614T134538Z
UID:9947-1721322000-1721329200@lowryunitedneighborhoods.org
SUMMARY:Lowry Business Alliance: LBA Social Mixer
DESCRIPTION:Thu\, Jul 18\, 2024\, LBA Social Mixer \n5pm-7pm \nJoin us with our hosts Koelbel Homes at the beautiful City Homes at Boulevard One. Our guest speaker will be Matt Hodel of Key Illustration. KEY ILLUSTRATION provides design services for residential construction projects in the Denver metro area and surrounding mountain communities. Libations\, appetizers and great people abound! See you there!
URL:https://lowryunitedneighborhoods.org/event/lowry-business-alliance-lba-social-mixer/
LOCATION:Koelbel Homes – City Homes at Boulevard One
CATEGORIES:Lowry
END:VEVENT
BEGIN:VEVENT
DTSTART;TZID=America/Denver:20240620T090000
DTEND;TZID=America/Denver:20240620T103000
DTSTAMP:20260424T161717
CREATED:20240614T134203Z
LAST-MODIFIED:20240614T134203Z
UID:9945-1718874000-1718879400@lowryunitedneighborhoods.org
SUMMARY:Lowry Business Alliance: LBA Coffee Morning
DESCRIPTION:Thursday June 20th – LBA Coffee Morning \n9am – 10:30am \nSenior Planet\, 7585 East Academy Boulevard\, CO 80230 \nPlease join us for coffee and morning pastries. We are very pleased to welcome our event guest speaker\, Ann Klein of Dress for Success. \nDiscover how Dress for Success instills confidence\, courage\, and belief in women. We’ll also be collecting donations – much appreciated items include handbags\, computer bags\, jewelry and accessories. Gently used or new please!
URL:https://lowryunitedneighborhoods.org/event/lowry-business-alliance-lba-coffee-morning/
LOCATION:Senior Planet\, 7585 E. Academy Boulevard\, Denver\, CO\, 80230\, United States
CATEGORIES:Lowry
END:VEVENT
BEGIN:VEVENT
DTSTART;TZID=America/Denver:20230425T180000
DTEND;TZID=America/Denver:20230425T190000
DTSTAMP:20260424T161717
CREATED:20230314T173001Z
LAST-MODIFIED:20230405T032146Z
UID:8218-1682445600-1682449200@lowryunitedneighborhoods.org
SUMMARY:Lowry East Park Meeting
DESCRIPTION:Lowry East Park 6 month Check-in with Councilwoman Sawyer \nRegister here. \n 
URL:https://lowryunitedneighborhoods.org/event/lowry-east-park-meeting/
LOCATION:Virtual
CATEGORIES:Lowry
ORGANIZER;CN="Councilwoman Amanda Sawyer":MAILTO:Logan.Fry@denvergov.org
END:VEVENT
END:VCALENDAR