BEGIN:VCALENDAR
VERSION:2.0
PRODID:-//Lowry United Neighborhoods - ECPv6.15.17.1//NONSGML v1.0//EN
CALSCALE:GREGORIAN
METHOD:PUBLISH
X-WR-CALNAME:Lowry United Neighborhoods
X-ORIGINAL-URL:https://lowryunitedneighborhoods.org
X-WR-CALDESC:Events for Lowry United Neighborhoods
REFRESH-INTERVAL;VALUE=DURATION:PT1H
X-Robots-Tag:noindex
X-PUBLISHED-TTL:PT1H
BEGIN:VTIMEZONE
TZID:America/Denver
BEGIN:DAYLIGHT
TZOFFSETFROM:-0700
TZOFFSETTO:-0600
TZNAME:MDT
DTSTART:20230312T090000
END:DAYLIGHT
BEGIN:STANDARD
TZOFFSETFROM:-0600
TZOFFSETTO:-0700
TZNAME:MST
DTSTART:20231105T080000
END:STANDARD
BEGIN:DAYLIGHT
TZOFFSETFROM:-0700
TZOFFSETTO:-0600
TZNAME:MDT
DTSTART:20240310T090000
END:DAYLIGHT
BEGIN:STANDARD
TZOFFSETFROM:-0600
TZOFFSETTO:-0700
TZNAME:MST
DTSTART:20241103T080000
END:STANDARD
BEGIN:DAYLIGHT
TZOFFSETFROM:-0700
TZOFFSETTO:-0600
TZNAME:MDT
DTSTART:20250309T090000
END:DAYLIGHT
BEGIN:STANDARD
TZOFFSETFROM:-0600
TZOFFSETTO:-0700
TZNAME:MST
DTSTART:20251102T080000
END:STANDARD
END:VTIMEZONE
BEGIN:VEVENT
DTSTART;TZID=America/Denver:20240601T150000
DTEND;TZID=America/Denver:20240601T170000
DTSTAMP:20260422T023340
CREATED:20240418T170455Z
LAST-MODIFIED:20240418T170907Z
UID:9736-1717254000-1717261200@lowryunitedneighborhoods.org
SUMMARY:Girl Scout DreamLab: US Women's National Team Soccer Watch Party
DESCRIPTION:US Women’s National Team Soccer Watch Party\nCalling all soccer fans! Cheer on the US National Women’s Team as they face the Korean\nRepublic team. Wear your red\, white and blue gear to Girl Scout DreamLab to show your\nsupport. Don’t miss out on this opportunity to come together with long-time and new fans.\nThis is a community event open to anyone. You don’t have to be a Girl Scout\, or even a girl\,\nto support our team. You can learn more and sign up on Girl Scout DreamLab’s Eventbrite:\nhttps://www.eventbrite.com/cc/girl-scout-dreamlab-1653829 \n• June 1\, 3 – 5pm
URL:https://lowryunitedneighborhoods.org/event/girl-scout-dreamlab-us-womens-national-soccer-watch-party/
LOCATION:Girl Scout DreamLab\, 63 N Quebec St.\, Denver\, CO\, 80230\, United States
CATEGORIES:Girl Scouts DreamLab
END:VEVENT
END:VCALENDAR