BEGIN:VCALENDAR
VERSION:2.0
PRODID:-//Lowry United Neighborhoods - ECPv6.15.17.1//NONSGML v1.0//EN
CALSCALE:GREGORIAN
METHOD:PUBLISH
X-ORIGINAL-URL:https://lowryunitedneighborhoods.org
X-WR-CALDESC:Events for Lowry United Neighborhoods
REFRESH-INTERVAL;VALUE=DURATION:PT1H
X-Robots-Tag:noindex
X-PUBLISHED-TTL:PT1H
BEGIN:VTIMEZONE
TZID:America/Denver
BEGIN:DAYLIGHT
TZOFFSETFROM:-0700
TZOFFSETTO:-0600
TZNAME:MDT
DTSTART:20220313T090000
END:DAYLIGHT
BEGIN:STANDARD
TZOFFSETFROM:-0600
TZOFFSETTO:-0700
TZNAME:MST
DTSTART:20221106T080000
END:STANDARD
BEGIN:DAYLIGHT
TZOFFSETFROM:-0700
TZOFFSETTO:-0600
TZNAME:MDT
DTSTART:20230312T090000
END:DAYLIGHT
BEGIN:STANDARD
TZOFFSETFROM:-0600
TZOFFSETTO:-0700
TZNAME:MST
DTSTART:20231105T080000
END:STANDARD
BEGIN:DAYLIGHT
TZOFFSETFROM:-0700
TZOFFSETTO:-0600
TZNAME:MDT
DTSTART:20240310T090000
END:DAYLIGHT
BEGIN:STANDARD
TZOFFSETFROM:-0600
TZOFFSETTO:-0700
TZNAME:MST
DTSTART:20241103T080000
END:STANDARD
END:VTIMEZONE
BEGIN:VEVENT
DTSTART;TZID=America/Denver:20231020T160000
DTEND;TZID=America/Denver:20231020T170000
DTSTAMP:20260425T043100
CREATED:20230912T162549Z
LAST-MODIFIED:20230912T162649Z
UID:9075-1697817600-1697821200@lowryunitedneighborhoods.org
SUMMARY:Girl Scouts DreamLab: Exploring Ukulele with Swallow Hill Music
DESCRIPTION:Kids in 6-12th grade are invited to learn how to play the ukulele with Swallow Hill Music\nat the new Girl Scout DreamLab in Lowry (Denver). Lesson is introductory level. Ukulele\nis provided for use during the class. Learn more about the class and register.
URL:https://lowryunitedneighborhoods.org/event/girl-scouts-dreamlab-exploring-ukulele-with-swallow-hill-music/
LOCATION:Girl Scout DreamLab\, 63 N Quebec St.\, Denver\, CO\, 80230\, United States
CATEGORIES:Girl Scouts DreamLab
END:VEVENT
END:VCALENDAR