BEGIN:VCALENDAR
VERSION:2.0
PRODID:-//Lowry United Neighborhoods - ECPv6.15.17.1//NONSGML v1.0//EN
CALSCALE:GREGORIAN
METHOD:PUBLISH
X-ORIGINAL-URL:https://lowryunitedneighborhoods.org
X-WR-CALDESC:Events for Lowry United Neighborhoods
REFRESH-INTERVAL;VALUE=DURATION:PT1H
X-Robots-Tag:noindex
X-PUBLISHED-TTL:PT1H
BEGIN:VTIMEZONE
TZID:America/Denver
BEGIN:DAYLIGHT
TZOFFSETFROM:-0700
TZOFFSETTO:-0600
TZNAME:MDT
DTSTART:20230312T090000
END:DAYLIGHT
BEGIN:STANDARD
TZOFFSETFROM:-0600
TZOFFSETTO:-0700
TZNAME:MST
DTSTART:20231105T080000
END:STANDARD
BEGIN:DAYLIGHT
TZOFFSETFROM:-0700
TZOFFSETTO:-0600
TZNAME:MDT
DTSTART:20240310T090000
END:DAYLIGHT
BEGIN:STANDARD
TZOFFSETFROM:-0600
TZOFFSETTO:-0700
TZNAME:MST
DTSTART:20241103T080000
END:STANDARD
BEGIN:DAYLIGHT
TZOFFSETFROM:-0700
TZOFFSETTO:-0600
TZNAME:MDT
DTSTART:20250309T090000
END:DAYLIGHT
BEGIN:STANDARD
TZOFFSETFROM:-0600
TZOFFSETTO:-0700
TZNAME:MST
DTSTART:20251102T080000
END:STANDARD
END:VTIMEZONE
BEGIN:VEVENT
DTSTART;TZID=America/Denver:20240726T170000
DTEND;TZID=America/Denver:20240726T190000
DTSTAMP:20260421T204420
CREATED:20240418T170031Z
LAST-MODIFIED:20240418T170031Z
UID:9732-1722013200-1722020400@lowryunitedneighborhoods.org
SUMMARY:Girl Scout DreamLab: Friday Evenings of Fun - Kid's paint and Sip
DESCRIPTION:Final Friday Evenings of Fun:\nFinal Friday Evenings are family-friendly free or low-cost activities designed to bring people\ncloser together. These events are open to anyone in the community. You don’t have to be a\nGirl Scout (or even a girl) to attend! Activities change every month so you can try something\nnew each time. You can learn more and sign up on Girl Scout DreamLab’s Eventbrite:\nhttps://www.eventbrite.com/cc/girl-scout-dreamlab-1653829 \n• July 26\, 5-7pm – Kid’s Paint and Sip ($5)
URL:https://lowryunitedneighborhoods.org/event/girl-scout-dreamlab-friday-evenings-of-fun-kids-paint-and-sip/
LOCATION:Girl Scout DreamLab\, 63 N Quebec St.\, Denver\, CO\, 80230\, United States
CATEGORIES:Girl Scouts DreamLab
END:VEVENT
END:VCALENDAR