BEGIN:VCALENDAR
VERSION:2.0
PRODID:-//Lowry United Neighborhoods - ECPv6.15.17.1//NONSGML v1.0//EN
CALSCALE:GREGORIAN
METHOD:PUBLISH
X-WR-CALNAME:Lowry United Neighborhoods
X-ORIGINAL-URL:https://lowryunitedneighborhoods.org
X-WR-CALDESC:Events for Lowry United Neighborhoods
REFRESH-INTERVAL;VALUE=DURATION:PT1H
X-Robots-Tag:noindex
X-PUBLISHED-TTL:PT1H
BEGIN:VTIMEZONE
TZID:America/Denver
BEGIN:DAYLIGHT
TZOFFSETFROM:-0700
TZOFFSETTO:-0600
TZNAME:MDT
DTSTART:20240310T090000
END:DAYLIGHT
BEGIN:STANDARD
TZOFFSETFROM:-0600
TZOFFSETTO:-0700
TZNAME:MST
DTSTART:20241103T080000
END:STANDARD
BEGIN:DAYLIGHT
TZOFFSETFROM:-0700
TZOFFSETTO:-0600
TZNAME:MDT
DTSTART:20250309T090000
END:DAYLIGHT
BEGIN:STANDARD
TZOFFSETFROM:-0600
TZOFFSETTO:-0700
TZNAME:MST
DTSTART:20251102T080000
END:STANDARD
BEGIN:DAYLIGHT
TZOFFSETFROM:-0700
TZOFFSETTO:-0600
TZNAME:MDT
DTSTART:20260308T090000
END:DAYLIGHT
BEGIN:STANDARD
TZOFFSETFROM:-0600
TZOFFSETTO:-0700
TZNAME:MST
DTSTART:20261101T080000
END:STANDARD
BEGIN:DAYLIGHT
TZOFFSETFROM:-0700
TZOFFSETTO:-0600
TZNAME:MDT
DTSTART:20270314T090000
END:DAYLIGHT
BEGIN:STANDARD
TZOFFSETFROM:-0600
TZOFFSETTO:-0700
TZNAME:MST
DTSTART:20271107T080000
END:STANDARD
END:VTIMEZONE
BEGIN:VEVENT
DTSTART;TZID=America/Denver:20251015T100000
DTEND;TZID=America/Denver:20251015T120000
DTSTAMP:20260420T150323
CREATED:20250917T194106Z
LAST-MODIFIED:20251009T171541Z
UID:11138-1760522400-1760529600@lowryunitedneighborhoods.org
SUMMARY:DPD3: Coffee with the Cops
DESCRIPTION:Wednesday\, October 15 from 10 AM to Noon Coffee with the Cops @ Nixon’s Coffee House 695 W Louisiana Ave. (Our monthly reoccurring Coffee with the Cops event has been moved to the 3rd Wednesday of every month.
URL:https://lowryunitedneighborhoods.org/event/dpd3-coffee-with-the-cops-5/
LOCATION:Nixon’s Coffee House\, 695 E. Louisiana Ave\, Denver\, CO\, United States
CATEGORIES:DPD District 3
END:VEVENT
BEGIN:VEVENT
DTSTART;TZID=America/Denver:20251025T100000
DTEND;TZID=America/Denver:20251025T140000
DTSTAMP:20260420T150323
CREATED:20250929T160826Z
LAST-MODIFIED:20250929T160826Z
UID:11172-1761386400-1761400800@lowryunitedneighborhoods.org
SUMMARY:DPD3: National Drug Take Back Day
DESCRIPTION:
URL:https://lowryunitedneighborhoods.org/event/dpd3-national-drug-take-back-day/
LOCATION:District 3 Police Station\, 1625 S University Blvd\, Denver\, CO 80210\, Denver\, CO\, 80210
CATEGORIES:DPD District 3
END:VEVENT
BEGIN:VEVENT
DTSTART;TZID=America/Denver:20251105T180000
DTEND;TZID=America/Denver:20251105T190000
DTSTAMP:20260420T150323
CREATED:20250929T160132Z
LAST-MODIFIED:20250929T160203Z
UID:11168-1762365600-1762369200@lowryunitedneighborhoods.org
SUMMARY:DPD3: Community Meeting with Commander Bell
DESCRIPTION:November 5 –  Community Meeting with Commander Bell (CAB) at District 3 Station 1625 S University Blvd. Everyone is welcome and encouraged to participate!  Hosted by Commander Bell and our DPD District 3 Law Enforcement Leadership (CAB). Special guest speakers will be from Denver Police Departments Denver Auto Theft Taskforce (DATT).  Remaining CAB dates for 2025 are as follows: Dec 3rd.
URL:https://lowryunitedneighborhoods.org/event/dpd3-community-meeting-with-commander-bell-6/
LOCATION:District 3 Police Station\, 1625 S University Blvd\, Denver\, CO 80210\, Denver\, CO\, 80210
CATEGORIES:DPD District 3
END:VEVENT
BEGIN:VEVENT
DTSTART;TZID=America/Denver:20251203T180000
DTEND;TZID=America/Denver:20251203T190000
DTSTAMP:20260420T150323
CREATED:20250929T160439Z
LAST-MODIFIED:20250929T160635Z
UID:11170-1764784800-1764788400@lowryunitedneighborhoods.org
SUMMARY:DPD3: Community Meeting with Commander Bell
DESCRIPTION:Community Meeting with Commander Bell (CAB) at District 3 Station 1625 S University Blvd. Everyone is welcome and encouraged to participate!  Hosted by Commander Bell and our DPD District 3 Law Enforcement Leadership (CAB). Special guest speakers will be from Denver Police Departments Denver Auto Theft Taskforce (DATT).
URL:https://lowryunitedneighborhoods.org/event/dpd3-community-meeting-with-commander-bell-7/
LOCATION:District 3 Police Station\, 1625 S University Blvd\, Denver\, CO 80210\, Denver\, CO\, 80210
CATEGORIES:DPD District 3
END:VEVENT
BEGIN:VEVENT
DTSTART;TZID=America/Denver:20260107T180000
DTEND;TZID=America/Denver:20260107T190000
DTSTAMP:20260420T150323
CREATED:20251221T002631Z
LAST-MODIFIED:20260108T185549Z
UID:11345-1767808800-1767812400@lowryunitedneighborhoods.org
SUMMARY:DPD3: Community Meeting with Commander Bell
DESCRIPTION:January 7 2026\, at 6 PM – Community Meeting with Commander Bell (CAB) at District 3 Station 1625 S University Blvd. Everyone is welcome and encouraged to participate!  Hosted by Commander Bell and our DPD District 3 Law Enforcement Leadership (CAB). The following CAB dates are tentatively set for 2026*: February 4th\, March 4th\, April 1st\, May 5th June 3rd\, September 2nd\, October 2nd November 4th and December 2nd *Occasionally due to circumstances outside our control CAB dates may need to be adjusted throughout the year. Please check back monthly to confirm CAB meetings.
URL:https://lowryunitedneighborhoods.org/event/dpd3-community-meeting-with-comander-bell/
LOCATION:District 3 Police Station\, 1625 S University Blvd\, Denver\, CO 80210\, Denver\, CO\, 80210
CATEGORIES:DPD District 3
END:VEVENT
BEGIN:VEVENT
DTSTART;TZID=America/Denver:20260204T180000
DTEND;TZID=America/Denver:20260204T190000
DTSTAMP:20260420T150323
CREATED:20260121T155353Z
LAST-MODIFIED:20260121T155424Z
UID:11409-1770228000-1770231600@lowryunitedneighborhoods.org
SUMMARY:DPD3: Community Meeting with Commander Bell
DESCRIPTION:February 4th 2026\, at 6 PM – Community Meeting with Commander Bell (CAB) at District 3 Station 1625 S University Blvd. Everyone is welcome and encouraged to participate!  Hosted by Commander Bell and our DPD District 3 Law Enforcement Leadership (CAB). The following CAB dates are tentatively set for 2026*: February 4th\, March 4th\, April 1st\, May 6th June 3rd\, September 2nd\, October 7th November 4th and December 2nd *Occasionally due to circumstances outside our control CAB dates may need to be adjusted throughout the year. Please check back monthly to confirm CAB meetings.
URL:https://lowryunitedneighborhoods.org/event/dpd3-community-meeting-with-commander-bell-8/
LOCATION:District 3 Police Station\, 1625 S University Blvd\, Denver\, CO 80210\, Denver\, CO\, 80210
CATEGORIES:DPD District 3
END:VEVENT
BEGIN:VEVENT
DTSTART;TZID=America/Denver:20260218T110000
DTEND;TZID=America/Denver:20260218T120000
DTSTAMP:20260420T150323
CREATED:20260121T155850Z
LAST-MODIFIED:20260121T155850Z
UID:11411-1771412400-1771416000@lowryunitedneighborhoods.org
SUMMARY:DPD3: Coffee with the Cops
DESCRIPTION:Wednesday\, February 18th from 11 AM to Noon – Coffee with the Cops \nNEW LOCATION: @ Starbucks Hampden and Locust – 6395 E. Hampden Ave
URL:https://lowryunitedneighborhoods.org/event/dpd3-coffee-with-the-cops-6/
LOCATION:Starbucks –  6395 E. Hampden Ave\, 6395 E. Hampden Ave\, Denver\, CO\, 80222\, United States
CATEGORIES:DPD District 3
END:VEVENT
BEGIN:VEVENT
DTSTART;TZID=America/Denver:20260401T180000
DTEND;TZID=America/Denver:20260401T190000
DTSTAMP:20260420T150323
CREATED:20260307T002951Z
LAST-MODIFIED:20260307T002951Z
UID:11512-1775066400-1775070000@lowryunitedneighborhoods.org
SUMMARY:DPD3: Community Meeting with Commander Bell
DESCRIPTION:April 1\, 2026\, at 6 PM – Community Meeting with Commander Bell (CAB) at District 3 Station 1625 S University Blvd. Everyone is welcome and encouraged to participate  Hosted by Commander Bell and our DPD District 3 Law Enforcement Leadership (CAB).
URL:https://lowryunitedneighborhoods.org/event/dpd3-community-meeting-with-commander-bell-9/
LOCATION:District 3 Police Station\, 1625 S University Blvd\, Denver\, CO 80210\, Denver\, CO\, 80210
CATEGORIES:DPD District 3
END:VEVENT
BEGIN:VEVENT
DTSTART;TZID=America/Denver:20260519T180000
DTEND;TZID=America/Denver:20260519T190000
DTSTAMP:20260420T150323
CREATED:20260408T161724Z
LAST-MODIFIED:20260408T161724Z
UID:11624-1779213600-1779217200@lowryunitedneighborhoods.org
SUMMARY:DPD3: Neighborhood Watch Training at Montclair Rec Center
DESCRIPTION:Tuesday\, May 19 @ 6 p.m.\n  \nNeighborhood Watch Training presented by DPD3 \nMontclair Rec Center\,  729 Ulster Way in Lowry \nPups on Patrol will be  with the officers for this training. \n  \nMore information here and how to RSVP: \nNW Flyer (May 19 2026) \n  \n 
URL:https://lowryunitedneighborhoods.org/event/dpd3-neighborhood-watch-training-at-montclair-rec-center/
LOCATION:Montclair Recreation Center\, 729 Ulster Way\, Denver\, 80230\, United States
CATEGORIES:DPD District 3
END:VEVENT
END:VCALENDAR