BEGIN:VCALENDAR
VERSION:2.0
PRODID:-//Lowry United Neighborhoods - ECPv6.15.17.1//NONSGML v1.0//EN
CALSCALE:GREGORIAN
METHOD:PUBLISH
X-ORIGINAL-URL:https://lowryunitedneighborhoods.org
X-WR-CALDESC:Events for Lowry United Neighborhoods
REFRESH-INTERVAL;VALUE=DURATION:PT1H
X-Robots-Tag:noindex
X-PUBLISHED-TTL:PT1H
BEGIN:VTIMEZONE
TZID:America/Denver
BEGIN:DAYLIGHT
TZOFFSETFROM:-0700
TZOFFSETTO:-0600
TZNAME:MDT
DTSTART:20240310T090000
END:DAYLIGHT
BEGIN:STANDARD
TZOFFSETFROM:-0600
TZOFFSETTO:-0700
TZNAME:MST
DTSTART:20241103T080000
END:STANDARD
BEGIN:DAYLIGHT
TZOFFSETFROM:-0700
TZOFFSETTO:-0600
TZNAME:MDT
DTSTART:20250309T090000
END:DAYLIGHT
BEGIN:STANDARD
TZOFFSETFROM:-0600
TZOFFSETTO:-0700
TZNAME:MST
DTSTART:20251102T080000
END:STANDARD
BEGIN:DAYLIGHT
TZOFFSETFROM:-0700
TZOFFSETTO:-0600
TZNAME:MDT
DTSTART:20260308T090000
END:DAYLIGHT
BEGIN:STANDARD
TZOFFSETFROM:-0600
TZOFFSETTO:-0700
TZNAME:MST
DTSTART:20261101T080000
END:STANDARD
END:VTIMEZONE
BEGIN:VEVENT
DTSTART;TZID=America/Denver:20250517T090000
DTEND;TZID=America/Denver:20250517T140000
DTSTAMP:20260423T004345
CREATED:20250508T010641Z
LAST-MODIFIED:20250508T010845Z
UID:10747-1747472400-1747490400@lowryunitedneighborhoods.org
SUMMARY:DFDF: Free Paint Recycling Collection Event
DESCRIPTION:Join us for a fun and eco-friendly event where you can safely dispose of your unwanted paint! Our Free Paint Recycling Collection Event is happening on May 17\, 2025\, at 1271 W. Bayaud Ave.\, Denver\, CO 80223. Don’t miss this opportunity to declutter your space and contribute to a greener environment. \nRegister for a timeslot today! https://circular.eco/event/Den517. Simply sign up and secure your spot. We will accept all types of paint\, from latex to oil-based\, so bring them all! Our team of experts will be on hand to guide you through the process and ensure everything is properly recycled. \nDonations will support the Denver Fire Department Foundation (DFDF). DFDF raises funds to support our firefighters by providing safety and wellness equipment and programming\, as well as public education about fire safety and prevention. \nSpread the word and invite your friends and neighbors to join in. Together\, let’s make a positive impact on our community and the planet. \nAccepted Materials: \nUrethanes \nOil-based and Latex-based Paints \nAcrylic Paint \nVarnishes\, Shellacs and Lacquers \nPrimers \nClear coatings \n  \nNot Accepted: \nSpray Paints\, Marine and Auto Paints \nHousehold Hazardous Waste \nElectronics \nPaint Thinner
URL:https://lowryunitedneighborhoods.org/event/dfdf-free-paint-recycling-collection-event/
LOCATION:1271 W. Bayaud Ave.\, Denver\, CO 80223\, 1271 W. Bayaud Ave.\, Denver\, CO 80223\, Denver\, CO\, 80223\, United States
CATEGORIES:DPD District 3
END:VEVENT
END:VCALENDAR