BEGIN:VCALENDAR
VERSION:2.0
PRODID:-//Lowry United Neighborhoods - ECPv6.15.17.1//NONSGML v1.0//EN
CALSCALE:GREGORIAN
METHOD:PUBLISH
X-ORIGINAL-URL:https://lowryunitedneighborhoods.org
X-WR-CALDESC:Events for Lowry United Neighborhoods
REFRESH-INTERVAL;VALUE=DURATION:PT1H
X-Robots-Tag:noindex
X-PUBLISHED-TTL:PT1H
BEGIN:VTIMEZONE
TZID:America/Denver
BEGIN:DAYLIGHT
TZOFFSETFROM:-0700
TZOFFSETTO:-0600
TZNAME:MDT
DTSTART:20240310T090000
END:DAYLIGHT
BEGIN:STANDARD
TZOFFSETFROM:-0600
TZOFFSETTO:-0700
TZNAME:MST
DTSTART:20241103T080000
END:STANDARD
BEGIN:DAYLIGHT
TZOFFSETFROM:-0700
TZOFFSETTO:-0600
TZNAME:MDT
DTSTART:20250309T090000
END:DAYLIGHT
BEGIN:STANDARD
TZOFFSETFROM:-0600
TZOFFSETTO:-0700
TZNAME:MST
DTSTART:20251102T080000
END:STANDARD
BEGIN:DAYLIGHT
TZOFFSETFROM:-0700
TZOFFSETTO:-0600
TZNAME:MDT
DTSTART:20260308T090000
END:DAYLIGHT
BEGIN:STANDARD
TZOFFSETFROM:-0600
TZOFFSETTO:-0700
TZNAME:MST
DTSTART:20261101T080000
END:STANDARD
END:VTIMEZONE
BEGIN:VEVENT
DTSTART;TZID=America/Denver:20250410T110000
DTEND;TZID=America/Denver:20250410T120000
DTSTAMP:20260422T051252
CREATED:20250219T225211Z
LAST-MODIFIED:20250219T233836Z
UID:10576-1744282800-1744286400@lowryunitedneighborhoods.org
SUMMARY:DPD 3: Coffee with a Cop at Woodgrain Bagels!
DESCRIPTION:Coffee with a Cop comes to our very own Woodgrain Bagels here in Lowry! Don’t miss this opportunity to ask your questions.
URL:https://lowryunitedneighborhoods.org/event/dpd-3-coffee-with-a-cop-at-woodgrain-bagels/
LOCATION:Woodgrain Bagels\, 7559 E. Academy Blvd.\, Denver\, CO\, 80230\, United States
CATEGORIES:DPD District 3
END:VEVENT
END:VCALENDAR