BEGIN:VCALENDAR
VERSION:2.0
PRODID:-//Lowry United Neighborhoods - ECPv6.15.17.1//NONSGML v1.0//EN
CALSCALE:GREGORIAN
METHOD:PUBLISH
X-WR-CALNAME:Lowry United Neighborhoods
X-ORIGINAL-URL:https://lowryunitedneighborhoods.org
X-WR-CALDESC:Events for Lowry United Neighborhoods
REFRESH-INTERVAL;VALUE=DURATION:PT1H
X-Robots-Tag:noindex
X-PUBLISHED-TTL:PT1H
BEGIN:VTIMEZONE
TZID:America/Denver
BEGIN:DAYLIGHT
TZOFFSETFROM:-0700
TZOFFSETTO:-0600
TZNAME:MDT
DTSTART:20230312T090000
END:DAYLIGHT
BEGIN:STANDARD
TZOFFSETFROM:-0600
TZOFFSETTO:-0700
TZNAME:MST
DTSTART:20231105T080000
END:STANDARD
BEGIN:DAYLIGHT
TZOFFSETFROM:-0700
TZOFFSETTO:-0600
TZNAME:MDT
DTSTART:20240310T090000
END:DAYLIGHT
BEGIN:STANDARD
TZOFFSETFROM:-0600
TZOFFSETTO:-0700
TZNAME:MST
DTSTART:20241103T080000
END:STANDARD
BEGIN:DAYLIGHT
TZOFFSETFROM:-0700
TZOFFSETTO:-0600
TZNAME:MDT
DTSTART:20250309T090000
END:DAYLIGHT
BEGIN:STANDARD
TZOFFSETFROM:-0600
TZOFFSETTO:-0700
TZNAME:MST
DTSTART:20251102T080000
END:STANDARD
END:VTIMEZONE
BEGIN:VEVENT
DTSTART;TZID=America/Denver:20241106T100000
DTEND;TZID=America/Denver:20241106T120000
DTSTAMP:20260423T082233
CREATED:20241025T173113Z
LAST-MODIFIED:20241025T173113Z
UID:10314-1730887200-1730894400@lowryunitedneighborhoods.org
SUMMARY:DPD3: Coffee with the Cops
DESCRIPTION:Wednesday\, November 6th from 10am to noon – Coffee with the Cops @ Nixon’s Coffee House 695 W Louisiana Ave
URL:https://lowryunitedneighborhoods.org/event/dpd3-coffee-with-the-cops-2/
LOCATION:Nixon’s Coffee House\, 695 E. Louisiana Ave\, Denver\, CO\, United States
CATEGORIES:DPD District 3
END:VEVENT
BEGIN:VEVENT
DTSTART;TZID=America/Denver:20241106T180000
DTEND;TZID=America/Denver:20241106T190000
DTSTAMP:20260423T082233
CREATED:20241025T172513Z
LAST-MODIFIED:20241025T172513Z
UID:10310-1730916000-1730919600@lowryunitedneighborhoods.org
SUMMARY:DPD3: Community Meeting with Commander Bell
DESCRIPTION:Wednesday\, November 6th at 6:00 pm Community Meeting with Commander Bell (CAB) at the District 3 Station 1625 S. University Blvd. Our guest speakers will be District 3 Clinician Scott Poulton and Outreach Case Coordinator Erica Burmania. Everyone is welcome and encouraged to participate!  Hosted by Commander Bell and our DPD District 3 Law Enforcement Leadership (CAB).  Learn about crime stats and trends that affect our local neighborhoods.  Questions and comments can be asked at the end of this meeting. *Our final meeting for the 2024 calendar year will be on Dec. 4th.
URL:https://lowryunitedneighborhoods.org/event/dpd3-community-meeting-with-commander-bell-2/
LOCATION:District 3 Police Station\, 1625 S University Blvd\, Denver\, CO 80210\, Denver\, CO\, 80210
CATEGORIES:DPD District 3
END:VEVENT
END:VCALENDAR