BEGIN:VCALENDAR
VERSION:2.0
PRODID:-//Lowry United Neighborhoods - ECPv6.15.17.1//NONSGML v1.0//EN
CALSCALE:GREGORIAN
METHOD:PUBLISH
X-WR-CALNAME:Lowry United Neighborhoods
X-ORIGINAL-URL:https://lowryunitedneighborhoods.org
X-WR-CALDESC:Events for Lowry United Neighborhoods
REFRESH-INTERVAL;VALUE=DURATION:PT1H
X-Robots-Tag:noindex
X-PUBLISHED-TTL:PT1H
BEGIN:VTIMEZONE
TZID:America/Denver
BEGIN:DAYLIGHT
TZOFFSETFROM:-0700
TZOFFSETTO:-0600
TZNAME:MDT
DTSTART:20230312T090000
END:DAYLIGHT
BEGIN:STANDARD
TZOFFSETFROM:-0600
TZOFFSETTO:-0700
TZNAME:MST
DTSTART:20231105T080000
END:STANDARD
BEGIN:DAYLIGHT
TZOFFSETFROM:-0700
TZOFFSETTO:-0600
TZNAME:MDT
DTSTART:20240310T090000
END:DAYLIGHT
BEGIN:STANDARD
TZOFFSETFROM:-0600
TZOFFSETTO:-0700
TZNAME:MST
DTSTART:20241103T080000
END:STANDARD
BEGIN:DAYLIGHT
TZOFFSETFROM:-0700
TZOFFSETTO:-0600
TZNAME:MDT
DTSTART:20250309T090000
END:DAYLIGHT
BEGIN:STANDARD
TZOFFSETFROM:-0600
TZOFFSETTO:-0700
TZNAME:MST
DTSTART:20251102T080000
END:STANDARD
END:VTIMEZONE
BEGIN:VEVENT
DTSTART;TZID=America/Denver:20241002T100000
DTEND;TZID=America/Denver:20241002T120000
DTSTAMP:20260425T190603
CREATED:20240911T143019Z
LAST-MODIFIED:20240911T143108Z
UID:10208-1727863200-1727870400@lowryunitedneighborhoods.org
SUMMARY:DPD3: Coffee with the Cops
DESCRIPTION:This is a monthly event held by Denver Police District 3 so that community members can ask questions of the police.
URL:https://lowryunitedneighborhoods.org/event/dpd3-coffee-with-the-cops/
LOCATION:Nixon’s Coffee House\, 695 E. Louisiana Ave\, Denver\, CO\, United States
CATEGORIES:DPD District 3
END:VEVENT
BEGIN:VEVENT
DTSTART;TZID=America/Denver:20241002T180000
DTEND;TZID=America/Denver:20241002T190000
DTSTAMP:20260425T190603
CREATED:20240930T175927Z
LAST-MODIFIED:20240930T175927Z
UID:10237-1727892000-1727895600@lowryunitedneighborhoods.org
SUMMARY:DPD3: Community Meeting with Commander Bell
DESCRIPTION:Join us on Wednesday\, October 2nd from 5pm to 6pm\, before the Community Meeting with Commander Bell\, and meet our Denver Police Mounted Patrol Horses and Officers. We will also run our Tune Up event during this time (see attached flier)! \n  \nWednesday\, October 2nd at 6:00 pm Community Meeting with Commander Bell (CAB) at the District 3 Station 1625 S. University Blvd. Our guest speaker will be Benjamin Kinghorn from Urban Peak. Everyone is welcome and encouraged to participate!  Hosted by Commander Bell and our DPD District 3 Law Enforcement Leadership (CAB).  Learn about crime stats and trends that affect our local neighborhoods.  Questions and comments can be asked at the end of this meeting. *2024 Meeting Schedule – Oct. 2nd\, Nov. 6th\, and Dec. 4th (dates subject to change.)
URL:https://lowryunitedneighborhoods.org/event/dpd3-community-meeting-with-commander-bell/
LOCATION:District 3 Police Station\, 1625 S University Blvd\, Denver\, CO 80210\, Denver\, CO\, 80210
CATEGORIES:DPD District 3
END:VEVENT
END:VCALENDAR