BEGIN:VCALENDAR
VERSION:2.0
PRODID:-//Lowry United Neighborhoods - ECPv6.15.17.1//NONSGML v1.0//EN
CALSCALE:GREGORIAN
METHOD:PUBLISH
X-WR-CALNAME:Lowry United Neighborhoods
X-ORIGINAL-URL:https://lowryunitedneighborhoods.org
X-WR-CALDESC:Events for Lowry United Neighborhoods
REFRESH-INTERVAL;VALUE=DURATION:PT1H
X-Robots-Tag:noindex
X-PUBLISHED-TTL:PT1H
BEGIN:VTIMEZONE
TZID:America/Denver
BEGIN:DAYLIGHT
TZOFFSETFROM:-0700
TZOFFSETTO:-0600
TZNAME:MDT
DTSTART:20240310T090000
END:DAYLIGHT
BEGIN:STANDARD
TZOFFSETFROM:-0600
TZOFFSETTO:-0700
TZNAME:MST
DTSTART:20241103T080000
END:STANDARD
BEGIN:DAYLIGHT
TZOFFSETFROM:-0700
TZOFFSETTO:-0600
TZNAME:MDT
DTSTART:20250309T090000
END:DAYLIGHT
BEGIN:STANDARD
TZOFFSETFROM:-0600
TZOFFSETTO:-0700
TZNAME:MST
DTSTART:20251102T080000
END:STANDARD
BEGIN:DAYLIGHT
TZOFFSETFROM:-0700
TZOFFSETTO:-0600
TZNAME:MDT
DTSTART:20260308T090000
END:DAYLIGHT
BEGIN:STANDARD
TZOFFSETFROM:-0600
TZOFFSETTO:-0700
TZNAME:MST
DTSTART:20261101T080000
END:STANDARD
END:VTIMEZONE
BEGIN:VEVENT
DTSTART;TZID=America/Denver:20250507T180000
DTEND;TZID=America/Denver:20250507T190000
DTSTAMP:20260420T042527
CREATED:20250506T192303Z
LAST-MODIFIED:20250506T192303Z
UID:10743-1746640800-1746644400@lowryunitedneighborhoods.org
SUMMARY:DPD3: Community Meeting with Commander Bell
DESCRIPTION:Wednesday\, May 7th at 6 PM Community Meeting with Commander Bell (CAB) at District 3 Station 1625 S University Blvd. Everyone is welcome and encouraged to participate!  Hosted by Commander Bell and our DPD District 3 Law Enforcement Leadership (CAB). Our special guest speaker will be Laura Stickney\, program coordinator for Denver Police Volunteers in Police Service. Learn about crime stats and trends that affect our local neighborhoods.  Questions and comments can be asked at the end of this meeting. Remaining CAB dates for 2025 are as follows: June 4th\, No July or August date\, Sept. 10th\, Oct 8th\, Nov. 5th\, and Dec 3rd.
URL:https://lowryunitedneighborhoods.org/event/dpd3-community-meeting-with-commander-bell-4/
LOCATION:District 3 Police Station\, 1625 S University Blvd\, Denver\, CO 80210\, Denver\, CO\, 80210
CATEGORIES:DPD District 3
END:VEVENT
BEGIN:VEVENT
DTSTART;TZID=America/Denver:20250517T090000
DTEND;TZID=America/Denver:20250517T140000
DTSTAMP:20260420T042527
CREATED:20250508T010641Z
LAST-MODIFIED:20250508T010845Z
UID:10747-1747472400-1747490400@lowryunitedneighborhoods.org
SUMMARY:DFDF: Free Paint Recycling Collection Event
DESCRIPTION:Join us for a fun and eco-friendly event where you can safely dispose of your unwanted paint! Our Free Paint Recycling Collection Event is happening on May 17\, 2025\, at 1271 W. Bayaud Ave.\, Denver\, CO 80223. Don’t miss this opportunity to declutter your space and contribute to a greener environment. \nRegister for a timeslot today! https://circular.eco/event/Den517. Simply sign up and secure your spot. We will accept all types of paint\, from latex to oil-based\, so bring them all! Our team of experts will be on hand to guide you through the process and ensure everything is properly recycled. \nDonations will support the Denver Fire Department Foundation (DFDF). DFDF raises funds to support our firefighters by providing safety and wellness equipment and programming\, as well as public education about fire safety and prevention. \nSpread the word and invite your friends and neighbors to join in. Together\, let’s make a positive impact on our community and the planet. \nAccepted Materials: \nUrethanes \nOil-based and Latex-based Paints \nAcrylic Paint \nVarnishes\, Shellacs and Lacquers \nPrimers \nClear coatings \n  \nNot Accepted: \nSpray Paints\, Marine and Auto Paints \nHousehold Hazardous Waste \nElectronics \nPaint Thinner
URL:https://lowryunitedneighborhoods.org/event/dfdf-free-paint-recycling-collection-event/
LOCATION:1271 W. Bayaud Ave.\, Denver\, CO 80223\, 1271 W. Bayaud Ave.\, Denver\, CO 80223\, Denver\, CO\, 80223\, United States
CATEGORIES:DPD District 3
END:VEVENT
BEGIN:VEVENT
DTSTART;TZID=America/Denver:20250521T100000
DTEND;TZID=America/Denver:20250521T120000
DTSTAMP:20260420T042527
CREATED:20250506T192042Z
LAST-MODIFIED:20250506T192042Z
UID:10741-1747821600-1747828800@lowryunitedneighborhoods.org
SUMMARY:DPD3: Coffee with a Cop
DESCRIPTION:Wednesday\, May 21st from 10 AM to Noon Coffee with the Cops @ Nixon’s Coffee House 695 W Louisiana Ave. (Our monthly reoccurring Coffee with the Cops event has been moved to the 3rd Wednesday of every month)
URL:https://lowryunitedneighborhoods.org/event/dpd3-coffee-with-a-cop-2/
LOCATION:Nixon’s Coffee House\, 695 E. Louisiana Ave\, Denver\, CO\, United States
CATEGORIES:DPD District 3
END:VEVENT
END:VCALENDAR