BEGIN:VCALENDAR
VERSION:2.0
PRODID:-//Lowry United Neighborhoods - ECPv6.15.17.1//NONSGML v1.0//EN
CALSCALE:GREGORIAN
METHOD:PUBLISH
X-ORIGINAL-URL:https://lowryunitedneighborhoods.org
X-WR-CALDESC:Events for Lowry United Neighborhoods
REFRESH-INTERVAL;VALUE=DURATION:PT1H
X-Robots-Tag:noindex
X-PUBLISHED-TTL:PT1H
BEGIN:VTIMEZONE
TZID:America/Denver
BEGIN:DAYLIGHT
TZOFFSETFROM:-0700
TZOFFSETTO:-0600
TZNAME:MDT
DTSTART:20230312T090000
END:DAYLIGHT
BEGIN:STANDARD
TZOFFSETFROM:-0600
TZOFFSETTO:-0700
TZNAME:MST
DTSTART:20231105T080000
END:STANDARD
BEGIN:DAYLIGHT
TZOFFSETFROM:-0700
TZOFFSETTO:-0600
TZNAME:MDT
DTSTART:20240310T090000
END:DAYLIGHT
BEGIN:STANDARD
TZOFFSETFROM:-0600
TZOFFSETTO:-0700
TZNAME:MST
DTSTART:20241103T080000
END:STANDARD
BEGIN:DAYLIGHT
TZOFFSETFROM:-0700
TZOFFSETTO:-0600
TZNAME:MDT
DTSTART:20250309T090000
END:DAYLIGHT
BEGIN:STANDARD
TZOFFSETFROM:-0600
TZOFFSETTO:-0700
TZNAME:MST
DTSTART:20251102T080000
END:STANDARD
END:VTIMEZONE
BEGIN:VEVENT
DTSTART;TZID=America/Denver:20241204T100000
DTEND;TZID=America/Denver:20241204T120000
DTSTAMP:20260423T050613
CREATED:20241126T202641Z
LAST-MODIFIED:20241126T202807Z
UID:10367-1733306400-1733313600@lowryunitedneighborhoods.org
SUMMARY:DPD3: Coffee with the Cops
DESCRIPTION:Wednesday\, December 4th from 10am to noon – Coffee with the Cops @ Nixon’s Coffee House 695 W Louisiana Ave
URL:https://lowryunitedneighborhoods.org/event/dpd3-coffee-with-the-cops-3/
LOCATION:Nixon’s Coffee House\, 695 E. Louisiana Ave\, Denver\, CO\, United States
CATEGORIES:DPD District 3
END:VEVENT
BEGIN:VEVENT
DTSTART;TZID=America/Denver:20241204T180000
DTEND;TZID=America/Denver:20241204T190000
DTSTAMP:20260423T050613
CREATED:20241126T202937Z
LAST-MODIFIED:20241126T202937Z
UID:10369-1733335200-1733338800@lowryunitedneighborhoods.org
SUMMARY:DPD3: Community Meeting with Commander Bell
DESCRIPTION:Wednesday\, December 4th at 6 PM Community Meeting with Commander Bell (CAB) at District 3 Station 1625 S University Blvd. Our guest speaker will be Sgt. Hinkle from District 3’s Anti-Crime Team (ACT) . Everyone is welcome and encouraged to participate!  Hosted by Commander Bell and our DPD District 3 Law Enforcement Leadership (CAB).  Learn about crime stats and trends that affect our local neighborhoods.  Questions and comments can be asked at the end of this meeting. This is our final CAB meeting for the 2024 calendar year.
URL:https://lowryunitedneighborhoods.org/event/dpd3-community-meeting-with-commander-bell-3/
LOCATION:District 3 Police Station\, 1625 S University Blvd\, Denver\, CO 80210\, Denver\, CO\, 80210
CATEGORIES:DPD District 3
END:VEVENT
END:VCALENDAR