BEGIN:VCALENDAR
VERSION:2.0
PRODID:-//Lowry United Neighborhoods - ECPv6.15.17.1//NONSGML v1.0//EN
CALSCALE:GREGORIAN
METHOD:PUBLISH
X-ORIGINAL-URL:https://lowryunitedneighborhoods.org
X-WR-CALDESC:Events for Lowry United Neighborhoods
REFRESH-INTERVAL;VALUE=DURATION:PT1H
X-Robots-Tag:noindex
X-PUBLISHED-TTL:PT1H
BEGIN:VTIMEZONE
TZID:America/Denver
BEGIN:DAYLIGHT
TZOFFSETFROM:-0700
TZOFFSETTO:-0600
TZNAME:MDT
DTSTART:20230312T090000
END:DAYLIGHT
BEGIN:STANDARD
TZOFFSETFROM:-0600
TZOFFSETTO:-0700
TZNAME:MST
DTSTART:20231105T080000
END:STANDARD
BEGIN:DAYLIGHT
TZOFFSETFROM:-0700
TZOFFSETTO:-0600
TZNAME:MDT
DTSTART:20240310T090000
END:DAYLIGHT
BEGIN:STANDARD
TZOFFSETFROM:-0600
TZOFFSETTO:-0700
TZNAME:MST
DTSTART:20241103T080000
END:STANDARD
BEGIN:DAYLIGHT
TZOFFSETFROM:-0700
TZOFFSETTO:-0600
TZNAME:MDT
DTSTART:20250309T090000
END:DAYLIGHT
BEGIN:STANDARD
TZOFFSETFROM:-0600
TZOFFSETTO:-0700
TZNAME:MST
DTSTART:20251102T080000
END:STANDARD
END:VTIMEZONE
BEGIN:VEVENT
DTSTART;TZID=America/Denver:20240911T180000
DTEND;TZID=America/Denver:20240911T190000
DTSTAMP:20260425T203746
CREATED:20240805T122934Z
LAST-MODIFIED:20240805T122934Z
UID:10084-1726077600-1726081200@lowryunitedneighborhoods.org
SUMMARY:DPD District 3: Community Meeting with Commander Bell
DESCRIPTION:Wednesday\, September 11 th at 6:00 pm Community Meeting with Commander Bell (CAB) at the District 3 Station 1625 S. University Blvd. Our guest speaker will be Cale Gould from the Colorado Auto Theft Prevention Association (CATPA) run by the Colorado State Patrol. Everyone is welcome and encouraged to participate!  Hosted by Commander Bell and our DPD District 3 Law Enforcement Leadership (CAB).  Learn about crime stats and trends that affect our local neighborhoods.  Questions and comments can be asked at the end of this meeting. *2024 Meeting Schedule – Sept. 11th\, Oct. 2nd\, Nov. 6th\, and Dec. 4th (dates subject to change.)
URL:https://lowryunitedneighborhoods.org/event/dpd-district-3-community-meeting-with-commander-bell-4/
LOCATION:District 3 Police Station\, 1625 S University Blvd\, Denver\, CO 80210\, Denver\, CO\, 80210
CATEGORIES:DPD District 3
END:VEVENT
END:VCALENDAR