BEGIN:VCALENDAR
VERSION:2.0
PRODID:-//Lowry United Neighborhoods - ECPv6.15.17.1//NONSGML v1.0//EN
CALSCALE:GREGORIAN
METHOD:PUBLISH
X-WR-CALNAME:Lowry United Neighborhoods
X-ORIGINAL-URL:https://lowryunitedneighborhoods.org
X-WR-CALDESC:Events for Lowry United Neighborhoods
REFRESH-INTERVAL;VALUE=DURATION:PT1H
X-Robots-Tag:noindex
X-PUBLISHED-TTL:PT1H
BEGIN:VTIMEZONE
TZID:America/Denver
BEGIN:DAYLIGHT
TZOFFSETFROM:-0700
TZOFFSETTO:-0600
TZNAME:MDT
DTSTART:20250309T090000
END:DAYLIGHT
BEGIN:STANDARD
TZOFFSETFROM:-0600
TZOFFSETTO:-0700
TZNAME:MST
DTSTART:20251102T080000
END:STANDARD
BEGIN:DAYLIGHT
TZOFFSETFROM:-0700
TZOFFSETTO:-0600
TZNAME:MDT
DTSTART:20260308T090000
END:DAYLIGHT
BEGIN:STANDARD
TZOFFSETFROM:-0600
TZOFFSETTO:-0700
TZNAME:MST
DTSTART:20261101T080000
END:STANDARD
BEGIN:DAYLIGHT
TZOFFSETFROM:-0700
TZOFFSETTO:-0600
TZNAME:MDT
DTSTART:20270314T090000
END:DAYLIGHT
BEGIN:STANDARD
TZOFFSETFROM:-0600
TZOFFSETTO:-0700
TZNAME:MST
DTSTART:20271107T080000
END:STANDARD
END:VTIMEZONE
BEGIN:VEVENT
DTSTART;TZID=America/Denver:20260503T183000
DTEND;TZID=America/Denver:20260503T200000
DTSTAMP:20260422T225821
CREATED:20260421T205022Z
LAST-MODIFIED:20260421T205022Z
UID:11629-1777833000-1777838400@lowryunitedneighborhoods.org
SUMMARY:Lowry Foundation: Spring Concert
DESCRIPTION:The Lowry Foundation invites you to its Spring Concert on Sunday\, May 3\, 2026. Join us for a seasonal celebration featuring musicians from the Colorado Symphony. From Baroque to the Beatles\, it’s a musical journey through spring that’s sure to leave you with a little extra bounce in your step! \nDoors open at 6 p.m.\, concert begins at 6:30 p.m.. Children 12 and under are free – this is a family-friendly event and a perfect way to celebrate the new season! \n\n\n\n\n\n\n\n\nClick the button below to learn more. \n\n\n\n\n\n\n\n\n\n\n\n\n\n\n\n\n\n\n\nGET TICKETS
URL:https://lowryunitedneighborhoods.org/event/lowry-foundation-spring-concert/
LOCATION:Eisenhower Chapel\, 293 Roslyn St\, Denver\, CO\, 80230\, United States
CATEGORIES:Lowry Foundation
END:VEVENT
END:VCALENDAR