BEGIN:VCALENDAR
VERSION:2.0
PRODID:-//Lowry United Neighborhoods - ECPv6.15.17.1//NONSGML v1.0//EN
CALSCALE:GREGORIAN
METHOD:PUBLISH
X-ORIGINAL-URL:https://lowryunitedneighborhoods.org
X-WR-CALDESC:Events for Lowry United Neighborhoods
REFRESH-INTERVAL;VALUE=DURATION:PT1H
X-Robots-Tag:noindex
X-PUBLISHED-TTL:PT1H
BEGIN:VTIMEZONE
TZID:America/Denver
BEGIN:DAYLIGHT
TZOFFSETFROM:-0700
TZOFFSETTO:-0600
TZNAME:MDT
DTSTART:20240310T090000
END:DAYLIGHT
BEGIN:STANDARD
TZOFFSETFROM:-0600
TZOFFSETTO:-0700
TZNAME:MST
DTSTART:20241103T080000
END:STANDARD
BEGIN:DAYLIGHT
TZOFFSETFROM:-0700
TZOFFSETTO:-0600
TZNAME:MDT
DTSTART:20250309T090000
END:DAYLIGHT
BEGIN:STANDARD
TZOFFSETFROM:-0600
TZOFFSETTO:-0700
TZNAME:MST
DTSTART:20251102T080000
END:STANDARD
BEGIN:DAYLIGHT
TZOFFSETFROM:-0700
TZOFFSETTO:-0600
TZNAME:MDT
DTSTART:20260308T090000
END:DAYLIGHT
BEGIN:STANDARD
TZOFFSETFROM:-0600
TZOFFSETTO:-0700
TZNAME:MST
DTSTART:20261101T080000
END:STANDARD
END:VTIMEZONE
BEGIN:VEVENT
DTSTART;TZID=America/Denver:20251001T100000
DTEND;TZID=America/Denver:20251001T120000
DTSTAMP:20260421T175350
CREATED:20250924T144747Z
LAST-MODIFIED:20250924T144839Z
UID:11163-1759312800-1759320000@lowryunitedneighborhoods.org
SUMMARY:DPD3: National Coffee with A Cop Day at Woodgrain Bagels
DESCRIPTION:October 1st is National Coffee with a Cop Day. At 10:00 a.m.\, at Woodgrain Bagels in Lowry\, Denver Police Department\, District 3\, will be on hand to answer all your questions. This is a great opportunity for the community to open up discussion regarding crime and safety issues that concern our neighborhood.
URL:https://lowryunitedneighborhoods.org/event/dpd3-national-coffee-with-a-cop-day-at-woodgrain-bagels/
LOCATION:Woodgrain Bagels\, 7559 E. Academy Blvd.\, Denver\, CO\, 80230\, United States
CATEGORIES:DPD District 3
END:VEVENT
END:VCALENDAR