BEGIN:VCALENDAR
VERSION:2.0
PRODID:-//Lowry United Neighborhoods - ECPv6.15.17.1//NONSGML v1.0//EN
CALSCALE:GREGORIAN
METHOD:PUBLISH
X-ORIGINAL-URL:https://lowryunitedneighborhoods.org
X-WR-CALDESC:Events for Lowry United Neighborhoods
REFRESH-INTERVAL;VALUE=DURATION:PT1H
X-Robots-Tag:noindex
X-PUBLISHED-TTL:PT1H
BEGIN:VTIMEZONE
TZID:America/Denver
BEGIN:DAYLIGHT
TZOFFSETFROM:-0700
TZOFFSETTO:-0600
TZNAME:MDT
DTSTART:20240310T090000
END:DAYLIGHT
BEGIN:STANDARD
TZOFFSETFROM:-0600
TZOFFSETTO:-0700
TZNAME:MST
DTSTART:20241103T080000
END:STANDARD
BEGIN:DAYLIGHT
TZOFFSETFROM:-0700
TZOFFSETTO:-0600
TZNAME:MDT
DTSTART:20250309T090000
END:DAYLIGHT
BEGIN:STANDARD
TZOFFSETFROM:-0600
TZOFFSETTO:-0700
TZNAME:MST
DTSTART:20251102T080000
END:STANDARD
BEGIN:DAYLIGHT
TZOFFSETFROM:-0700
TZOFFSETTO:-0600
TZNAME:MDT
DTSTART:20260308T090000
END:DAYLIGHT
BEGIN:STANDARD
TZOFFSETFROM:-0600
TZOFFSETTO:-0700
TZNAME:MST
DTSTART:20261101T080000
END:STANDARD
END:VTIMEZONE
BEGIN:VEVENT
DTSTART;TZID=America/Denver:20250820T100000
DTEND;TZID=America/Denver:20250820T120000
DTSTAMP:20260420T124535
CREATED:20250730T142721Z
LAST-MODIFIED:20250730T142721Z
UID:11025-1755684000-1755691200@lowryunitedneighborhoods.org
SUMMARY:DPD3: Coffee with the Cops
DESCRIPTION:Wednesday\, August 20th from 10 AM to Noon Coffee with the Cops @ Nixon’s Coffee House 695 W Louisiana Ave. (Our monthly reoccurring Coffee with the Cops event has been moved to the 3rd Wednesday of every month)
URL:https://lowryunitedneighborhoods.org/event/dpd3-coffee-with-the-cops-4/
LOCATION:Nixon’s Coffee House\, 695 E. Louisiana Ave\, Denver\, CO\, United States
CATEGORIES:DPD District 3
END:VEVENT
BEGIN:VEVENT
DTSTART;TZID=America/Denver:20250820T170000
DTEND;TZID=America/Denver:20250820T200000
DTSTAMP:20260420T124535
CREATED:20250706T152332Z
LAST-MODIFIED:20250706T152332Z
UID:11000-1755709200-1755720000@lowryunitedneighborhoods.org
SUMMARY:Lowry Beer Garden: Free Music - Bunny Blake
DESCRIPTION:Join us every Wednesday in July and August for live music\, great beer and summer fun!\nJuly 9 – Donnie Young\nJuly 16 – Jack Hadley\nJuly 23 – Yarrow\nJuly 30 – Delta Sonics\nAugust 6 – Rene Moffatt\nAugust 13 – Daniel Ondaro\nAugust 20 – Bunny Blake\nAugust 27 – Scott Warren
URL:https://lowryunitedneighborhoods.org/event/lowry-beer-garden-free-music-bunny-blake/
LOCATION:Lowry Beer Garden\, 7577 E. Academy Blvd.\, Denver\, CO\, 80230\, United States
CATEGORIES:Misc
END:VEVENT
END:VCALENDAR