BEGIN:VCALENDAR
VERSION:2.0
PRODID:-//Lowry United Neighborhoods - ECPv6.15.17.1//NONSGML v1.0//EN
CALSCALE:GREGORIAN
METHOD:PUBLISH
X-ORIGINAL-URL:https://lowryunitedneighborhoods.org
X-WR-CALDESC:Events for Lowry United Neighborhoods
REFRESH-INTERVAL;VALUE=DURATION:PT1H
X-Robots-Tag:noindex
X-PUBLISHED-TTL:PT1H
BEGIN:VTIMEZONE
TZID:America/Denver
BEGIN:DAYLIGHT
TZOFFSETFROM:-0700
TZOFFSETTO:-0600
TZNAME:MDT
DTSTART:20240310T090000
END:DAYLIGHT
BEGIN:STANDARD
TZOFFSETFROM:-0600
TZOFFSETTO:-0700
TZNAME:MST
DTSTART:20241103T080000
END:STANDARD
BEGIN:DAYLIGHT
TZOFFSETFROM:-0700
TZOFFSETTO:-0600
TZNAME:MDT
DTSTART:20250309T090000
END:DAYLIGHT
BEGIN:STANDARD
TZOFFSETFROM:-0600
TZOFFSETTO:-0700
TZNAME:MST
DTSTART:20251102T080000
END:STANDARD
BEGIN:DAYLIGHT
TZOFFSETFROM:-0700
TZOFFSETTO:-0600
TZNAME:MDT
DTSTART:20260308T090000
END:DAYLIGHT
BEGIN:STANDARD
TZOFFSETFROM:-0600
TZOFFSETTO:-0700
TZNAME:MST
DTSTART:20261101T080000
END:STANDARD
END:VTIMEZONE
BEGIN:VEVENT
DTSTART;TZID=America/Denver:20250815T160000
DTEND;TZID=America/Denver:20250815T200000
DTSTAMP:20260420T125241
CREATED:20250728T173411Z
LAST-MODIFIED:20250728T173411Z
UID:11016-1755273600-1755288000@lowryunitedneighborhoods.org
SUMMARY:DPR: Montclair Rec Center - Community Youth Day
DESCRIPTION:Friday\, August 15\, 4 – 8P \nJoin them for fun\, games and food. \nSpecial Guests\nDenver Fire Department\nDenver Police Department\nKona Ice \nMontclair Recreation Center\n729 Ulster Way\nDenver 80230 \nCommunity-Youth-Day-Montclair
URL:https://lowryunitedneighborhoods.org/event/dpr-montclair-rec-center-community-youth-day/
LOCATION:Montclair Recreation Center\, 729 Ulster Way\, Denver\, 80230\, United States
CATEGORIES:Misc
END:VEVENT
END:VCALENDAR