BEGIN:VCALENDAR
VERSION:2.0
PRODID:-//Lowry United Neighborhoods - ECPv6.15.17.1//NONSGML v1.0//EN
CALSCALE:GREGORIAN
METHOD:PUBLISH
X-ORIGINAL-URL:https://lowryunitedneighborhoods.org
X-WR-CALDESC:Events for Lowry United Neighborhoods
REFRESH-INTERVAL;VALUE=DURATION:PT1H
X-Robots-Tag:noindex
X-PUBLISHED-TTL:PT1H
BEGIN:VTIMEZONE
TZID:America/Denver
BEGIN:DAYLIGHT
TZOFFSETFROM:-0700
TZOFFSETTO:-0600
TZNAME:MDT
DTSTART:20240310T090000
END:DAYLIGHT
BEGIN:STANDARD
TZOFFSETFROM:-0600
TZOFFSETTO:-0700
TZNAME:MST
DTSTART:20241103T080000
END:STANDARD
BEGIN:DAYLIGHT
TZOFFSETFROM:-0700
TZOFFSETTO:-0600
TZNAME:MDT
DTSTART:20250309T090000
END:DAYLIGHT
BEGIN:STANDARD
TZOFFSETFROM:-0600
TZOFFSETTO:-0700
TZNAME:MST
DTSTART:20251102T080000
END:STANDARD
BEGIN:DAYLIGHT
TZOFFSETFROM:-0700
TZOFFSETTO:-0600
TZNAME:MDT
DTSTART:20260308T090000
END:DAYLIGHT
BEGIN:STANDARD
TZOFFSETFROM:-0600
TZOFFSETTO:-0700
TZNAME:MST
DTSTART:20261101T080000
END:STANDARD
END:VTIMEZONE
BEGIN:VEVENT
DTSTART;TZID=America/Denver:20250813T170000
DTEND;TZID=America/Denver:20250813T200000
DTSTAMP:20260420T124004
CREATED:20250706T151821Z
LAST-MODIFIED:20250706T151821Z
UID:10996-1755104400-1755115200@lowryunitedneighborhoods.org
SUMMARY:Lowry Beer Garden: Free Music - Daniel Ondaro
DESCRIPTION:Join us every Wednesday in July and August for live music\, great beer and summer fun!\nJuly 9 – Donnie Young\nJuly 16 – Jack Hadley\nJuly 23 – Yarrow\nJuly 30 – Delta Sonics\nAugust 6 – Rene Moffatt\nAugust 13 – Daniel Ondaro\nAugust 20 – Bunny Blake\nAugust 27 – Scott Warren
URL:https://lowryunitedneighborhoods.org/event/lowry-beer-garden-free-music-daniel-ondaro/
LOCATION:Lowry Beer Garden\, 7577 E. Academy Blvd.\, Denver\, CO\, 80230\, United States
CATEGORIES:Misc
END:VEVENT
END:VCALENDAR