BEGIN:VCALENDAR
VERSION:2.0
PRODID:-//Lowry United Neighborhoods - ECPv6.15.17.1//NONSGML v1.0//EN
CALSCALE:GREGORIAN
METHOD:PUBLISH
X-ORIGINAL-URL:https://lowryunitedneighborhoods.org
X-WR-CALDESC:Events for Lowry United Neighborhoods
REFRESH-INTERVAL;VALUE=DURATION:PT1H
X-Robots-Tag:noindex
X-PUBLISHED-TTL:PT1H
BEGIN:VTIMEZONE
TZID:America/Denver
BEGIN:DAYLIGHT
TZOFFSETFROM:-0700
TZOFFSETTO:-0600
TZNAME:MDT
DTSTART:20230312T090000
END:DAYLIGHT
BEGIN:STANDARD
TZOFFSETFROM:-0600
TZOFFSETTO:-0700
TZNAME:MST
DTSTART:20231105T080000
END:STANDARD
BEGIN:DAYLIGHT
TZOFFSETFROM:-0700
TZOFFSETTO:-0600
TZNAME:MDT
DTSTART:20240310T090000
END:DAYLIGHT
BEGIN:STANDARD
TZOFFSETFROM:-0600
TZOFFSETTO:-0700
TZNAME:MST
DTSTART:20241103T080000
END:STANDARD
BEGIN:DAYLIGHT
TZOFFSETFROM:-0700
TZOFFSETTO:-0600
TZNAME:MDT
DTSTART:20250309T090000
END:DAYLIGHT
BEGIN:STANDARD
TZOFFSETFROM:-0600
TZOFFSETTO:-0700
TZNAME:MST
DTSTART:20251102T080000
END:STANDARD
END:VTIMEZONE
BEGIN:VEVENT
DTSTART;TZID=America/Denver:20240430T180000
DTEND;TZID=America/Denver:20240430T190000
DTSTAMP:20260420T131002
CREATED:20240418T171356Z
LAST-MODIFIED:20240418T171356Z
UID:9741-1714500000-1714503600@lowryunitedneighborhoods.org
SUMMARY:DPD District 3: Fentanyl Awareness and Safety Presentation
DESCRIPTION:Tuesday\, April 30th at 6:00 pm to 7:00 pm at our District 3 Station 1625 S University Blvd. Fentanyl Awareness and Safety Presentation – Join DPD’s Fentanyl Investigation Team for this free\, one hour event to learn about the dangers of fentanyl\, what Investigators are doing to combat it\, and how you can help. Limited Space – Please RSVP to Christie.Mochoruk@denvergov.org. \n 
URL:https://lowryunitedneighborhoods.org/event/dpd-district-3-fentanyl-awareness-and-safety-presentation/
LOCATION:District 3 Police Station\, 1625 S University Blvd\, Denver\, CO 80210\, Denver\, CO\, 80210
CATEGORIES:DPD District 3
END:VEVENT
END:VCALENDAR