BEGIN:VCALENDAR
VERSION:2.0
PRODID:-//Lowry United Neighborhoods - ECPv6.15.17.1//NONSGML v1.0//EN
CALSCALE:GREGORIAN
METHOD:PUBLISH
X-ORIGINAL-URL:https://lowryunitedneighborhoods.org
X-WR-CALDESC:Events for Lowry United Neighborhoods
REFRESH-INTERVAL;VALUE=DURATION:PT1H
X-Robots-Tag:noindex
X-PUBLISHED-TTL:PT1H
BEGIN:VTIMEZONE
TZID:America/Denver
BEGIN:DAYLIGHT
TZOFFSETFROM:-0700
TZOFFSETTO:-0600
TZNAME:MDT
DTSTART:20230312T090000
END:DAYLIGHT
BEGIN:STANDARD
TZOFFSETFROM:-0600
TZOFFSETTO:-0700
TZNAME:MST
DTSTART:20231105T080000
END:STANDARD
BEGIN:DAYLIGHT
TZOFFSETFROM:-0700
TZOFFSETTO:-0600
TZNAME:MDT
DTSTART:20240310T090000
END:DAYLIGHT
BEGIN:STANDARD
TZOFFSETFROM:-0600
TZOFFSETTO:-0700
TZNAME:MST
DTSTART:20241103T080000
END:STANDARD
BEGIN:DAYLIGHT
TZOFFSETFROM:-0700
TZOFFSETTO:-0600
TZNAME:MDT
DTSTART:20250309T090000
END:DAYLIGHT
BEGIN:STANDARD
TZOFFSETFROM:-0600
TZOFFSETTO:-0700
TZNAME:MST
DTSTART:20251102T080000
END:STANDARD
END:VTIMEZONE
BEGIN:VEVENT
DTSTART;TZID=America/Denver:20240424T183000
DTEND;TZID=America/Denver:20240424T193000
DTSTAMP:20260423T101241
CREATED:20240401T154806Z
LAST-MODIFIED:20240401T154911Z
UID:9702-1713983400-1713987000@lowryunitedneighborhoods.org
SUMMARY:DPD District 3: Denver Police Explorer Open House
DESCRIPTION:Denver Police Explorer Open House – Wednesday April 24th at 6:30pm at the Denver Police Academy 2155 N Akron Way. The Denver Police Explorer program emphasizes leadership\, teamwork and strong values while teaching basic skills in law enforcement that will lend to any young person’s future success. Event open to youth ages 15 to 20 years of age and their families. For more information go to https://denvergov.org/Government/Agencies-Departments-Offices/Agencies-Departments-Offices-Directory/Police-Department/Programs-Services/Explorer-Program or contact raymond.sheridan@denvergov.org
URL:https://lowryunitedneighborhoods.org/event/dpd-district-3-denver-police-explorer-open-house/
LOCATION:Denver Police Academy\, 2155 N Akron Way\, Denver\, CO\, United States
CATEGORIES:DPD District 3
END:VEVENT
END:VCALENDAR