BEGIN:VCALENDAR
VERSION:2.0
PRODID:-//Lowry United Neighborhoods - ECPv6.15.17.1//NONSGML v1.0//EN
CALSCALE:GREGORIAN
METHOD:PUBLISH
X-WR-CALNAME:Lowry United Neighborhoods
X-ORIGINAL-URL:https://lowryunitedneighborhoods.org
X-WR-CALDESC:Events for Lowry United Neighborhoods
REFRESH-INTERVAL;VALUE=DURATION:PT1H
X-Robots-Tag:noindex
X-PUBLISHED-TTL:PT1H
BEGIN:VTIMEZONE
TZID:America/Denver
BEGIN:DAYLIGHT
TZOFFSETFROM:-0700
TZOFFSETTO:-0600
TZNAME:MDT
DTSTART:20230312T090000
END:DAYLIGHT
BEGIN:STANDARD
TZOFFSETFROM:-0600
TZOFFSETTO:-0700
TZNAME:MST
DTSTART:20231105T080000
END:STANDARD
BEGIN:DAYLIGHT
TZOFFSETFROM:-0700
TZOFFSETTO:-0600
TZNAME:MDT
DTSTART:20240310T090000
END:DAYLIGHT
BEGIN:STANDARD
TZOFFSETFROM:-0600
TZOFFSETTO:-0700
TZNAME:MST
DTSTART:20241103T080000
END:STANDARD
BEGIN:DAYLIGHT
TZOFFSETFROM:-0700
TZOFFSETTO:-0600
TZNAME:MDT
DTSTART:20250309T090000
END:DAYLIGHT
BEGIN:STANDARD
TZOFFSETFROM:-0600
TZOFFSETTO:-0700
TZNAME:MST
DTSTART:20251102T080000
END:STANDARD
END:VTIMEZONE
BEGIN:VEVENT
DTSTART;TZID=America/Denver:20240421T083000
DTEND;TZID=America/Denver:20240421T110000
DTSTAMP:20260423T085835
CREATED:20240217T202907Z
LAST-MODIFIED:20240217T203059Z
UID:9545-1713688200-1713697200@lowryunitedneighborhoods.org
SUMMARY:Councilwoman Sawyer: D5 Spring Parks Clean Up Day
DESCRIPTION:Spring Parks Clean Up Day is Sunday\, April 21 from 8:30 to 11 AM. The parks that will receive attention this spring are: \n\n6th Avenue Parkway (Monaco to Quebec)\nBayaud Park\nCherry Creek Trail (University Blvd to Alameda Ave)\nCity of Karmiel Park\nDenison Park\nGreat Lawn Park\nJohn W Barnes Park\nKittredge Park\nLindsley Park\nMayfair Park\nMontclair Park & Richthofen Parkway\nRobinson Park\n\nWe had amazing turn-out in 2023\, and I hope you will join us this year as well! Your help keeps our parks beautiful. \n\n\n\nSign Up Here!
URL:https://lowryunitedneighborhoods.org/event/councilwoman-sawyer-d5-spring-parks-clean-up-day/
LOCATION:Lowry
CATEGORIES:Councilwoman Sawyer
ORGANIZER;CN="Councilwoman Amanda Sawyer":MAILTO:Logan.Fry@denvergov.org
END:VEVENT
BEGIN:VEVENT
DTSTART;TZID=America/Denver:20240421T130000
DTEND;TZID=America/Denver:20240421T150000
DTSTAMP:20260423T085835
CREATED:20240315T133455Z
LAST-MODIFIED:20240331T205705Z
UID:9630-1713704400-1713711600@lowryunitedneighborhoods.org
SUMMARY:LUN: Earth Day Lowry Community Service Project
DESCRIPTION:LUN Celebrates Earth Day \nOn Sunday\, April 21\, from 1 – 3 p.m.\, the Lowry United Neighborhoods Sustainability Committee is participating in Earth Day with an Earth Day Lowry Community Service Project. We will be collecting items that are non-recyclable by the City and County of Denver from Lowry neighbors and distributing them to appropriate facilities for recycling (where possible) and safe disposal.  \nIn addition to dropping off the above materials\, stop by and ask us about any of your recycling and trash questions you might have. We have good information on all things zero waste. \nWe will be collecting a variety of materials including: \n\nBatteries\nPlastic film\nStyrofoam\nTowels\nToxic items\n(such as fertilizers\, drain openers\, glue adhesives\, weed killers etc.; items that should never be placed in the trash or poured down the drain.)\n* Please feel free to drop off six of these kinds of items until our bags fill up*. Batteries in a bag will count as one item.We are offering this collection for Lowry residents who live in condos or apartments and for those who just have a few items they would like to dispose of safely. If you have a large quantity of this kind of material\, you can arrange for a pick-up by the city.\n\nLocation:\n510 Syracuse Street\nLook for the LUN sign and table; just pull up on the east side of Syracuse and drop off your items.Visit our LUN website for more info.
URL:https://lowryunitedneighborhoods.org/event/lun-earth-day-lowry-community-service-project/
LOCATION:510 Syracuse Street\, 510 Syracuse Street\, Denver\, CO\, 80230\, United States
CATEGORIES:LUN (Lowry United Neighborhoods)
END:VEVENT
END:VCALENDAR