BEGIN:VCALENDAR
VERSION:2.0
PRODID:-//Lowry United Neighborhoods - ECPv6.15.17.1//NONSGML v1.0//EN
CALSCALE:GREGORIAN
METHOD:PUBLISH
X-WR-CALNAME:Lowry United Neighborhoods
X-ORIGINAL-URL:https://lowryunitedneighborhoods.org
X-WR-CALDESC:Events for Lowry United Neighborhoods
REFRESH-INTERVAL;VALUE=DURATION:PT1H
X-Robots-Tag:noindex
X-PUBLISHED-TTL:PT1H
BEGIN:VTIMEZONE
TZID:America/Denver
BEGIN:DAYLIGHT
TZOFFSETFROM:-0700
TZOFFSETTO:-0600
TZNAME:MDT
DTSTART:20230312T090000
END:DAYLIGHT
BEGIN:STANDARD
TZOFFSETFROM:-0600
TZOFFSETTO:-0700
TZNAME:MST
DTSTART:20231105T080000
END:STANDARD
BEGIN:DAYLIGHT
TZOFFSETFROM:-0700
TZOFFSETTO:-0600
TZNAME:MDT
DTSTART:20240310T090000
END:DAYLIGHT
BEGIN:STANDARD
TZOFFSETFROM:-0600
TZOFFSETTO:-0700
TZNAME:MST
DTSTART:20241103T080000
END:STANDARD
BEGIN:DAYLIGHT
TZOFFSETFROM:-0700
TZOFFSETTO:-0600
TZNAME:MDT
DTSTART:20250309T090000
END:DAYLIGHT
BEGIN:STANDARD
TZOFFSETFROM:-0600
TZOFFSETTO:-0700
TZNAME:MST
DTSTART:20251102T080000
END:STANDARD
END:VTIMEZONE
BEGIN:VEVENT
DTSTART;TZID=America/Denver:20240416T190000
DTEND;TZID=America/Denver:20240416T203000
DTSTAMP:20260423T084508
CREATED:20240206T042539Z
LAST-MODIFIED:20240320T175153Z
UID:9515-1713294000-1713299400@lowryunitedneighborhoods.org
SUMMARY:LUN Town Hall: Traffic Concerns in Lowry
DESCRIPTION:The next LUN Town Hall will be on Tuesday\, April 16 from 7-8:30 p.m. at the Eisenhower Chapel and will be a presentation by representatives from Denver Department of Transportation and Infrastructure (DOTI) about traffic concerns in Lowry\, educational information  and questions and answers. \nPlease join us to hear Molly Lanphier\, Community Designer\, from the Denver Department of Transportation and Infrastructure (DOTI) talk about: \nTransportation 101: How decisions get made at DOTI.” \nMolly’s presentation will help us gain an understanding of design standards\, an overview of how design decisions are made\, and the tools our community has at our disposal to make improvements. Molly will also address traffic concerns from the previous meeting held on May 2020\, and on-going issues in Lowry. A questionnaire will be provided to solicit input of potentially unsafe vehicle\, bike and pedestrian locations and concerns in Lowry. There will be time for questions at the end of the presentation. \nLearn about:\n\n– How to safely negotiate the roundabouts.\n– What warrants a cross-walk?\n– Why we can’t have more 4-way stops?\n– Why was Sports Park Blvd. closed?\n– How to report traffic safety issues.\n– What are the proposed changes to Uinta Way? \nNicole Aviles from Councilwoman Sawyer’s office will speak briefly and be on hand to answer questions. \nPrior to the traffic and safety portion of the Town Hall\, there will be a brief LUN annual meeting to confirm the slate of LUN Board members proposed for 2024. \nThis meeting is brought to you by the LUN Pedestrian\, Bicycle and Traffic Safety Committee.
URL:https://lowryunitedneighborhoods.org/event/lun-town-hall-traffic-concerns-in-lowry/
LOCATION:Eisenhower Chapel\, 293 Roslyn St\, Denver\, CO\, 80230\, United States
CATEGORIES:LUN (Lowry United Neighborhoods)
END:VEVENT
END:VCALENDAR