BEGIN:VCALENDAR
VERSION:2.0
PRODID:-//Lowry United Neighborhoods - ECPv6.15.17.1//NONSGML v1.0//EN
CALSCALE:GREGORIAN
METHOD:PUBLISH
X-WR-CALNAME:Lowry United Neighborhoods
X-ORIGINAL-URL:https://lowryunitedneighborhoods.org
X-WR-CALDESC:Events for Lowry United Neighborhoods
REFRESH-INTERVAL;VALUE=DURATION:PT1H
X-Robots-Tag:noindex
X-PUBLISHED-TTL:PT1H
BEGIN:VTIMEZONE
TZID:America/Denver
BEGIN:DAYLIGHT
TZOFFSETFROM:-0700
TZOFFSETTO:-0600
TZNAME:MDT
DTSTART:20230312T090000
END:DAYLIGHT
BEGIN:STANDARD
TZOFFSETFROM:-0600
TZOFFSETTO:-0700
TZNAME:MST
DTSTART:20231105T080000
END:STANDARD
BEGIN:DAYLIGHT
TZOFFSETFROM:-0700
TZOFFSETTO:-0600
TZNAME:MDT
DTSTART:20240310T090000
END:DAYLIGHT
BEGIN:STANDARD
TZOFFSETFROM:-0600
TZOFFSETTO:-0700
TZNAME:MST
DTSTART:20241103T080000
END:STANDARD
BEGIN:DAYLIGHT
TZOFFSETFROM:-0700
TZOFFSETTO:-0600
TZNAME:MDT
DTSTART:20250309T090000
END:DAYLIGHT
BEGIN:STANDARD
TZOFFSETFROM:-0600
TZOFFSETTO:-0700
TZNAME:MST
DTSTART:20251102T080000
END:STANDARD
END:VTIMEZONE
BEGIN:VEVENT
DTSTART;TZID=America/Denver:20240409T180000
DTEND;TZID=America/Denver:20240409T193000
DTSTAMP:20260421T112858
CREATED:20240315T132908Z
LAST-MODIFIED:20240315T163003Z
UID:9628-1712685600-1712691000@lowryunitedneighborhoods.org
SUMMARY:Councilwoman Sawyer: East Park Lowry Check-in Virtual Townhall
DESCRIPTION:Since July 2019\, Councilwoman Amanda Sawyer and her office has been working hard to improve neighborhood safety in Lowry East Park by hosting neighborhood safety check-in meetings every six months. These meetings have included stakeholders from the Denver Police Department\, Lowry United Neighborhoods and residents. \nPlease join us for our next meeting on April 9 on Zoom or Facebook Live. You can register here.
URL:https://lowryunitedneighborhoods.org/event/councilwoman-sawyer-east-park-lowry-check-in-virtual-townhall/
LOCATION:Virtual
CATEGORIES:Councilwoman Sawyer
ORGANIZER;CN="Councilwoman Amanda Sawyer":MAILTO:Logan.Fry@denvergov.org
END:VEVENT
END:VCALENDAR