BEGIN:VCALENDAR
VERSION:2.0
PRODID:-//Lowry United Neighborhoods - ECPv6.15.17.1//NONSGML v1.0//EN
CALSCALE:GREGORIAN
METHOD:PUBLISH
X-WR-CALNAME:Lowry United Neighborhoods
X-ORIGINAL-URL:https://lowryunitedneighborhoods.org
X-WR-CALDESC:Events for Lowry United Neighborhoods
REFRESH-INTERVAL;VALUE=DURATION:PT1H
X-Robots-Tag:noindex
X-PUBLISHED-TTL:PT1H
BEGIN:VTIMEZONE
TZID:America/Denver
BEGIN:DAYLIGHT
TZOFFSETFROM:-0700
TZOFFSETTO:-0600
TZNAME:MDT
DTSTART:20230312T090000
END:DAYLIGHT
BEGIN:STANDARD
TZOFFSETFROM:-0600
TZOFFSETTO:-0700
TZNAME:MST
DTSTART:20231105T080000
END:STANDARD
BEGIN:DAYLIGHT
TZOFFSETFROM:-0700
TZOFFSETTO:-0600
TZNAME:MDT
DTSTART:20240310T090000
END:DAYLIGHT
BEGIN:STANDARD
TZOFFSETFROM:-0600
TZOFFSETTO:-0700
TZNAME:MST
DTSTART:20241103T080000
END:STANDARD
BEGIN:DAYLIGHT
TZOFFSETFROM:-0700
TZOFFSETTO:-0600
TZNAME:MDT
DTSTART:20250309T090000
END:DAYLIGHT
BEGIN:STANDARD
TZOFFSETFROM:-0600
TZOFFSETTO:-0700
TZNAME:MST
DTSTART:20251102T080000
END:STANDARD
END:VTIMEZONE
BEGIN:VEVENT
DTSTART;TZID=America/Denver:20240306T170000
DTEND;TZID=America/Denver:20240306T190000
DTSTAMP:20260421T125940
CREATED:20240302T180406Z
LAST-MODIFIED:20240302T180406Z
UID:9558-1709744400-1709751600@lowryunitedneighborhoods.org
SUMMARY:DPD District 3: Community Meeting with Commander Bell
DESCRIPTION:Wednesday\, March 6th at 6pm Community Meeting with Commander Bell (CAB) at the District 3 Station 1625 S. University Blvd. Everyone is welcome and encouraged to participate! Special guest speaker will be the Office of the Independent Monitor.  Hosted by Commander Bell and our DPD District 3 Law Enforcement Leadership (CAB).  Learn about crime stats and trends that affect our local neighborhoods.  Questions and comments can be asked at the end of this meeting. *2024 Meeting Schedule – May 1st\, June 5th\, July 10th\, Sept. 11th\, Oct 2nd\, November 6th\, and Dec 4th (dates subject to change)  \nAND \nWednesday\, March 6th from 5pm to 6pm BEFORE the Community Meeting: Register for your vehicle for DenverTrack and receive your free DenverTrack decal – bring your vehicle registration with you\, register your bicycle with 529 Garage receive your free Shield decal\, Free CLUB if your vehicle is in the Top 10 Most Stolen list – Must show copy of vehicle registration.
URL:https://lowryunitedneighborhoods.org/event/dpd-district-3-community-meeting-with-commander-bell-2/
LOCATION:District 3 Police Station\, 1625 S University Blvd\, Denver\, CO 80210\, Denver\, CO\, 80210
CATEGORIES:DPD District 3
END:VEVENT
END:VCALENDAR