BEGIN:VCALENDAR
VERSION:2.0
PRODID:-//Lowry United Neighborhoods - ECPv6.15.17.1//NONSGML v1.0//EN
CALSCALE:GREGORIAN
METHOD:PUBLISH
X-WR-CALNAME:Lowry United Neighborhoods
X-ORIGINAL-URL:https://lowryunitedneighborhoods.org
X-WR-CALDESC:Events for Lowry United Neighborhoods
REFRESH-INTERVAL;VALUE=DURATION:PT1H
X-Robots-Tag:noindex
X-PUBLISHED-TTL:PT1H
BEGIN:VTIMEZONE
TZID:America/Denver
BEGIN:DAYLIGHT
TZOFFSETFROM:-0700
TZOFFSETTO:-0600
TZNAME:MDT
DTSTART:20230312T090000
END:DAYLIGHT
BEGIN:STANDARD
TZOFFSETFROM:-0600
TZOFFSETTO:-0700
TZNAME:MST
DTSTART:20231105T080000
END:STANDARD
BEGIN:DAYLIGHT
TZOFFSETFROM:-0700
TZOFFSETTO:-0600
TZNAME:MDT
DTSTART:20240310T090000
END:DAYLIGHT
BEGIN:STANDARD
TZOFFSETFROM:-0600
TZOFFSETTO:-0700
TZNAME:MST
DTSTART:20241103T080000
END:STANDARD
BEGIN:DAYLIGHT
TZOFFSETFROM:-0700
TZOFFSETTO:-0600
TZNAME:MDT
DTSTART:20250309T090000
END:DAYLIGHT
BEGIN:STANDARD
TZOFFSETFROM:-0600
TZOFFSETTO:-0700
TZNAME:MST
DTSTART:20251102T080000
END:STANDARD
END:VTIMEZONE
BEGIN:VEVENT
DTSTART;TZID=America/Denver:20240227T183000
DTEND;TZID=America/Denver:20240227T183000
DTSTAMP:20260421T142038
CREATED:20240122T151355Z
LAST-MODIFIED:20240122T151355Z
UID:9469-1709058600-1709058600@lowryunitedneighborhoods.org
SUMMARY:First Meeting of Supporters for Lowry Community Outdoor Pool Iniatitive
DESCRIPTION:For those who are interested\, there was large response to December’s note in the newsletter about interest in a Lowry Outdoor Community Pool. This group headed up by Scott Fisher is holding the first meeting of interested supporters. You can contact Scott at seekinglowrycommunityodpool@hotmail.com \nFebruary 27\, 6:30P at the Schlessman Library.
URL:https://lowryunitedneighborhoods.org/event/first-meeting-of-supporters-for-lowry-community-outdoor-pool-iniatitive/
LOCATION:Schlessman Family Library\, 100 Poplar St\, Denver\, 80220\, United States
CATEGORIES:LUN (Lowry United Neighborhoods)
END:VEVENT
END:VCALENDAR