BEGIN:VCALENDAR
VERSION:2.0
PRODID:-//Lowry United Neighborhoods - ECPv6.15.17.1//NONSGML v1.0//EN
CALSCALE:GREGORIAN
METHOD:PUBLISH
X-WR-CALNAME:Lowry United Neighborhoods
X-ORIGINAL-URL:https://lowryunitedneighborhoods.org
X-WR-CALDESC:Events for Lowry United Neighborhoods
REFRESH-INTERVAL;VALUE=DURATION:PT1H
X-Robots-Tag:noindex
X-PUBLISHED-TTL:PT1H
BEGIN:VTIMEZONE
TZID:America/Denver
BEGIN:DAYLIGHT
TZOFFSETFROM:-0700
TZOFFSETTO:-0600
TZNAME:MDT
DTSTART:20230312T090000
END:DAYLIGHT
BEGIN:STANDARD
TZOFFSETFROM:-0600
TZOFFSETTO:-0700
TZNAME:MST
DTSTART:20231105T080000
END:STANDARD
BEGIN:DAYLIGHT
TZOFFSETFROM:-0700
TZOFFSETTO:-0600
TZNAME:MDT
DTSTART:20240310T090000
END:DAYLIGHT
BEGIN:STANDARD
TZOFFSETFROM:-0600
TZOFFSETTO:-0700
TZNAME:MST
DTSTART:20241103T080000
END:STANDARD
BEGIN:DAYLIGHT
TZOFFSETFROM:-0700
TZOFFSETTO:-0600
TZNAME:MDT
DTSTART:20250309T090000
END:DAYLIGHT
BEGIN:STANDARD
TZOFFSETFROM:-0600
TZOFFSETTO:-0700
TZNAME:MST
DTSTART:20251102T080000
END:STANDARD
END:VTIMEZONE
BEGIN:VEVENT
DTSTART;TZID=America/Denver:20240128T120000
DTEND;TZID=America/Denver:20240128T160000
DTSTAMP:20260421T205600
CREATED:20240107T194158Z
LAST-MODIFIED:20240121T234815Z
UID:9411-1706443200-1706457600@lowryunitedneighborhoods.org
SUMMARY:Wings Over the Rockies Blood Drive
DESCRIPTION:SUNDAY\, JAN. 28\nNOON – 4PM\n7711 E. ACADEMY BLVD \nDuring January National Blood Donor Month\, blood donors are critically needed to give blood and help save lives. Start off the new year saving up to three lives by donating blood! \nWings will be giving each donor a 50% off coupon to come and enjoy a day at Wings Over the Rockies within the next month. Wings will also be giving out coupons from other businesses as well! \nSchedule your donation appointment here. \nAppointments recommended. Walk-ins welcome.
URL:https://lowryunitedneighborhoods.org/event/wings-over-the-rockies-blood-drive/
LOCATION:Wings Over The Rockies\, 7711 E. Academy Blvd.\, Denver\, 80230\, United States
CATEGORIES:Wings Over the Rockies
END:VEVENT
END:VCALENDAR