BEGIN:VCALENDAR
VERSION:2.0
PRODID:-//Lowry United Neighborhoods - ECPv6.15.17.1//NONSGML v1.0//EN
CALSCALE:GREGORIAN
METHOD:PUBLISH
X-ORIGINAL-URL:https://lowryunitedneighborhoods.org
X-WR-CALDESC:Events for Lowry United Neighborhoods
REFRESH-INTERVAL;VALUE=DURATION:PT1H
X-Robots-Tag:noindex
X-PUBLISHED-TTL:PT1H
BEGIN:VTIMEZONE
TZID:America/Denver
BEGIN:DAYLIGHT
TZOFFSETFROM:-0700
TZOFFSETTO:-0600
TZNAME:MDT
DTSTART:20230312T090000
END:DAYLIGHT
BEGIN:STANDARD
TZOFFSETFROM:-0600
TZOFFSETTO:-0700
TZNAME:MST
DTSTART:20231105T080000
END:STANDARD
BEGIN:DAYLIGHT
TZOFFSETFROM:-0700
TZOFFSETTO:-0600
TZNAME:MDT
DTSTART:20240310T090000
END:DAYLIGHT
BEGIN:STANDARD
TZOFFSETFROM:-0600
TZOFFSETTO:-0700
TZNAME:MST
DTSTART:20241103T080000
END:STANDARD
BEGIN:DAYLIGHT
TZOFFSETFROM:-0700
TZOFFSETTO:-0600
TZNAME:MDT
DTSTART:20250309T090000
END:DAYLIGHT
BEGIN:STANDARD
TZOFFSETFROM:-0600
TZOFFSETTO:-0700
TZNAME:MST
DTSTART:20251102T080000
END:STANDARD
END:VTIMEZONE
BEGIN:VEVENT
DTSTART;TZID=America/Denver:20240123T190000
DTEND;TZID=America/Denver:20240123T203000
DTSTAMP:20260421T205723
CREATED:20231218T163507Z
LAST-MODIFIED:20240110T143217Z
UID:9368-1706036400-1706041800@lowryunitedneighborhoods.org
SUMMARY:LUN Townhall Meeting: What You Need to Know About Crime & Safety in Lowry
DESCRIPTION:Please Join Us on Tuesday\, January\, 23\, 7 – 8:30 p.m. at the Eisenhower Chapel. \nSpeakers: \nDenver Chief of Police\, Ron Thomas \nDPD District 3 Commander\, Joel Bell \nDenver District Attorney\, Beth McCann \nDenver City Attorney’s Office\, Director of Prosecution\, Marley Bordovsky \nThe meeting will be facilitated by journalist and Lowry neighbor\, Todd Neff. \n What the Speakers will be discussing: \nIs crime on the rise in Denver? \nWhat happens when a crime is reported? \nHow do the departments work together to bring justice? \nWhat is your responsibility as a Lowry resident? \nHow can we build a safer community? \nPlease bring your questions!
URL:https://lowryunitedneighborhoods.org/event/lun-townhall-meeting-safety-symposium/
LOCATION:Eisenhower Chapel\, 293 Roslyn St\, Denver\, CO\, 80230\, United States
CATEGORIES:LUN (Lowry United Neighborhoods)
END:VEVENT
END:VCALENDAR