BEGIN:VCALENDAR
VERSION:2.0
PRODID:-//Lowry United Neighborhoods - ECPv6.15.17.1//NONSGML v1.0//EN
CALSCALE:GREGORIAN
METHOD:PUBLISH
X-ORIGINAL-URL:https://lowryunitedneighborhoods.org
X-WR-CALDESC:Events for Lowry United Neighborhoods
REFRESH-INTERVAL;VALUE=DURATION:PT1H
X-Robots-Tag:noindex
X-PUBLISHED-TTL:PT1H
BEGIN:VTIMEZONE
TZID:America/Denver
BEGIN:DAYLIGHT
TZOFFSETFROM:-0700
TZOFFSETTO:-0600
TZNAME:MDT
DTSTART:20230312T090000
END:DAYLIGHT
BEGIN:STANDARD
TZOFFSETFROM:-0600
TZOFFSETTO:-0700
TZNAME:MST
DTSTART:20231105T080000
END:STANDARD
BEGIN:DAYLIGHT
TZOFFSETFROM:-0700
TZOFFSETTO:-0600
TZNAME:MDT
DTSTART:20240310T090000
END:DAYLIGHT
BEGIN:STANDARD
TZOFFSETFROM:-0600
TZOFFSETTO:-0700
TZNAME:MST
DTSTART:20241103T080000
END:STANDARD
BEGIN:DAYLIGHT
TZOFFSETFROM:-0700
TZOFFSETTO:-0600
TZNAME:MDT
DTSTART:20250309T090000
END:DAYLIGHT
BEGIN:STANDARD
TZOFFSETFROM:-0600
TZOFFSETTO:-0700
TZNAME:MST
DTSTART:20251102T080000
END:STANDARD
END:VTIMEZONE
BEGIN:VEVENT
DTSTART;TZID=America/Denver:20240118T190000
DTEND;TZID=America/Denver:20240118T203000
DTSTAMP:20260423T060313
CREATED:20240102T154331Z
LAST-MODIFIED:20240110T223310Z
UID:9374-1705604400-1705609800@lowryunitedneighborhoods.org
SUMMARY:Speaker Series: Symphony Orchestras - 500 Years and Counting
DESCRIPTION:The Lowry Foundation and Osher Lifelong Learning Institute (OLLI) at the University of Denver present Catherine Beeson as the kick-off speaker for the 2024 season of events at the Eisenhower Chapel. \nIn this 90-minute session\, Catherine will share a broad overview of the history and development of the symphony in both its definitions: an orchestra and a long-form composition for orchestra. She will explore the invention and development of both things to bring the symphony from its Renaissance era birth to its present form through informative\, surprising\, humorous\, curiosity-inducing slides\, audio examples\, discussion\, and Q&A.\n\nSample mini-topics we will cover  include:\nWhat even IS a symphony?\nHow does the symphony work?\nWhat are some of the most interesting and influential creatives of the symphony?\nWho are the noteworthy composers of today?\n“Did you know…” — an overview of Colorado’s symphonic ecosystem and why you should care.\n\nAbout Catherine Beeson\nMs. Beeson has been a public speaker\, concert host\, educator\, arts administrator\, and performing musician for over 30 years.  She has worked in various capacities for the New York Philharmonic\, Lincoln Center’s Mostly Mozart Festival Orchestra\, Lenape Chamber Ensemble\, Friends of Chamber Music Denver\, Regis University\, DU\, and the Colorado Symphony.  She has also facilitated OLLI courses for more than a decade.  \nMs. Beeson is a graduate of the University of Texas at Austin\, the Manhattan School of Music\, the League of American Orchestras’ Essentials of Orchestra Management program and is honored to be one of 6 women and non-binary leaders in the nation selected for the inaugural cohort of the 2023-2024 Anne Parsons Leadership Program. You can find more information about Catherine on her website\, catherinebeeson.com.  \nFree and open to the public. RSVP requested below.\n\nWe are happy to announce that OLLI is preparing a class on a historical topic to be held at the Eisenhower Chapel this spring. Please email for more information to info@lowryfoundation.org. \n  \n  \nClick here to RSVP \n\n 
URL:https://lowryunitedneighborhoods.org/event/speaker-series-symphony-orchestras-500-years-and-counting/
LOCATION:Eisenhower Chapel\, 293 Roslyn St\, Denver\, CO\, 80230\, United States
CATEGORIES:Lowry Foundation
END:VEVENT
END:VCALENDAR