BEGIN:VCALENDAR
VERSION:2.0
PRODID:-//Lowry United Neighborhoods - ECPv6.15.17.1//NONSGML v1.0//EN
CALSCALE:GREGORIAN
METHOD:PUBLISH
X-ORIGINAL-URL:https://lowryunitedneighborhoods.org
X-WR-CALDESC:Events for Lowry United Neighborhoods
REFRESH-INTERVAL;VALUE=DURATION:PT1H
X-Robots-Tag:noindex
X-PUBLISHED-TTL:PT1H
BEGIN:VTIMEZONE
TZID:America/Denver
BEGIN:DAYLIGHT
TZOFFSETFROM:-0700
TZOFFSETTO:-0600
TZNAME:MDT
DTSTART:20220313T090000
END:DAYLIGHT
BEGIN:STANDARD
TZOFFSETFROM:-0600
TZOFFSETTO:-0700
TZNAME:MST
DTSTART:20221106T080000
END:STANDARD
BEGIN:DAYLIGHT
TZOFFSETFROM:-0700
TZOFFSETTO:-0600
TZNAME:MDT
DTSTART:20230312T090000
END:DAYLIGHT
BEGIN:STANDARD
TZOFFSETFROM:-0600
TZOFFSETTO:-0700
TZNAME:MST
DTSTART:20231105T080000
END:STANDARD
BEGIN:DAYLIGHT
TZOFFSETFROM:-0700
TZOFFSETTO:-0600
TZNAME:MDT
DTSTART:20240310T090000
END:DAYLIGHT
BEGIN:STANDARD
TZOFFSETFROM:-0600
TZOFFSETTO:-0700
TZNAME:MST
DTSTART:20241103T080000
END:STANDARD
END:VTIMEZONE
BEGIN:VEVENT
DTSTART;TZID=America/Denver:20231217T190000
DTEND;TZID=America/Denver:20231217T200000
DTSTAMP:20260421T175405
CREATED:20230801T151439Z
LAST-MODIFIED:20231109T203658Z
UID:8953-1702839600-1702843200@lowryunitedneighborhoods.org
SUMMARY:Lowry Foundation: Winter Concert with  Colorado Symphony String Quartet
DESCRIPTION:Winter Concert with Colorado Symphony String Quartet Performance \n\nThe Eisenhower Chapel 293 Roslyn St\, Denver\, CO\, United States\n\n\nEnjoy a musical celebration in the true spirit of the season as world-class musicians from the Colorado Symphony perform a program to warm the hearts of both the young and young-at-heart. Hear traditional holiday selections and frosty movie themes\, classics from Vivaldi and Tchaikovsky\, and a collection of magical medleys to take you back to cherished wintertime memories. Families with children are encouraged with a reduced ticket price for those under 18. \n\nFor more information\, click here. \n 
URL:https://lowryunitedneighborhoods.org/event/lowry-foundation-winter-celebration-colorado-symphony-string-quartet/
LOCATION:Eisenhower Chapel\, 293 Roslyn St\, Denver\, CO\, 80230\, United States
CATEGORIES:Lowry Foundation
END:VEVENT
END:VCALENDAR