BEGIN:VCALENDAR
VERSION:2.0
PRODID:-//Lowry United Neighborhoods - ECPv6.15.17.1//NONSGML v1.0//EN
CALSCALE:GREGORIAN
METHOD:PUBLISH
X-ORIGINAL-URL:https://lowryunitedneighborhoods.org
X-WR-CALDESC:Events for Lowry United Neighborhoods
REFRESH-INTERVAL;VALUE=DURATION:PT1H
X-Robots-Tag:noindex
X-PUBLISHED-TTL:PT1H
BEGIN:VTIMEZONE
TZID:America/Denver
BEGIN:DAYLIGHT
TZOFFSETFROM:-0700
TZOFFSETTO:-0600
TZNAME:MDT
DTSTART:20220313T090000
END:DAYLIGHT
BEGIN:STANDARD
TZOFFSETFROM:-0600
TZOFFSETTO:-0700
TZNAME:MST
DTSTART:20221106T080000
END:STANDARD
BEGIN:DAYLIGHT
TZOFFSETFROM:-0700
TZOFFSETTO:-0600
TZNAME:MDT
DTSTART:20230312T090000
END:DAYLIGHT
BEGIN:STANDARD
TZOFFSETFROM:-0600
TZOFFSETTO:-0700
TZNAME:MST
DTSTART:20231105T080000
END:STANDARD
BEGIN:DAYLIGHT
TZOFFSETFROM:-0700
TZOFFSETTO:-0600
TZNAME:MDT
DTSTART:20240310T090000
END:DAYLIGHT
BEGIN:STANDARD
TZOFFSETFROM:-0600
TZOFFSETTO:-0700
TZNAME:MST
DTSTART:20241103T080000
END:STANDARD
END:VTIMEZONE
BEGIN:VEVENT
DTSTART;TZID=America/Denver:20231214T173000
DTEND;TZID=America/Denver:20231214T193000
DTSTAMP:20260421T203509
CREATED:20231027T182023Z
LAST-MODIFIED:20231027T192729Z
UID:9212-1702575000-1702582200@lowryunitedneighborhoods.org
SUMMARY:Lowry Business Alliance: Toy Drive at Wings Over the Rockies
DESCRIPTION:LBA is hoping to send a sleigh full of toys to Children’s Hospital! The suggested donation is $25\, but any amount is certainly appreciated.
URL:https://lowryunitedneighborhoods.org/event/lowry-business-alliance-toy-drive/
LOCATION:Wings Over The Rockies\, 7711 E. Academy Blvd.\, Denver\, 80230\, United States
CATEGORIES:Misc
END:VEVENT
END:VCALENDAR