BEGIN:VCALENDAR
VERSION:2.0
PRODID:-//Lowry United Neighborhoods - ECPv6.15.17.1//NONSGML v1.0//EN
CALSCALE:GREGORIAN
METHOD:PUBLISH
X-WR-CALNAME:Lowry United Neighborhoods
X-ORIGINAL-URL:https://lowryunitedneighborhoods.org
X-WR-CALDESC:Events for Lowry United Neighborhoods
REFRESH-INTERVAL;VALUE=DURATION:PT1H
X-Robots-Tag:noindex
X-PUBLISHED-TTL:PT1H
BEGIN:VTIMEZONE
TZID:America/Denver
BEGIN:DAYLIGHT
TZOFFSETFROM:-0700
TZOFFSETTO:-0600
TZNAME:MDT
DTSTART:20220313T090000
END:DAYLIGHT
BEGIN:STANDARD
TZOFFSETFROM:-0600
TZOFFSETTO:-0700
TZNAME:MST
DTSTART:20221106T080000
END:STANDARD
BEGIN:DAYLIGHT
TZOFFSETFROM:-0700
TZOFFSETTO:-0600
TZNAME:MDT
DTSTART:20230312T090000
END:DAYLIGHT
BEGIN:STANDARD
TZOFFSETFROM:-0600
TZOFFSETTO:-0700
TZNAME:MST
DTSTART:20231105T080000
END:STANDARD
BEGIN:DAYLIGHT
TZOFFSETFROM:-0700
TZOFFSETTO:-0600
TZNAME:MDT
DTSTART:20240310T090000
END:DAYLIGHT
BEGIN:STANDARD
TZOFFSETFROM:-0600
TZOFFSETTO:-0700
TZNAME:MST
DTSTART:20241103T080000
END:STANDARD
END:VTIMEZONE
BEGIN:VEVENT
DTSTART;TZID=America/Denver:20231012T103000
DTEND;TZID=America/Denver:20231012T110000
DTSTAMP:20260421T151003
CREATED:20231007T234549Z
LAST-MODIFIED:20231007T234549Z
UID:9182-1697106600-1697108400@lowryunitedneighborhoods.org
SUMMARY:Schlessman Family Library: Baby Storytime
DESCRIPTION:Program Type:\nStorytime\n\nAges:\nBirth-Pre-K (ages 0 – 5)\n\nIdeal Ages:\nBirth 18 months (accompanied by an adult) \nProgram Description\nEvent Details\n\nStories\, songs\, rhymes and fun for babies ages 0-18 months and their parents or caregivers. \n\n\nTo request a sign language interpreter or real time captioning via CART Services\, please contact SignLanguageServices@denvergov.org or call 720-913-8487\, with a minimum three (3) business day notice. To request other accommodations\, please contact programs@denverlibrary.org.
URL:https://lowryunitedneighborhoods.org/event/schlessman-family-library-baby-storytime/
LOCATION:Schlessman Family Library\, 100 Poplar St\, Denver\, 80220\, United States
CATEGORIES:Schlessman Family Library
END:VEVENT
END:VCALENDAR