BEGIN:VCALENDAR
VERSION:2.0
PRODID:-//Lowry United Neighborhoods - ECPv6.15.17.1//NONSGML v1.0//EN
CALSCALE:GREGORIAN
METHOD:PUBLISH
X-WR-CALNAME:Lowry United Neighborhoods
X-ORIGINAL-URL:https://lowryunitedneighborhoods.org
X-WR-CALDESC:Events for Lowry United Neighborhoods
REFRESH-INTERVAL;VALUE=DURATION:PT1H
X-Robots-Tag:noindex
X-PUBLISHED-TTL:PT1H
BEGIN:VTIMEZONE
TZID:America/Denver
BEGIN:DAYLIGHT
TZOFFSETFROM:-0700
TZOFFSETTO:-0600
TZNAME:MDT
DTSTART:20220313T090000
END:DAYLIGHT
BEGIN:STANDARD
TZOFFSETFROM:-0600
TZOFFSETTO:-0700
TZNAME:MST
DTSTART:20221106T080000
END:STANDARD
BEGIN:DAYLIGHT
TZOFFSETFROM:-0700
TZOFFSETTO:-0600
TZNAME:MDT
DTSTART:20230312T090000
END:DAYLIGHT
BEGIN:STANDARD
TZOFFSETFROM:-0600
TZOFFSETTO:-0700
TZNAME:MST
DTSTART:20231105T080000
END:STANDARD
BEGIN:DAYLIGHT
TZOFFSETFROM:-0700
TZOFFSETTO:-0600
TZNAME:MDT
DTSTART:20240310T090000
END:DAYLIGHT
BEGIN:STANDARD
TZOFFSETFROM:-0600
TZOFFSETTO:-0700
TZNAME:MST
DTSTART:20241103T080000
END:STANDARD
END:VTIMEZONE
BEGIN:VEVENT
DTSTART;TZID=America/Denver:20231011T170000
DTEND;TZID=America/Denver:20231011T183000
DTSTAMP:20260421T203258
CREATED:20230912T162259Z
LAST-MODIFIED:20230912T162259Z
UID:9073-1697043600-1697049000@lowryunitedneighborhoods.org
SUMMARY:Girl Scouts DreamLab: International Day of the Girl Celebration
DESCRIPTION:October 11\, 5-6:30 p.m.\no Come by the DreamLab from 5:00-6:00 p.m. for a celebration event honoring\nInternational Day of the Girl!
URL:https://lowryunitedneighborhoods.org/event/girl-scouts-dreamlab-international-day-of-the-girl-celebration/
LOCATION:Girl Scout DreamLab\, 63 N Quebec St.\, Denver\, CO\, 80230\, United States
CATEGORIES:Girl Scouts DreamLab
END:VEVENT
END:VCALENDAR