BEGIN:VCALENDAR
VERSION:2.0
PRODID:-//Lowry United Neighborhoods - ECPv6.15.17.1//NONSGML v1.0//EN
CALSCALE:GREGORIAN
METHOD:PUBLISH
X-ORIGINAL-URL:https://lowryunitedneighborhoods.org
X-WR-CALDESC:Events for Lowry United Neighborhoods
REFRESH-INTERVAL;VALUE=DURATION:PT1H
X-Robots-Tag:noindex
X-PUBLISHED-TTL:PT1H
BEGIN:VTIMEZONE
TZID:America/Denver
BEGIN:DAYLIGHT
TZOFFSETFROM:-0700
TZOFFSETTO:-0600
TZNAME:MDT
DTSTART:20220313T090000
END:DAYLIGHT
BEGIN:STANDARD
TZOFFSETFROM:-0600
TZOFFSETTO:-0700
TZNAME:MST
DTSTART:20221106T080000
END:STANDARD
BEGIN:DAYLIGHT
TZOFFSETFROM:-0700
TZOFFSETTO:-0600
TZNAME:MDT
DTSTART:20230312T090000
END:DAYLIGHT
BEGIN:STANDARD
TZOFFSETFROM:-0600
TZOFFSETTO:-0700
TZNAME:MST
DTSTART:20231105T080000
END:STANDARD
BEGIN:DAYLIGHT
TZOFFSETFROM:-0700
TZOFFSETTO:-0600
TZNAME:MDT
DTSTART:20240310T090000
END:DAYLIGHT
BEGIN:STANDARD
TZOFFSETFROM:-0600
TZOFFSETTO:-0700
TZNAME:MST
DTSTART:20241103T080000
END:STANDARD
END:VTIMEZONE
BEGIN:VEVENT
DTSTART;TZID=America/Denver:20230804T193000
DTEND;TZID=America/Denver:20230804T220000
DTSTAMP:20260421T075442
CREATED:20230527T165641Z
LAST-MODIFIED:20230731T133726Z
UID:8622-1691177400-1691186400@lowryunitedneighborhoods.org
SUMMARY:Denver Beer Co. & BOCA: Bike-in Movie Night - Top Gun\, Maverick
DESCRIPTION:Denver Beer Co. would like to welcome our Lowry friends to our new taproom by hosting a bike-in movie night on Friday\, Aug. 5 from 7:30-10:00 pm! Boulevard One Community Association is providing the location – Neighborhood Park in Boulevard One.\n\nGrab your blankets & lawn chairs and get ready to enjoy an outdoor showing of Top Gun\, Maverick\, rescheduled from earlier in the summer due to weather. The movie will start at 8:00 p.m. The Movie is free!\n\nPopcorn\, snacks\, and beer will be available to purchase at this event.\n\n\n\n\n\nLearn More & View Our Upcoming Movie Schedule\n\n\n\n\n\n\nUpdated Movies:\nFriday\, June 2: Ferris Bueller’s Day Off\nFriday\, July 7: Top Gun Maverick\nFriday\, August 4: Top Gun Maverick (rescheduled)\nFriday\, September 1: Lightyear
URL:https://lowryunitedneighborhoods.org/event/denver-beer-co-boca-bike-in-movie-night-barbie/
LOCATION:Neighborhood Park\, Boulevard One\, 7098 E Lowry Blvd\, Denver\, CO\, 80230
CATEGORIES:BOCA
END:VEVENT
END:VCALENDAR