BEGIN:VCALENDAR
VERSION:2.0
PRODID:-//Lowry United Neighborhoods - ECPv6.15.17.1//NONSGML v1.0//EN
CALSCALE:GREGORIAN
METHOD:PUBLISH
X-ORIGINAL-URL:https://lowryunitedneighborhoods.org
X-WR-CALDESC:Events for Lowry United Neighborhoods
REFRESH-INTERVAL;VALUE=DURATION:PT1H
X-Robots-Tag:noindex
X-PUBLISHED-TTL:PT1H
BEGIN:VTIMEZONE
TZID:America/Denver
BEGIN:DAYLIGHT
TZOFFSETFROM:-0700
TZOFFSETTO:-0600
TZNAME:MDT
DTSTART:20220313T090000
END:DAYLIGHT
BEGIN:STANDARD
TZOFFSETFROM:-0600
TZOFFSETTO:-0700
TZNAME:MST
DTSTART:20221106T080000
END:STANDARD
BEGIN:DAYLIGHT
TZOFFSETFROM:-0700
TZOFFSETTO:-0600
TZNAME:MDT
DTSTART:20230312T090000
END:DAYLIGHT
BEGIN:STANDARD
TZOFFSETFROM:-0600
TZOFFSETTO:-0700
TZNAME:MST
DTSTART:20231105T080000
END:STANDARD
BEGIN:DAYLIGHT
TZOFFSETFROM:-0700
TZOFFSETTO:-0600
TZNAME:MDT
DTSTART:20240310T090000
END:DAYLIGHT
BEGIN:STANDARD
TZOFFSETFROM:-0600
TZOFFSETTO:-0700
TZNAME:MST
DTSTART:20241103T080000
END:STANDARD
END:VTIMEZONE
BEGIN:VEVENT
DTSTART;TZID=America/Denver:20230715T083000
DTEND;TZID=America/Denver:20230715T160000
DTSTAMP:20260421T135304
CREATED:20230701T212306Z
LAST-MODIFIED:20230701T212306Z
UID:8797-1689409800-1689436800@lowryunitedneighborhoods.org
SUMMARY:DPD District 3: Denver Police Youth Academy
DESCRIPTION:
URL:https://lowryunitedneighborhoods.org/event/dpd-district-3-denver-police-youth-academy/
LOCATION:Denver Police Academy\, 2155 N Akron Way\, Denver\, CO\, United States
CATEGORIES:DPD District 3
END:VEVENT
BEGIN:VEVENT
DTSTART;TZID=America/Denver:20230715T120000
DTEND;TZID=America/Denver:20230715T200000
DTSTAMP:20260421T135304
CREATED:20230527T170608Z
LAST-MODIFIED:20230527T170755Z
UID:8624-1689422400-1689451200@lowryunitedneighborhoods.org
SUMMARY:BOCA: Lowry Block Party
DESCRIPTION:At Neighborhood Park\, join us for a Lowry Block Party. A day filled with live music\, vendors\, games\, and delicious beer! FREE entry!
URL:https://lowryunitedneighborhoods.org/event/boca-lowry-block-party/
LOCATION:Neighborhood Park\, Boulevard One\, 7098 E Lowry Blvd\, Denver\, CO\, 80230
CATEGORIES:BOCA
END:VEVENT
END:VCALENDAR