BEGIN:VCALENDAR
VERSION:2.0
PRODID:-//Lowry United Neighborhoods - ECPv6.15.17.1//NONSGML v1.0//EN
CALSCALE:GREGORIAN
METHOD:PUBLISH
X-ORIGINAL-URL:https://lowryunitedneighborhoods.org
X-WR-CALDESC:Events for Lowry United Neighborhoods
REFRESH-INTERVAL;VALUE=DURATION:PT1H
X-Robots-Tag:noindex
X-PUBLISHED-TTL:PT1H
BEGIN:VTIMEZONE
TZID:America/Denver
BEGIN:DAYLIGHT
TZOFFSETFROM:-0700
TZOFFSETTO:-0600
TZNAME:MDT
DTSTART:20220313T090000
END:DAYLIGHT
BEGIN:STANDARD
TZOFFSETFROM:-0600
TZOFFSETTO:-0700
TZNAME:MST
DTSTART:20221106T080000
END:STANDARD
BEGIN:DAYLIGHT
TZOFFSETFROM:-0700
TZOFFSETTO:-0600
TZNAME:MDT
DTSTART:20230312T090000
END:DAYLIGHT
BEGIN:STANDARD
TZOFFSETFROM:-0600
TZOFFSETTO:-0700
TZNAME:MST
DTSTART:20231105T080000
END:STANDARD
BEGIN:DAYLIGHT
TZOFFSETFROM:-0700
TZOFFSETTO:-0600
TZNAME:MDT
DTSTART:20240310T090000
END:DAYLIGHT
BEGIN:STANDARD
TZOFFSETFROM:-0600
TZOFFSETTO:-0700
TZNAME:MST
DTSTART:20241103T080000
END:STANDARD
END:VTIMEZONE
BEGIN:VEVENT
DTSTART;TZID=America/Denver:20230706T170000
DTEND;TZID=America/Denver:20230706T200000
DTSTAMP:20260420T180018
CREATED:20230605T134608Z
LAST-MODIFIED:20230605T134608Z
UID:8680-1688662800-1688673600@lowryunitedneighborhoods.org
SUMMARY:LCMA: July Treat Truck - Rebel Cookie Dough - First 100 scoops free!
DESCRIPTION:
URL:https://lowryunitedneighborhoods.org/event/lcma-july-treat-truck-rebel-cookie-dough-first-100-scoops-free/
LOCATION:Bayaud Park\, CO\, 80230\, United States
CATEGORIES:LCMA
END:VEVENT
BEGIN:VEVENT
DTSTART;TZID=America/Denver:20230706T190000
DTEND;TZID=America/Denver:20230706T203000
DTSTAMP:20260420T180018
CREATED:20230701T200545Z
LAST-MODIFIED:20230701T204259Z
UID:8746-1688670000-1688675400@lowryunitedneighborhoods.org
SUMMARY:Guitar Guys: Bill O'Rourke & Musical Friends
DESCRIPTION:Mike Lammons and Bill O’Rourke – have a new home for their Thursday evenings acoustic guitar sessions. Come to Sunset Park from 7 – 8:30 p.m. to hear these guys. Lammons and O’Rourke started playing in Lowry during the pandemic as a way for the community to get outside and come together. You may have heard them over at Bayaud Park. They play acoustic guitar and perform songs from several decades that you are sure to know. \nOn Thursday\, August 3\, they will be at the backyard of the Net North (as Sunset Park is booked for another event that night). Met North is located at 6619 E. Lowry Blvd. The concert will take place in the backyard on Magnolia St. near the intersection of Magnolia and Niagara.  (If you are driving\, you can park on Niagara or Magnolia.) \nConcert is free\, come out and hear some good music. Please bring your own portable seating\, snacks and beverages.
URL:https://lowryunitedneighborhoods.org/event/guitar-guys-bill-orourke-musical-friends/
LOCATION:Sunset Park\, E 2nd Ave Pkwy\, Denver\, CO 80220\, Denver\, CO\, 80230\, United States
CATEGORIES:Lowry Guitar Guys
END:VEVENT
END:VCALENDAR