BEGIN:VCALENDAR
VERSION:2.0
PRODID:-//Lowry United Neighborhoods - ECPv6.15.17.1//NONSGML v1.0//EN
CALSCALE:GREGORIAN
METHOD:PUBLISH
X-ORIGINAL-URL:https://lowryunitedneighborhoods.org
X-WR-CALDESC:Events for Lowry United Neighborhoods
REFRESH-INTERVAL;VALUE=DURATION:PT1H
X-Robots-Tag:noindex
X-PUBLISHED-TTL:PT1H
BEGIN:VTIMEZONE
TZID:America/Denver
BEGIN:DAYLIGHT
TZOFFSETFROM:-0700
TZOFFSETTO:-0600
TZNAME:MDT
DTSTART:20220313T090000
END:DAYLIGHT
BEGIN:STANDARD
TZOFFSETFROM:-0600
TZOFFSETTO:-0700
TZNAME:MST
DTSTART:20221106T080000
END:STANDARD
BEGIN:DAYLIGHT
TZOFFSETFROM:-0700
TZOFFSETTO:-0600
TZNAME:MDT
DTSTART:20230312T090000
END:DAYLIGHT
BEGIN:STANDARD
TZOFFSETFROM:-0600
TZOFFSETTO:-0700
TZNAME:MST
DTSTART:20231105T080000
END:STANDARD
BEGIN:DAYLIGHT
TZOFFSETFROM:-0700
TZOFFSETTO:-0600
TZNAME:MDT
DTSTART:20240310T090000
END:DAYLIGHT
BEGIN:STANDARD
TZOFFSETFROM:-0600
TZOFFSETTO:-0700
TZNAME:MST
DTSTART:20241103T080000
END:STANDARD
END:VTIMEZONE
BEGIN:VEVENT
DTSTART;TZID=America/Denver:20230701T090000
DTEND;TZID=America/Denver:20230701T120000
DTSTAMP:20260420T133656
CREATED:20230411T213430Z
LAST-MODIFIED:20230611T133520Z
UID:8433-1688202000-1688212800@lowryunitedneighborhoods.org
SUMMARY:Lowry Foundation: Lowry's Independence Parade and Festival
DESCRIPTION:Join the Independence weekend fun! The Lowry Foundation and Hangar Club present Lowry’s Independence Parade and Festival in partnership with LUN\, and sponsored by Clark’s Market and the Lowry Community Master Association. Walk or ride in the community parade and enjoy the festival after on Saturday\, July 1\, from 9:00 a.m. to 12:00 p.m. at Great Lawn Park\, 101 Yosemite Street.  \nThe parade lineup starts at 9:00 a.m. sharp\, come early for free decorations. Prizes will be awarded for the best costumes (pets and people) and for the best decorated bikes\, wagons\, and strollers. After the parade\, picnic on the grass to live music by Byron Shaw Projex. Food and drinks will be available for purchase. More here.
URL:https://lowryunitedneighborhoods.org/event/lowry-fountation-fourth-of-july-extravaganza/
LOCATION:Great Lawn Park\, 101 Yosemite St.\, Denver\, CO\, 80230\, United States
CATEGORIES:Lowry Foundation
END:VEVENT
END:VCALENDAR