BEGIN:VCALENDAR
VERSION:2.0
PRODID:-//Lowry United Neighborhoods - ECPv6.15.17.1//NONSGML v1.0//EN
CALSCALE:GREGORIAN
METHOD:PUBLISH
X-ORIGINAL-URL:https://lowryunitedneighborhoods.org
X-WR-CALDESC:Events for Lowry United Neighborhoods
REFRESH-INTERVAL;VALUE=DURATION:PT1H
X-Robots-Tag:noindex
X-PUBLISHED-TTL:PT1H
BEGIN:VTIMEZONE
TZID:America/Denver
BEGIN:DAYLIGHT
TZOFFSETFROM:-0700
TZOFFSETTO:-0600
TZNAME:MDT
DTSTART:20210314T090000
END:DAYLIGHT
BEGIN:STANDARD
TZOFFSETFROM:-0600
TZOFFSETTO:-0700
TZNAME:MST
DTSTART:20211107T080000
END:STANDARD
BEGIN:DAYLIGHT
TZOFFSETFROM:-0700
TZOFFSETTO:-0600
TZNAME:MDT
DTSTART:20220313T090000
END:DAYLIGHT
BEGIN:STANDARD
TZOFFSETFROM:-0600
TZOFFSETTO:-0700
TZNAME:MST
DTSTART:20221106T080000
END:STANDARD
BEGIN:DAYLIGHT
TZOFFSETFROM:-0700
TZOFFSETTO:-0600
TZNAME:MDT
DTSTART:20230312T090000
END:DAYLIGHT
BEGIN:STANDARD
TZOFFSETFROM:-0600
TZOFFSETTO:-0700
TZNAME:MST
DTSTART:20231105T080000
END:STANDARD
END:VTIMEZONE
BEGIN:VEVENT
DTSTART;TZID=America/Denver:20220422T080000
DTEND;TZID=America/Denver:20220424T170000
DTSTAMP:20260421T045309
CREATED:20220411T143320Z
LAST-MODIFIED:20220411T143359Z
UID:7042-1650614400-1650819600@lowryunitedneighborhoods.org
SUMMARY:FIREHOUSE THEATER COMPANY: Flyin' West - April 9 - May 7
DESCRIPTION:Flyin’ West\nby Pearl Cleage\nDirected by donnie l. betts \nApril 9-May 7 \nGet tickets here.
URL:https://lowryunitedneighborhoods.org/event/firehouse-theater-company-flyin-west-april-9-may-7-2/
LOCATION:John Hand Theater\, 7653 E. 1st Place\, Denver\, CO\, 80230\, United States
END:VEVENT
BEGIN:VEVENT
DTSTART;TZID=America/Denver:20220422T193000
DTEND;TZID=America/Denver:20220422T210000
DTSTAMP:20260421T045309
CREATED:20220415T001308Z
LAST-MODIFIED:20220415T001601Z
UID:7067-1650655800-1650661200@lowryunitedneighborhoods.org
SUMMARY:LUN NIGHT @ FIREHOUSE THEATER: Flyin' High $5 off ticket
DESCRIPTION:Friday\, April 22 is LUN Night at the theater when you can get $5 off your ticket and join us in the ballroom at 6:15 p.m. for some refreshments and conversation with your neighbors before the show. The play starts at 7:30 p.m. \nPurchase tickets here. Make sure to scroll down below grey box\, select April 22 and enter code LUN5 for the LUN discount.
URL:https://lowryunitedneighborhoods.org/event/lun-night-firehouse-theater-flyin-high-5-off-ticket/
LOCATION:John Hand Theater\, 7653 E. 1st Place\, Denver\, CO\, 80230\, United States
END:VEVENT
END:VCALENDAR