BEGIN:VCALENDAR
VERSION:2.0
PRODID:-//Lowry United Neighborhoods - ECPv6.15.17.1//NONSGML v1.0//EN
CALSCALE:GREGORIAN
METHOD:PUBLISH
X-ORIGINAL-URL:https://lowryunitedneighborhoods.org
X-WR-CALDESC:Events for Lowry United Neighborhoods
REFRESH-INTERVAL;VALUE=DURATION:PT1H
X-Robots-Tag:noindex
X-PUBLISHED-TTL:PT1H
BEGIN:VTIMEZONE
TZID:America/Denver
BEGIN:DAYLIGHT
TZOFFSETFROM:-0700
TZOFFSETTO:-0600
TZNAME:MDT
DTSTART:20210314T090000
END:DAYLIGHT
BEGIN:STANDARD
TZOFFSETFROM:-0600
TZOFFSETTO:-0700
TZNAME:MST
DTSTART:20211107T080000
END:STANDARD
BEGIN:DAYLIGHT
TZOFFSETFROM:-0700
TZOFFSETTO:-0600
TZNAME:MDT
DTSTART:20220313T090000
END:DAYLIGHT
BEGIN:STANDARD
TZOFFSETFROM:-0600
TZOFFSETTO:-0700
TZNAME:MST
DTSTART:20221106T080000
END:STANDARD
BEGIN:DAYLIGHT
TZOFFSETFROM:-0700
TZOFFSETTO:-0600
TZNAME:MDT
DTSTART:20230312T090000
END:DAYLIGHT
BEGIN:STANDARD
TZOFFSETFROM:-0600
TZOFFSETTO:-0700
TZNAME:MST
DTSTART:20231105T080000
END:STANDARD
END:VTIMEZONE
BEGIN:VEVENT
DTSTART;TZID=America/Denver:20220412T160000
DTEND;TZID=America/Denver:20220412T170000
DTSTAMP:20260421T045309
CREATED:20220309T191849Z
LAST-MODIFIED:20220309T193013Z
UID:6908-1649779200-1649782800@lowryunitedneighborhoods.org
SUMMARY:EAST PARK NEIGHBORHOOD meeting with Councilwoman Sawyer
DESCRIPTION:Zoom meeting: April 12\, 4 p.m. \nRegister: \nbit.ly/EastParkApril2022 \nAgenda \nSix month check-in on issues in East Lowry \nLearn more here about the Lights On initiative. \nContact\nCouncilwoman Amanda Sawyer\, Amanda.Sawyer@denvergov.org \nJenn Gross\, Jennifer.Gross@denvergov.org \nFelicia Rodriguez\, Felicia.Rodriguez@denvergov.org \nLogan Fry\, Logan.Fry@denvergov.org \n 
URL:https://lowryunitedneighborhoods.org/event/east-park-neighborhood-meeting-with-councilwoman-sawyer/
LOCATION:Virtual
ORGANIZER;CN="Councilwoman Amanda Sawyer":MAILTO:Logan.Fry@denvergov.org
END:VEVENT
END:VCALENDAR