BEGIN:VCALENDAR
VERSION:2.0
PRODID:-//Lowry United Neighborhoods - ECPv6.15.17.1//NONSGML v1.0//EN
CALSCALE:GREGORIAN
METHOD:PUBLISH
X-ORIGINAL-URL:https://lowryunitedneighborhoods.org
X-WR-CALDESC:Events for Lowry United Neighborhoods
REFRESH-INTERVAL;VALUE=DURATION:PT1H
X-Robots-Tag:noindex
X-PUBLISHED-TTL:PT1H
BEGIN:VTIMEZONE
TZID:America/Denver
BEGIN:DAYLIGHT
TZOFFSETFROM:-0700
TZOFFSETTO:-0600
TZNAME:MDT
DTSTART:20210314T090000
END:DAYLIGHT
BEGIN:STANDARD
TZOFFSETFROM:-0600
TZOFFSETTO:-0700
TZNAME:MST
DTSTART:20211107T080000
END:STANDARD
BEGIN:DAYLIGHT
TZOFFSETFROM:-0700
TZOFFSETTO:-0600
TZNAME:MDT
DTSTART:20220313T090000
END:DAYLIGHT
BEGIN:STANDARD
TZOFFSETFROM:-0600
TZOFFSETTO:-0700
TZNAME:MST
DTSTART:20221106T080000
END:STANDARD
BEGIN:DAYLIGHT
TZOFFSETFROM:-0700
TZOFFSETTO:-0600
TZNAME:MDT
DTSTART:20230312T090000
END:DAYLIGHT
BEGIN:STANDARD
TZOFFSETFROM:-0600
TZOFFSETTO:-0700
TZNAME:MST
DTSTART:20231105T080000
END:STANDARD
END:VTIMEZONE
BEGIN:VEVENT
DTSTART;VALUE=DATE:20220407
DTEND;VALUE=DATE:20220410
DTSTAMP:20260421T062322
CREATED:20220121T003545Z
LAST-MODIFIED:20220121T003545Z
UID:6635-1649289600-1649548799@lowryunitedneighborhoods.org
SUMMARY:Machebeuf High School: WEST SIDE STORY
DESCRIPTION:Machebeuf High School is putting on WEST SIDE STORY April 7\, 8\, 9. See this beloved story told from the high school level. Machebeuf’s goals are honoring the past\, celebrating the present\, and engaging the future. The school is graduating its 60th class this year. Support this neighborhood high school this year with a fun night of sharks and jets. Stephen Spielberg will be so jealous to see the energy in this delightful high school production. \nFor more information\, visit their site.
URL:https://lowryunitedneighborhoods.org/event/machebeuf-high-school-west-side-story-2/
END:VEVENT
END:VCALENDAR