BEGIN:VCALENDAR
VERSION:2.0
PRODID:-//Lowry United Neighborhoods - ECPv6.15.17.1//NONSGML v1.0//EN
CALSCALE:GREGORIAN
METHOD:PUBLISH
X-WR-CALNAME:Lowry United Neighborhoods
X-ORIGINAL-URL:https://lowryunitedneighborhoods.org
X-WR-CALDESC:Events for Lowry United Neighborhoods
REFRESH-INTERVAL;VALUE=DURATION:PT1H
X-Robots-Tag:noindex
X-PUBLISHED-TTL:PT1H
BEGIN:VTIMEZONE
TZID:America/Denver
BEGIN:DAYLIGHT
TZOFFSETFROM:-0700
TZOFFSETTO:-0600
TZNAME:MDT
DTSTART:20210314T090000
END:DAYLIGHT
BEGIN:STANDARD
TZOFFSETFROM:-0600
TZOFFSETTO:-0700
TZNAME:MST
DTSTART:20211107T080000
END:STANDARD
BEGIN:DAYLIGHT
TZOFFSETFROM:-0700
TZOFFSETTO:-0600
TZNAME:MDT
DTSTART:20220313T090000
END:DAYLIGHT
BEGIN:STANDARD
TZOFFSETFROM:-0600
TZOFFSETTO:-0700
TZNAME:MST
DTSTART:20221106T080000
END:STANDARD
BEGIN:DAYLIGHT
TZOFFSETFROM:-0700
TZOFFSETTO:-0600
TZNAME:MDT
DTSTART:20230312T090000
END:DAYLIGHT
BEGIN:STANDARD
TZOFFSETFROM:-0600
TZOFFSETTO:-0700
TZNAME:MST
DTSTART:20231105T080000
END:STANDARD
END:VTIMEZONE
BEGIN:VEVENT
DTSTART;TZID=America/Denver:20220405T190000
DTEND;TZID=America/Denver:20220405T203000
DTSTAMP:20260421T061820
CREATED:20220212T151016Z
LAST-MODIFIED:20220311T221950Z
UID:6777-1649185200-1649190600@lowryunitedneighborhoods.org
SUMMARY:LUN TOWN HALL MEETING: Homelessness in Denver
DESCRIPTION:Homelessness in Denver – What Approaches Help and Which Do Not \n Tuesday\, April 5\, 7 – 8:30 p.m.\nDoors open at 6:30 p.m. \nLocation: Eisenhower Chapel \n LUN presents this discussion because of widespread frustration that millions of dollars and years of work have brought only fragmented remedies. Along with homelessness\, comes health and safety impacts harmful to those who live on the streets\, as well as to other citizens of Denver. \nLUN has assembled this panel of local leaders to help us better understand the challenges for the homeless and unhoused in our city and for the agencies who serve them. The panel will discuss the spectrum of services and housing options designed to assist unhoused individuals in Denver and what those efforts have achieved. \nTime will be allowed for audience questions. \n Panelists  \n\nHOST (Housing Stability and Homelessness Resolution): Deputy Director\, Angie Nelson\nDenver City Attorney’s Office: Director of Prosecution and Code Enforcement\, Marley Bordovsky\nSalvation Army: Major Richard Pease and Denver Metro Social Services Director Christine Baluyot \nSTAR (Support Team Assisted Response): Operations Manager\, Carleigh M. Sailon \nColorado State Senator\, District 31\, Chris Hansen\n\nCouncilwoman Sawyer will attend to answer questions. \nModerator:  Russell Haythorn
URL:https://lowryunitedneighborhoods.org/event/lun-townhall-meeting-on-homelessness/
LOCATION:Eisenhower Chapel\, 293 Roslyn St\, Denver\, CO\, 80230\, United States
END:VEVENT
END:VCALENDAR