BEGIN:VCALENDAR
VERSION:2.0
PRODID:-//Lowry United Neighborhoods - ECPv6.15.17.1//NONSGML v1.0//EN
CALSCALE:GREGORIAN
METHOD:PUBLISH
X-WR-CALNAME:Lowry United Neighborhoods
X-ORIGINAL-URL:https://lowryunitedneighborhoods.org
X-WR-CALDESC:Events for Lowry United Neighborhoods
REFRESH-INTERVAL;VALUE=DURATION:PT1H
X-Robots-Tag:noindex
X-PUBLISHED-TTL:PT1H
BEGIN:VTIMEZONE
TZID:America/Denver
BEGIN:DAYLIGHT
TZOFFSETFROM:-0700
TZOFFSETTO:-0600
TZNAME:MDT
DTSTART:20210314T090000
END:DAYLIGHT
BEGIN:STANDARD
TZOFFSETFROM:-0600
TZOFFSETTO:-0700
TZNAME:MST
DTSTART:20211107T080000
END:STANDARD
BEGIN:DAYLIGHT
TZOFFSETFROM:-0700
TZOFFSETTO:-0600
TZNAME:MDT
DTSTART:20220313T090000
END:DAYLIGHT
BEGIN:STANDARD
TZOFFSETFROM:-0600
TZOFFSETTO:-0700
TZNAME:MST
DTSTART:20221106T080000
END:STANDARD
BEGIN:DAYLIGHT
TZOFFSETFROM:-0700
TZOFFSETTO:-0600
TZNAME:MDT
DTSTART:20230312T090000
END:DAYLIGHT
BEGIN:STANDARD
TZOFFSETFROM:-0600
TZOFFSETTO:-0700
TZNAME:MST
DTSTART:20231105T080000
END:STANDARD
END:VTIMEZONE
BEGIN:VEVENT
DTSTART;TZID=America/Denver:20220308T130000
DTEND;TZID=America/Denver:20220308T150000
DTSTAMP:20260423T043243
CREATED:20220212T225715Z
LAST-MODIFIED:20220212T225715Z
UID:6808-1646744400-1646751600@lowryunitedneighborhoods.org
SUMMARY:Silver Rope Volunteers with Food Bank of the Rockies
DESCRIPTION:Tuesday\, March 8\, 1 to 4 p.m. \nThe Food Bank of the Rockies requires every Silver Ropes volunteer to register individually for the  Tuesday\, March 8 project. Sign up must be completed two weeks prior\, Feb.22. Any spot not filled prior will be released back to the public and not guaranteed to the Silver Ropes Group. \nFood Bank of the Rockies Silver Ropes Reservation\nTuesday\, March 8 – 1 – 4 p.m. (3 hours)\n32 slots remaining\nLocation: 10700 E. 45th Ave. Denver\, CO 80239 \n\nSign Up Here
URL:https://lowryunitedneighborhoods.org/event/silver-rope-volunteers-with-food-bank-of-the-rockies/
LOCATION:Food Bank of the Rockies\, 10700 E. 45th Ave\, Denver\, CO\, 80239\, United States
END:VEVENT
END:VCALENDAR