BEGIN:VCALENDAR
VERSION:2.0
PRODID:-//Lowry United Neighborhoods - ECPv6.15.17.1//NONSGML v1.0//EN
CALSCALE:GREGORIAN
METHOD:PUBLISH
X-WR-CALNAME:Lowry United Neighborhoods
X-ORIGINAL-URL:https://lowryunitedneighborhoods.org
X-WR-CALDESC:Events for Lowry United Neighborhoods
REFRESH-INTERVAL;VALUE=DURATION:PT1H
X-Robots-Tag:noindex
X-PUBLISHED-TTL:PT1H
BEGIN:VTIMEZONE
TZID:America/Denver
BEGIN:DAYLIGHT
TZOFFSETFROM:-0700
TZOFFSETTO:-0600
TZNAME:MDT
DTSTART:20210314T090000
END:DAYLIGHT
BEGIN:STANDARD
TZOFFSETFROM:-0600
TZOFFSETTO:-0700
TZNAME:MST
DTSTART:20211107T080000
END:STANDARD
BEGIN:DAYLIGHT
TZOFFSETFROM:-0700
TZOFFSETTO:-0600
TZNAME:MDT
DTSTART:20220313T090000
END:DAYLIGHT
BEGIN:STANDARD
TZOFFSETFROM:-0600
TZOFFSETTO:-0700
TZNAME:MST
DTSTART:20221106T080000
END:STANDARD
BEGIN:DAYLIGHT
TZOFFSETFROM:-0700
TZOFFSETTO:-0600
TZNAME:MDT
DTSTART:20230312T090000
END:DAYLIGHT
BEGIN:STANDARD
TZOFFSETFROM:-0600
TZOFFSETTO:-0700
TZNAME:MST
DTSTART:20231105T080000
END:STANDARD
END:VTIMEZONE
BEGIN:VEVENT
DTSTART;TZID=America/Denver:20220226T193000
DTEND;TZID=America/Denver:20220226T210000
DTSTAMP:20260423T104204
CREATED:20220222T215517Z
LAST-MODIFIED:20220222T215517Z
UID:6849-1645903800-1645909200@lowryunitedneighborhoods.org
SUMMARY:OPENING THIS WEEKEND: Firehouse Theater Company's Towards Zero by Agatha Christie
DESCRIPTION:Opening this weekend is Toward Zero. Saturday 7:30 p.m. and Sunday 2 p.m. The play runs through March 26. \nYou can join your Lowry neighbors at the Firehouse Theater on Friday\, March 11 for Lowry Night at the Theater.  Tickets will be discounted from $25 to $20 that night only for LUN\, Lowry Business Alliance\, and Lowry Foundation members.  Come at 7:00 P.M. and enjoy a reception in the theater ballroom prior to the 7:30 show.\nA discount code has been created that will take $5 off the General Admission price.  So\, instead of paying $25\, folks who use the code will pay $20 for the ticket (plus fees). To reserve your space for Lowry Night at the Theater\, go to November 19\, select the time (7:30 is the only option)\, chose a General Admission ticket (Ticket Level Two) and use the code LOWRY. \nBy Agatha Christie  \nDirected by Margaret Norwood \nFebruary 26 – March 26\, 2022\n \nWhen a house party gathers at Gull’s Point\, the seaside home of Lady Tressilian\, Neville Strange finds himself caught between his old wife Audrey and his new flame Kay.  A nail-biting thriller\, the play probes the psychology of jealousy in the shadow of a savage and brutal murder.  A carefully unpeeled investigation before our eyes brings the story to a pointed ending.
URL:https://lowryunitedneighborhoods.org/event/opening-this-weekend-firehouse-theater-companys-towards-zero-by-agatha-christie/
LOCATION:John Hand Theater\, 7653 E. 1st Place\, Denver\, CO\, 80230\, United States
END:VEVENT
END:VCALENDAR