BEGIN:VCALENDAR
VERSION:2.0
PRODID:-//Lowry United Neighborhoods - ECPv6.15.17.1//NONSGML v1.0//EN
CALSCALE:GREGORIAN
METHOD:PUBLISH
X-ORIGINAL-URL:https://lowryunitedneighborhoods.org
X-WR-CALDESC:Events for Lowry United Neighborhoods
REFRESH-INTERVAL;VALUE=DURATION:PT1H
X-Robots-Tag:noindex
X-PUBLISHED-TTL:PT1H
BEGIN:VTIMEZONE
TZID:America/Denver
BEGIN:DAYLIGHT
TZOFFSETFROM:-0700
TZOFFSETTO:-0600
TZNAME:MDT
DTSTART:20210314T090000
END:DAYLIGHT
BEGIN:STANDARD
TZOFFSETFROM:-0600
TZOFFSETTO:-0700
TZNAME:MST
DTSTART:20211107T080000
END:STANDARD
BEGIN:DAYLIGHT
TZOFFSETFROM:-0700
TZOFFSETTO:-0600
TZNAME:MDT
DTSTART:20220313T090000
END:DAYLIGHT
BEGIN:STANDARD
TZOFFSETFROM:-0600
TZOFFSETTO:-0700
TZNAME:MST
DTSTART:20221106T080000
END:STANDARD
BEGIN:DAYLIGHT
TZOFFSETFROM:-0700
TZOFFSETTO:-0600
TZNAME:MDT
DTSTART:20230312T090000
END:DAYLIGHT
BEGIN:STANDARD
TZOFFSETFROM:-0600
TZOFFSETTO:-0700
TZNAME:MST
DTSTART:20231105T080000
END:STANDARD
END:VTIMEZONE
BEGIN:VEVENT
DTSTART;TZID=America/Denver:20220217T180000
DTEND;TZID=America/Denver:20220217T190000
DTSTAMP:20260421T075447
CREATED:20220202T161241Z
LAST-MODIFIED:20220202T161729Z
UID:6708-1645120800-1645124400@lowryunitedneighborhoods.org
SUMMARY:Virtual Block Communicator Orientation
DESCRIPTION:Becoming a Block Communicator or point of contact for your community is simple and takes minimal time. This presentation is for those who have already attended a Neighborhood Watch Action and Awareness Presentation by District 3 Officers. This orientation will cover the first steps in becoming the Neighborhood Watch point of contact for your block. We will share ideas on how you can introduce yourself and Neighborhood Watch to your neighbors and ideas to communicate Neighborhood Watch information with your neighbors.  Learn how to research crime stats in your area\, search for sex offenders in your neighborhood\, and request traffic monitoring/enforcement. \nLink to participate:  \nhttps://teams.microsoft.com/l/meetup-join/19%3ameeting_OWUyMTkxMGEtOWU5YS00NzhhLWJjZWUtM2Y1OTM4YmMzMzcy%40thread.v2/0?context=%7b%22Tid%22%3a%2239c87ab3-6612-42c0-9620-a696d12df803%22%2c%22Oid%22%3a%2294824b12-4bac-4228-9cf9-4af2680599b2%22%7d \nIf you do not have Teams click on the provided link to be directed via your internet browser to this Teams virtual meeting.  If you have Teams/Microsoft 365 please remember to “sign out” of your personal Teams account before you click on the link to participate.
URL:https://lowryunitedneighborhoods.org/event/virtual-block-communicator-orientation/
LOCATION:Virtual
END:VEVENT
END:VCALENDAR